Workbook
Name NameCheck: OFFSET(#REF!,0,0,COUNTA(#REF!)-COUNTBLANK(#REF!),1)

Sheet August
A1: August | C1: 1 | G1: =C1+1 | K1: =G1+1 | O1: =K1+1 | S1: =O1+1 | W1: =S1+1 | AA1: =W1+1 | AE1: =AA1+1 | AI1: =AE1+1 | AM1: =AI1+1 | AQ1: =AM1+1 | AU1: =AQ1+1 | AY1: =AU1+1 | BC1: =AY1+1 | BG1: =BC1+1 | BK1: =BG1+1 | BO1: =BK1+1 | BS1: =BO1+1 | BW1: =BS1+1 | CA1: =BW1+1 | CE1: =CA1+1 | CI1: =CE1+1 | CM1: =CI1+1 | CQ1: =CM1+1 | CU1: =CQ1+1 | CY1: =CU1+1 | DC1: =CY1+1 | DG1: =DC1+1 | DK1: =DG1+1 | DO1: =DK1+1 | DS1: =DO1+1 | DW1: Monthly Average
A2: [Person_1] | B2: % | C2: K | D2: J | E2: Y | F2: Avg | G2: K | H2: J | I2: Y | J2: Avg | K2: K | L2: J | M2: Y | N2: Avg | O2: K | P2: J | Q2: Y | R2: Avg | S2: K | T2: J | U2: Y | V2: Avg | W2: K | X2: J | Y2: Y | Z2: Avg | AA2: K | AB2: J | AC2: Y | AD2: Avg | AE2: K | AF2: J | AG2: Y | AH2: Avg | AI2: K | AJ2: J | AK2: Y | AL2: Avg | AM2: K | AN2: J | AO2: Y | AP2: Avg | AQ2: K | AR2: J | AS2: Y | AT2: Avg | AU2: K | AV2: J | AW2: Y | AX2: Avg | AY2: K | AZ2: J | BA2: Y | BB2: Avg | BC2: K | BD2: J | BE2: Y | BF2: Avg | BG2: K | BH2: J | BI2: Y | BJ2: Avg | BK2: K | BL2: J | BM2: Y | BN2: Avg | BO2: K | BP2: J | BQ2: Y | BR2: Avg | BS2: K | BT2: J | BU2: Y | BV2: Avg | BW2: K | BX2: J | BY2: Y | BZ2: Avg | CA2: K | CB2: J | CC2: Y | CD2: Avg | CE2: K | CF2: J | CG2: Y | CH2: Avg | CI2: K | CJ2: J | CK2: Y | CL2: Avg | CM2: K | CN2: J | CO2: Y | CP2: Avg | CQ2: K | CR2: J | CS2: Y | CT2: Avg | CU2: K | CV2: J | CW2: Y | CX2: Avg | CY2: K | CZ2: J | DA2: Y | DB2: Avg | DC2: K | DD2: J | DE2: Y | DF2: Avg | DG2: K | DH2: J | DI2: Y | DJ2: Avg | DK2: K | DL2: J | DM2: Y | DN2: Avg | DO2: K | DP2: J | DQ2: Y | DR2: Avg | DS2: K | DT2: J | DU2: Y | DV2: Avg | DW2: K | DX2: M | DY2: G | DZ2: J | EA2: Y | EB2: C | EC2: Avg
A3: [Person_2] | B3: 20 | C3: 13 | D3: 12 | E3: 8 | F3: =IFERROR(AVERAGE(C3:E3),"") | J3: =IFERROR(AVERAGE(G3:I3),"") | N3: =IFERROR(AVERAGE(K3:M3),"") | R3: =IFERROR(AVERAGE(O3:Q3),"") | V3: =IFERROR(AVERAGE(S3:U3),"") | Z3: =IFERROR(AVERAGE(W3:Y3),"") | AD3: =IFERROR(AVERAGE(AA3:AC3),"") | AH3: =IFERROR(AVERAGE(AE3:AG3),"") | AL3: =IFERROR(AVERAGE(AI3:AK3),"") | AP3: =IFERROR(AVERAGE(AM3:AO3),"") | AT3: =IFERROR(AVERAGE(AQ3:AS3),"") | AX3: =IFERROR(AVERAGE(AU3:AW3),"") | BB3: =IFERROR(AVERAGE(AY3:BA3),"") | BF3: =IFERROR(AVERAGE(BC3:BE3),"") | BJ3: =IFERROR(AVERAGE(BG3:BI3),"") | BN3: =IFERROR(AVERAGE(BK3:BM3),"") | BR3: =IFERROR(AVERAGE(BO3:BQ3),"") | BV3: =IFERROR(AVERAGE(BS3:BU3),"") | BZ3: =IFERROR(AVERAGE(BW3:BY3),"") | CD3: =IFERROR(AVERAGE(CA3:CC3),"") | CH3: =IFERROR(AVERAGE(CE3:CG3),"") | CL3: =IFERROR(AVERAGE(CI3:CK3),"") | CP3: =IFERROR(AVERAGE(CM3:CO3),"") | CT3: =IFERROR(AVERAGE(CQ3:CS3),"") | CX3: =IFERROR(AVERAGE(CU3:CW3),"") | DB3: =IFERROR(AVERAGE(CY3:DA3),"") | DF3: =IFERROR(AVERAGE(DC3:DE3),"") | DJ3: =IFERROR(AVERAGE(DG3:DI3),"") | DN3: =IFERROR(AVERAGE(DK3:DM3),"") | DR3: =IFERROR(AVERAGE(DO3:DQ3),"") | DV3: =IFERROR(AVERAGE(DS3:DU3),"") | EC3: =IFERROR(AVERAGE(DW3:EB3),"")
A4: Assist Guests VIP/Lift | B4: 10 | C4: 8 | D4: 9 | E4: 5 | F4: =IFERROR(AVERAGE(C4:E4),"") | J4: =IFERROR(AVERAGE(G4:I4),"") | N4: =IFERROR(AVERAGE(K4:M4),"") | R4: =IFERROR(AVERAGE(O4:Q4),"") | V4: =IFERROR(AVERAGE(S4:U4),"") | Z4: =IFERROR(AVERAGE(W4:Y4),"") | AD4: =IFERROR(AVERAGE(AA4:AC4),"") | AH4: =IFERROR(AVERAGE(AE4:AG4),"") | AL4: =IFERROR(AVERAGE(AI4:AK4),"") | AP4: =IFERROR(AVERAGE(AM4:AO4),"") | AT4: =IFERROR(AVERAGE(AQ4:AS4),"") | AX4: =IFERROR(AVERAGE(AU4:AW4),"") | BB4: =IFERROR(AVERAGE(AY4:BA4),"") | BF4: =IFERROR(AVERAGE(BC4:BE4),"") | BJ4: =IFERROR(AVERAGE(BG4:BI4),"") | BN4: =IFERROR(AVERAGE(BK4:BM4),"") | BR4: =IFERROR(AVERAGE(BO4:BQ4),"") | BV4: =IFERROR(AVERAGE(BS4:BU4),"") | BZ4: =IFERROR(AVERAGE(BW4:BY4),"") | CD4: =IFERROR(AVERAGE(CA4:CC4),"") | CH4: =IFERROR(AVERAGE(CE4:CG4),"") | CL4: =IFERROR(AVERAGE(CI4:CK4),"") | CP4: =IFERROR(AVERAGE(CM4:CO4),"") | CT4: =IFERROR(AVERAGE(CQ4:CS4),"") | CX4: =IFERROR(AVERAGE(CU4:CW4),"") | DB4: =IFERROR(AVERAGE(CY4:DA4),"") | DF4: =IFERROR(AVERAGE(DC4:DE4),"") | DJ4: =IFERROR(AVERAGE(DG4:DI4),"") | DN4: =IFERROR(AVERAGE(DK4:DM4),"") | DR4: =IFERROR(AVERAGE(DO4:DQ4),"") | DV4: =IFERROR(AVERAGE(DS4:DU4),"") | EC4: =IFERROR(AVERAGE(DW4:EB4),"")
A5: Posture & Body Language | B5: 10 | C5: 4 | D5: 6 | E5: 9 | F5: =IFERROR(AVERAGE(C5:E5),"") | J5: =IFERROR(AVERAGE(G5:I5),"") | N5: =IFERROR(AVERAGE(K5:M5),"") | R5: =IFERROR(AVERAGE(O5:Q5),"") | V5: =IFERROR(AVERAGE(S5:U5),"") | Z5: =IFERROR(AVERAGE(W5:Y5),"") | AD5: =IFERROR(AVERAGE(AA5:AC5),"") | AH5: =IFERROR(AVERAGE(AE5:AG5),"") | AL5: =IFERROR(AVERAGE(AI5:AK5),"") | AP5: =IFERROR(AVERAGE(AM5:AO5),"") | AT5: =IFERROR(AVERAGE(AQ5:AS5),"") | AX5: =IFERROR(AVERAGE(AU5:AW5),"") | BB5: =IFERROR(AVERAGE(AY5:BA5),"") | BF5: =IFERROR(AVERAGE(BC5:BE5),"") | BJ5: =IFERROR(AVERAGE(BG5:BI5),"") | BN5: =IFERROR(AVERAGE(BK5:BM5),"") | BR5: =IFERROR(AVERAGE(BO5:BQ5),"") | BV5: =IFERROR(AVERAGE(BS5:BU5),"") | BZ5: =IFERROR(AVERAGE(BW5:BY5),"") | CD5: =IFERROR(AVERAGE(CA5:CC5),"") | CH5: =IFERROR(AVERAGE(CE5:CG5),"") | CL5: =IFERROR(AVERAGE(CI5:CK5),"") | CP5: =IFERROR(AVERAGE(CM5:CO5),"") | CT5: =IFERROR(AVERAGE(CQ5:CS5),"") | CX5: =IFERROR(AVERAGE(CU5:CW5),"") | DB5: =IFERROR(AVERAGE(CY5:DA5),"") | DF5: =IFERROR(AVERAGE(DC5:DE5),"") | DJ5: =IFERROR(AVERAGE(DG5:DI5),"") | DN5: =IFERROR(AVERAGE(DK5:DM5),"") | DR5: =IFERROR(AVERAGE(DO5:DQ5),"") | DV5: =IFERROR(AVERAGE(DS5:DU5),"") | EC5: =IFERROR(AVERAGE(DW5:EB5),"")
A6: Knowledge of Hotel & Events | B6: 20 | C6: 16 | D6: 12 | E6: 13 | F6: =IFERROR(AVERAGE(C6:E6),"") | J6: =IFERROR(AVERAGE(G6:I6),"") | N6: =IFERROR(AVERAGE(K6:M6),"") | R6: =IFERROR(AVERAGE(O6:Q6),"") | V6: =IFERROR(AVERAGE(S6:U6),"") | Z6: =IFERROR(AVERAGE(W6:Y6),"") | AD6: =IFERROR(AVERAGE(AA6:AC6),"") | AH6: =IFERROR(AVERAGE(AE6:AG6),"") | AL6: =IFERROR(AVERAGE(AI6:AK6),"") | AP6: =IFERROR(AVERAGE(AM6:AO6),"") | AT6: =IFERROR(AVERAGE(AQ6:AS6),"") | AX6: =IFERROR(AVERAGE(AU6:AW6),"") | BB6: =IFERROR(AVERAGE(AY6:BA6),"") | BF6: =IFERROR(AVERAGE(BC6:BE6),"") | BJ6: =IFERROR(AVERAGE(BG6:BI6),"") | BN6: =IFERROR(AVERAGE(BK6:BM6),"") | BR6: =IFERROR(AVERAGE(BO6:BQ6),"") | BV6: =IFERROR(AVERAGE(BS6:BU6),"") | BZ6: =IFERROR(AVERAGE(BW6:BY6),"") | CD6: =IFERROR(AVERAGE(CA6:CC6),"") | CH6: =IFERROR(AVERAGE(CE6:CG6),"") | CL6: =IFERROR(AVERAGE(CI6:CK6),"") | CP6: =IFERROR(AVERAGE(CM6:CO6),"") | CT6: =IFERROR(AVERAGE(CQ6:CS6),"") | CX6: =IFERROR(AVERAGE(CU6:CW6),"") | DB6: =IFERROR(AVERAGE(CY6:DA6),"") | DF6: =IFERROR(AVERAGE(DC6:DE6),"") | DJ6: =IFERROR(AVERAGE(DG6:DI6),"") | DN6: =IFERROR(AVERAGE(DK6:DM6),"") | DR6: =IFERROR(AVERAGE(DO6:DQ6),"") | DV6: =IFERROR(AVERAGE(DS6:DU6),"") | EC6: =IFERROR(AVERAGE(DW6:EB6),"")
A7: Hair | B7: 15 | C7: 11 | D7: 8 | E7: 7 | F7: =IFERROR(AVERAGE(C7:E7),"") | J7: =IFERROR(AVERAGE(G7:I7),"") | N7: =IFERROR(AVERAGE(K7:M7),"") | R7: =IFERROR(AVERAGE(O7:Q7),"") | V7: =IFERROR(AVERAGE(S7:U7),"") | Z7: =IFERROR(AVERAGE(W7:Y7),"") | AD7: =IFERROR(AVERAGE(AA7:AC7),"") | AH7: =IFERROR(AVERAGE(AE7:AG7),"") | AL7: =IFERROR(AVERAGE(AI7:AK7),"") | AP7: =IFERROR(AVERAGE(AM7:AO7),"") | AT7: =IFERROR(AVERAGE(AQ7:AS7),"") | AX7: =IFERROR(AVERAGE(AU7:AW7),"") | BB7: =IFERROR(AVERAGE(AY7:BA7),"") | BF7: =IFERROR(AVERAGE(BC7:BE7),"") | BJ7: =IFERROR(AVERAGE(BG7:BI7),"") | BN7: =IFERROR(AVERAGE(BK7:BM7),"") | BR7: =IFERROR(AVERAGE(BO7:BQ7),"") | BV7: =IFERROR(AVERAGE(BS7:BU7),"") | BZ7: =IFERROR(AVERAGE(BW7:BY7),"") | CD7: =IFERROR(AVERAGE(CA7:CC7),"") | CH7: =IFERROR(AVERAGE(CE7:CG7),"") | CL7: =IFERROR(AVERAGE(CI7:CK7),"") | CP7: =IFERROR(AVERAGE(CM7:CO7),"") | CT7: =IFERROR(AVERAGE(CQ7:CS7),"") | CX7: =IFERROR(AVERAGE(CU7:CW7),"") | DB7: =IFERROR(AVERAGE(CY7:DA7),"") | DF7: =IFERROR(AVERAGE(DC7:DE7),"") | DJ7: =IFERROR(AVERAGE(DG7:DI7),"") | DN7: =IFERROR(AVERAGE(DK7:DM7),"") | DR7: =IFERROR(AVERAGE(DO7:DQ7),"") | DV7: =IFERROR(AVERAGE(DS7:DU7),"") | EC7: =IFERROR(AVERAGE(DW7:EB7),"")
A8: Makeup | B8: 15 | C8: 9 | D8: 6 | E8: 7 | F8: =IFERROR(AVERAGE(C8:E8),"") | J8: =IFERROR(AVERAGE(G8:I8),"") | N8: =IFERROR(AVERAGE(K8:M8),"") | R8: =IFERROR(AVERAGE(O8:Q8),"") | V8: =IFERROR(AVERAGE(S8:U8),"") | Z8: =IFERROR(AVERAGE(W8:Y8),"") | AD8: =IFERROR(AVERAGE(AA8:AC8),"") | AH8: =IFERROR(AVERAGE(AE8:AG8),"") | AL8: =IFERROR(AVERAGE(AI8:AK8),"") | AP8: =IFERROR(AVERAGE(AM8:AO8),"") | AT8: =IFERROR(AVERAGE(AQ8:AS8),"") | AX8: =IFERROR(AVERAGE(AU8:AW8),"") | BB8: =IFERROR(AVERAGE(AY8:BA8),"") | BF8: =IFERROR(AVERAGE(BC8:BE8),"") | BJ8: =IFERROR(AVERAGE(BG8:BI8),"") | BN8: =IFERROR(AVERAGE(BK8:BM8),"") | BR8: =IFERROR(AVERAGE(BO8:BQ8),"") | BV8: =IFERROR(AVERAGE(BS8:BU8),"") | BZ8: =IFERROR(AVERAGE(BW8:BY8),"") | CD8: =IFERROR(AVERAGE(CA8:CC8),"") | CH8: =IFERROR(AVERAGE(CE8:CG8),"") | CL8: =IFERROR(AVERAGE(CI8:CK8),"") | CP8: =IFERROR(AVERAGE(CM8:CO8),"") | CT8: =IFERROR(AVERAGE(CQ8:CS8),"") | CX8: =IFERROR(AVERAGE(CU8:CW8),"") | DB8: =IFERROR(AVERAGE(CY8:DA8),"") | DF8: =IFERROR(AVERAGE(DC8:DE8),"") | DJ8: =IFERROR(AVERAGE(DG8:DI8),"") | DN8: =IFERROR(AVERAGE(DK8:DM8),"") | DR8: =IFERROR(AVERAGE(DO8:DQ8),"") | DV8: =IFERROR(AVERAGE(DS8:DU8),"") | EC8: =IFERROR(AVERAGE(DW8:EB8),"")
A9: Uniform | B9: 10 | C9: 6 | D9: 10 | E9: 7 | F9: =IFERROR(AVERAGE(C9:E9),"") | J9: =IFERROR(AVERAGE(G9:I9),"") | N9: =IFERROR(AVERAGE(K9:M9),"") | R9: =IFERROR(AVERAGE(O9:Q9),"") | V9: =IFERROR(AVERAGE(S9:U9),"") | Z9: =IFERROR(AVERAGE(W9:Y9),"") | AD9: =IFERROR(AVERAGE(AA9:AC9),"") | AH9: =IFERROR(AVERAGE(AE9:AG9),"") | AL9: =IFERROR(AVERAGE(AI9:AK9),"") | AP9: =IFERROR(AVERAGE(AM9:AO9),"") | AT9: =IFERROR(AVERAGE(AQ9:AS9),"") | AX9: =IFERROR(AVERAGE(AU9:AW9),"") | BB9: =IFERROR(AVERAGE(AY9:BA9),"") | BF9: =IFERROR(AVERAGE(BC9:BE9),"") | BJ9: =IFERROR(AVERAGE(BG9:BI9),"") | BN9: =IFERROR(AVERAGE(BK9:BM9),"") | BR9: =IFERROR(AVERAGE(BO9:BQ9),"") | BV9: =IFERROR(AVERAGE(BS9:BU9),"") | BZ9: =IFERROR(AVERAGE(BW9:BY9),"") | CD9: =IFERROR(AVERAGE(CA9:CC9),"") | CH9: =IFERROR(AVERAGE(CE9:CG9),"") | CL9: =IFERROR(AVERAGE(CI9:CK9),"") | CP9: =IFERROR(AVERAGE(CM9:CO9),"") | CT9: =IFERROR(AVERAGE(CQ9:CS9),"") | CX9: =IFERROR(AVERAGE(CU9:CW9),"") | DB9: =IFERROR(AVERAGE(CY9:DA9),"") | DF9: =IFERROR(AVERAGE(DC9:DE9),"") | DJ9: =IFERROR(AVERAGE(DG9:DI9),"") | DN9: =IFERROR(AVERAGE(DK9:DM9),"") | DR9: =IFERROR(AVERAGE(DO9:DQ9),"") | DV9: =IFERROR(AVERAGE(DS9:DU9),"") | EC9: =IFERROR(AVERAGE(DW9:EB9),"")
A10: Total | B10: 100 | C10: =IFERROR(SUM(C3:C9),"") | D10: =IFERROR(SUM(D3:D9),"") | E10: =IFERROR(SUM(E3:E9),"") | F10: =IFERROR(SUM(F3:F9),"") | G10: =IFERROR(SUM(G3:G9),"") | H10: =IFERROR(SUM(H3:H9),"") | I10: =IFERROR(SUM(I3:I9),"") | J10: =IFERROR(SUM(J3:J9),"") | ... EC10: =IFERROR(SUM(EC3:EC9),"")
A12: Mandy | B12: % | C12: =C$2 | D12: =D$2 | E12: =E$2 | F12: Avg | G12: =G$2 | H12: =H$2 | I12: =I$2 | J12: Avg | K12: =K$2 | L12: =L$2 | M12: =M$2 | N12: Avg | O12: =O$2 | P12: =P$2 | Q12: =Q$2 | R12: Avg | S12: =S$2 | T12: =T$2 | U12: =U$2 | V12: Avg | W12: =W$2 | X12: =X$2 | Y12: =Y$2 | Z12: Avg | AA12: =AA$2 | AB12: =AB$2 | AC12: =AC$2 | AD12: Avg | AE12: =AE$2 | AF12: =AF$2 | AG12: =AG$2 | AH12: Avg | AI12: =AI$2 | AJ12: =AJ$2 | AK12: =AK$2 | AL12: Avg | AM12: =AM$2 | AN12: =AN$2 | AO12: =AO$2 | AP12: Avg | AQ12: =AQ$2 | AR12: =AR$2 | AS12: =AS$2 | AT12: Avg | AU12: =AU$2 | AV12: =AV$2 | AW12: =AW$2 | AX12: Avg | AY12: =AY$2 | AZ12: =AZ$2 | BA12: =BA$2 | BB12: Avg | BC12: =BC$2 | BD12: =BD$2 | BE12: =BE$2 | BF12: Avg | BG12: =BG$2 | BH12: =BH$2 | BI12: =BI$2 | BJ12: Avg | BK12: =BK$2 | BL12: =BL$2 | BM12: =BM$2 | BN12: Avg | BO12: =BO$2 | BP12: =BP$2 | BQ12: =BQ$2 | BR12: Avg | BS12: =BS$2 | BT12: =BT$2 | BU12: =BU$2 | BV12: Avg | BW12: =BW$2 | BX12: =BX$2 | BY12: =BY$2 | BZ12: Avg | CA12: =CA$2 | CB12: =CB$2 | CC12: =CC$2 | CD12: Avg | CE12: =CE$2 | CF12: =CF$2 | CG12: =CG$2 | CH12: Avg | CI12: =CI$2 | CJ12: =CJ$2 | CK12: =CK$2 | CL12: Avg | CM12: =CM$2 | CN12: =CN$2 | CO12: =CO$2 | CP12: Avg | CQ12: =CQ$2 | CR12: =CR$2 | CS12: =CS$2 | CT12: Avg | CU12: =CU$2 | CV12: =CV$2 | CW12: =CW$2 | CX12: Avg | CY12: =CY$2 | CZ12: =CZ$2 | DA12: =DA$2 | DB12: Avg | DC12: =DC$2 | DD12: =DD$2 | DE12: =DE$2 | DF12: Avg | DG12: =DG$2 | DH12: =DH$2 | DI12: =DI$2 | DJ12: Avg | DK12: =DK$2 | DL12: =DL$2 | DM12: =DM$2 | DN12: Avg | DO12: =DO$2 | DP12: =DP$2 | DQ12: =DQ$2 | DR12: Avg | DS12: =DS$2 | DT12: =DT$2 | DU12: =DU$2 | DV12: Avg | DW12: K | DX12: M | DY12: G | DZ12: J | EA12: Y | EB12: C | EC12: Avg
A13: [Person_2] | B13: 20 | F13: =IFERROR(AVERAGE(C13:E13),"") | J13: =IFERROR(AVERAGE(G13:I13),"") | N13: =IFERROR(AVERAGE(K13:M13),"") | R13: =IFERROR(AVERAGE(O13:Q13),"") | V13: =IFERROR(AVERAGE(S13:U13),"") | Z13: =IFERROR(AVERAGE(W13:Y13),"") | AD13: =IFERROR(AVERAGE(AA13:AC13),"") | AH13: =IFERROR(AVERAGE(AE13:AG13),"") | AL13: =IFERROR(AVERAGE(AI13:AK13),"") | AP13: =IFERROR(AVERAGE(AM13:AO13),"") | AT13: =IFERROR(AVERAGE(AQ13:AS13),"") | AX13: =IFERROR(AVERAGE(AU13:AW13),"") | BB13: =IFERROR(AVERAGE(AY13:BA13),"") | BF13: =IFERROR(AVERAGE(BC13:BE13),"") | BJ13: =IFERROR(AVERAGE(BG13:BI13),"") | BN13: =IFERROR(AVERAGE(BK13:BM13),"") | BR13: =IFERROR(AVERAGE(BO13:BQ13),"") | BV13: =IFERROR(AVERAGE(BS13:BU13),"") | BZ13: =IFERROR(AVERAGE(BW13:BY13),"") | CD13: =IFERROR(AVERAGE(CA13:CC13),"") | CH13: =IFERROR(AVERAGE(CE13:CG13),"") | CL13: =IFERROR(AVERAGE(CI13:CK13),"") | CP13: =IFERROR(AVERAGE(CM13:CO13),"") | CT13: =IFERROR(AVERAGE(CQ13:CS13),"") | CX13: =IFERROR(AVERAGE(CU13:CW13),"") | DB13: =IFERROR(AVERAGE(CY13:DA13),"") | DF13: =IFERROR(AVERAGE(DC13:DE13),"") | DJ13: =IFERROR(AVERAGE(DG13:DI13),"") | DN13: =IFERROR(AVERAGE(DK13:DM13),"") | DR13: =IFERROR(AVERAGE(DO13:DQ13),"") | DV13: =IFERROR(AVERAGE(DS13:DU13),"") | EC13: =IFERROR(AVERAGE(DW13:EB13),"")
A14: Assist Guests VIP/Lift | B14: 10 | F14: =IFERROR(AVERAGE(C14:E14),"") | J14: =IFERROR(AVERAGE(G14:I14),"") | N14: =IFERROR(AVERAGE(K14:M14),"") | R14: =IFERROR(AVERAGE(O14:Q14),"") | V14: =IFERROR(AVERAGE(S14:U14),"") | Z14: =IFERROR(AVERAGE(W14:Y14),"") | AD14: =IFERROR(AVERAGE(AA14:AC14),"") | AH14: =IFERROR(AVERAGE(AE14:AG14),"") | AL14: =IFERROR(AVERAGE(AI14:AK14),"") | AP14: =IFERROR(AVERAGE(AM14:AO14),"") | AT14: =IFERROR(AVERAGE(AQ14:AS14),"") | AX14: =IFERROR(AVERAGE(AU14:AW14),"") | BB14: =IFERROR(AVERAGE(AY14:BA14),"") | BF14: =IFERROR(AVERAGE(BC14:BE14),"") | BJ14: =IFERROR(AVERAGE(BG14:BI14),"") | BN14: =IFERROR(AVERAGE(BK14:BM14),"") | BR14: =IFERROR(AVERAGE(BO14:BQ14),"") | BV14: =IFERROR(AVERAGE(BS14:BU14),"") | BZ14: =IFERROR(AVERAGE(BW14:BY14),"") | CD14: =IFERROR(AVERAGE(CA14:CC14),"") | CH14: =IFERROR(AVERAGE(CE14:CG14),"") | CL14: =IFERROR(AVERAGE(CI14:CK14),"") | CP14: =IFERROR(AVERAGE(CM14:CO14),"") | CT14: =IFERROR(AVERAGE(CQ14:CS14),"") | CX14: =IFERROR(AVERAGE(CU14:CW14),"") | DB14: =IFERROR(AVERAGE(CY14:DA14),"") | DF14: =IFERROR(AVERAGE(DC14:DE14),"") | DJ14: =IFERROR(AVERAGE(DG14:DI14),"") | DN14: =IFERROR(AVERAGE(DK14:DM14),"") | DR14: =IFERROR(AVERAGE(DO14:DQ14),"") | DV14: =IFERROR(AVERAGE(DS14:DU14),"") | EC14: =IFERROR(AVERAGE(DW14:EB14),"")
A15: Posture & Body Language | B15: 10 | F15: =IFERROR(AVERAGE(C15:E15),"") | J15: =IFERROR(AVERAGE(G15:I15),"") | N15: =IFERROR(AVERAGE(K15:M15),"") | R15: =IFERROR(AVERAGE(O15:Q15),"") | V15: =IFERROR(AVERAGE(S15:U15),"") | Z15: =IFERROR(AVERAGE(W15:Y15),"") | AD15: =IFERROR(AVERAGE(AA15:AC15),"") | AH15: =IFERROR(AVERAGE(AE15:AG15),"") | AL15: =IFERROR(AVERAGE(AI15:AK15),"") | AP15: =IFERROR(AVERAGE(AM15:AO15),"") | AT15: =IFERROR(AVERAGE(AQ15:AS15),"") | AX15: =IFERROR(AVERAGE(AU15:AW15),"") | BB15: =IFERROR(AVERAGE(AY15:BA15),"") | BF15: =IFERROR(AVERAGE(BC15:BE15),"") | BJ15: =IFERROR(AVERAGE(BG15:BI15),"") | BN15: =IFERROR(AVERAGE(BK15:BM15),"") | BR15: =IFERROR(AVERAGE(BO15:BQ15),"") | BV15: =IFERROR(AVERAGE(BS15:BU15),"") | BZ15: =IFERROR(AVERAGE(BW15:BY15),"") | CD15: =IFERROR(AVERAGE(CA15:CC15),"") | CH15: =IFERROR(AVERAGE(CE15:CG15),"") | CL15: =IFERROR(AVERAGE(CI15:CK15),"") | CP15: =IFERROR(AVERAGE(CM15:CO15),"") | CT15: =IFERROR(AVERAGE(CQ15:CS15),"") | CX15: =IFERROR(AVERAGE(CU15:CW15),"") | DB15: =IFERROR(AVERAGE(CY15:DA15),"") | DF15: =IFERROR(AVERAGE(DC15:DE15),"") | DJ15: =IFERROR(AVERAGE(DG15:DI15),"") | DN15: =IFERROR(AVERAGE(DK15:DM15),"") | DR15: =IFERROR(AVERAGE(DO15:DQ15),"") | DV15: =IFERROR(AVERAGE(DS15:DU15),"") | EC15: =IFERROR(AVERAGE(DW15:EB15),"")
A16: Knowledge of Hotel & Events | B16: 20 | F16: =IFERROR(AVERAGE(C16:E16),"") | J16: =IFERROR(AVERAGE(G16:I16),"") | N16: =IFERROR(AVERAGE(K16:M16),"") | R16: =IFERROR(AVERAGE(O16:Q16),"") | V16: =IFERROR(AVERAGE(S16:U16),"") | Z16: =IFERROR(AVERAGE(W16:Y16),"") | AD16: =IFERROR(AVERAGE(AA16:AC16),"") | AH16: =IFERROR(AVERAGE(AE16:AG16),"") | AL16: =IFERROR(AVERAGE(AI16:AK16),"") | AP16: =IFERROR(AVERAGE(AM16:AO16),"") | AT16: =IFERROR(AVERAGE(AQ16:AS16),"") | AX16: =IFERROR(AVERAGE(AU16:AW16),"") | BB16: =IFERROR(AVERAGE(AY16:BA16),"") | BF16: =IFERROR(AVERAGE(BC16:BE16),"") | BJ16: =IFERROR(AVERAGE(BG16:BI16),"") | BN16: =IFERROR(AVERAGE(BK16:BM16),"") | BR16: =IFERROR(AVERAGE(BO16:BQ16),"") | BV16: =IFERROR(AVERAGE(BS16:BU16),"") | BZ16: =IFERROR(AVERAGE(BW16:BY16),"") | CD16: =IFERROR(AVERAGE(CA16:CC16),"") | CH16: =IFERROR(AVERAGE(CE16:CG16),"") | CL16: =IFERROR(AVERAGE(CI16:CK16),"") | CP16: =IFERROR(AVERAGE(CM16:CO16),"") | CT16: =IFERROR(AVERAGE(CQ16:CS16),"") | CX16: =IFERROR(AVERAGE(CU16:CW16),"") | DB16: =IFERROR(AVERAGE(CY16:DA16),"") | DF16: =IFERROR(AVERAGE(DC16:DE16),"") | DJ16: =IFERROR(AVERAGE(DG16:DI16),"") | DN16: =IFERROR(AVERAGE(DK16:DM16),"") | DR16: =IFERROR(AVERAGE(DO16:DQ16),"") | DV16: =IFERROR(AVERAGE(DS16:DU16),"") | EC16: =IFERROR(AVERAGE(DW16:EB16),"")
A17: Hair | B17: 15 | F17: =IFERROR(AVERAGE(C17:E17),"") | J17: =IFERROR(AVERAGE(G17:I17),"") | N17: =IFERROR(AVERAGE(K17:M17),"") | R17: =IFERROR(AVERAGE(O17:Q17),"") | V17: =IFERROR(AVERAGE(S17:U17),"") | Z17: =IFERROR(AVERAGE(W17:Y17),"") | AD17: =IFERROR(AVERAGE(AA17:AC17),"") | AH17: =IFERROR(AVERAGE(AE17:AG17),"") | AL17: =IFERROR(AVERAGE(AI17:AK17),"") | AP17: =IFERROR(AVERAGE(AM17:AO17),"") | AT17: =IFERROR(AVERAGE(AQ17:AS17),"") | AX17: =IFERROR(AVERAGE(AU17:AW17),"") | BB17: =IFERROR(AVERAGE(AY17:BA17),"") | BF17: =IFERROR(AVERAGE(BC17:BE17),"") | BJ17: =IFERROR(AVERAGE(BG17:BI17),"") | BN17: =IFERROR(AVERAGE(BK17:BM17),"") | BR17: =IFERROR(AVERAGE(BO17:BQ17),"") | BV17: =IFERROR(AVERAGE(BS17:BU17),"") | BZ17: =IFERROR(AVERAGE(BW17:BY17),"") | CD17: =IFERROR(AVERAGE(CA17:CC17),"") | CH17: =IFERROR(AVERAGE(CE17:CG17),"") | CL17: =IFERROR(AVERAGE(CI17:CK17),"") | CP17: =IFERROR(AVERAGE(CM17:CO17),"") | CT17: =IFERROR(AVERAGE(CQ17:CS17),"") | CX17: =IFERROR(AVERAGE(CU17:CW17),"") | DB17: =IFERROR(AVERAGE(CY17:DA17),"") | DF17: =IFERROR(AVERAGE(DC17:DE17),"") | DJ17: =IFERROR(AVERAGE(DG17:DI17),"") | DN17: =IFERROR(AVERAGE(DK17:DM17),"") | DR17: =IFERROR(AVERAGE(DO17:DQ17),"") | DV17: =IFERROR(AVERAGE(DS17:DU17),"") | EC17: =IFERROR(AVERAGE(DW17:EB17),"")
A18: Makeup | B18: 15 | F18: =IFERROR(AVERAGE(C18:E18),"") | J18: =IFERROR(AVERAGE(G18:I18),"") | N18: =IFERROR(AVERAGE(K18:M18),"") | R18: =IFERROR(AVERAGE(O18:Q18),"") | V18: =IFERROR(AVERAGE(S18:U18),"") | Z18: =IFERROR(AVERAGE(W18:Y18),"") | AD18: =IFERROR(AVERAGE(AA18:AC18),"") | AH18: =IFERROR(AVERAGE(AE18:AG18),"") | AL18: =IFERROR(AVERAGE(AI18:AK18),"") | AP18: =IFERROR(AVERAGE(AM18:AO18),"") | AT18: =IFERROR(AVERAGE(AQ18:AS18),"") | AX18: =IFERROR(AVERAGE(AU18:AW18),"") | BB18: =IFERROR(AVERAGE(AY18:BA18),"") | BF18: =IFERROR(AVERAGE(BC18:BE18),"") | BJ18: =IFERROR(AVERAGE(BG18:BI18),"") | BN18: =IFERROR(AVERAGE(BK18:BM18),"") | BR18: =IFERROR(AVERAGE(BO18:BQ18),"") | BV18: =IFERROR(AVERAGE(BS18:BU18),"") | BZ18: =IFERROR(AVERAGE(BW18:BY18),"") | CD18: =IFERROR(AVERAGE(CA18:CC18),"") | CH18: =IFERROR(AVERAGE(CE18:CG18),"") | CL18: =IFERROR(AVERAGE(CI18:CK18),"") | CP18: =IFERROR(AVERAGE(CM18:CO18),"") | CT18: =IFERROR(AVERAGE(CQ18:CS18),"") | CX18: =IFERROR(AVERAGE(CU18:CW18),"") | DB18: =IFERROR(AVERAGE(CY18:DA18),"") | DF18: =IFERROR(AVERAGE(DC18:DE18),"") | DJ18: =IFERROR(AVERAGE(DG18:DI18),"") | DN18: =IFERROR(AVERAGE(DK18:DM18),"") | DR18: =IFERROR(AVERAGE(DO18:DQ18),"") | DV18: =IFERROR(AVERAGE(DS18:DU18),"") | EC18: =IFERROR(AVERAGE(DW18:EB18),"")
A19: Uniform | B19: 10 | F19: =IFERROR(AVERAGE(C19:E19),"") | J19: =IFERROR(AVERAGE(G19:I19),"") | N19: =IFERROR(AVERAGE(K19:M19),"") | R19: =IFERROR(AVERAGE(O19:Q19),"") | V19: =IFERROR(AVERAGE(S19:U19),"") | Z19: =IFERROR(AVERAGE(W19:Y19),"") | AD19: =IFERROR(AVERAGE(AA19:AC19),"") | AH19: =IFERROR(AVERAGE(AE19:AG19),"") | AL19: =IFERROR(AVERAGE(AI19:AK19),"") | AP19: =IFERROR(AVERAGE(AM19:AO19),"") | AT19: =IFERROR(AVERAGE(AQ19:AS19),"") | AX19: =IFERROR(AVERAGE(AU19:AW19),"") | BB19: =IFERROR(AVERAGE(AY19:BA19),"") | BF19: =IFERROR(AVERAGE(BC19:BE19),"") | BJ19: =IFERROR(AVERAGE(BG19:BI19),"") | BN19: =IFERROR(AVERAGE(BK19:BM19),"") | BR19: =IFERROR(AVERAGE(BO19:BQ19),"") | BV19: =IFERROR(AVERAGE(BS19:BU19),"") | BZ19: =IFERROR(AVERAGE(BW19:BY19),"") | CD19: =IFERROR(AVERAGE(CA19:CC19),"") | CH19: =IFERROR(AVERAGE(CE19:CG19),"") | CL19: =IFERROR(AVERAGE(CI19:CK19),"") | CP19: =IFERROR(AVERAGE(CM19:CO19),"") | CT19: =IFERROR(AVERAGE(CQ19:CS19),"") | CX19: =IFERROR(AVERAGE(CU19:CW19),"") | DB19: =IFERROR(AVERAGE(CY19:DA19),"") | DF19: =IFERROR(AVERAGE(DC19:DE19),"") | DJ19: =IFERROR(AVERAGE(DG19:DI19),"") | DN19: =IFERROR(AVERAGE(DK19:DM19),"") | DR19: =IFERROR(AVERAGE(DO19:DQ19),"") | DV19: =IFERROR(AVERAGE(DS19:DU19),"") | EC19: =IFERROR(AVERAGE(DW19:EB19),"")
A20: Total | B20: 100 | C20: =IFERROR(SUM(C13:C19),"") | D20: =IFERROR(SUM(D13:D19),"") | E20: =IFERROR(SUM(E13:E19),"") | F20: =IFERROR(SUM(F13:F19),"") | G20: =IFERROR(SUM(G13:G19),"") | H20: =IFERROR(SUM(H13:H19),"") | I20: =IFERROR(SUM(I13:I19),"") | J20: =IFERROR(SUM(J13:J19),"") | ... DW20: =IFERROR(SUM(DW13:DW19),"") | EA20: =IFERROR(SUM(EA13:EA19),"") | EB20: =IFERROR(SUM(EB13:EB19),"") | EC20: =IFERROR(SUM(EC13:EC19),"")
A22: Luzelle | B22: % | C22: =C$2 | D22: =D$2 | E22: =E$2 | F22: Avg | G22: =G$2 | H22: =H$2 | I22: =I$2 | J22: Avg | K22: =K$2 | L22: =L$2 | M22: =M$2 | N22: Avg | O22: =O$2 | P22: =P$2 | Q22: =Q$2 | R22: Avg | S22: =S$2 | T22: =T$2 | U22: =U$2 | V22: Avg | W22: =W$2 | X22: =X$2 | Y22: =Y$2 | Z22: Avg | AA22: =AA$2 | AB22: =AB$2 | AC22: =AC$2 | AD22: Avg | AE22: =AE$2 | AF22: =AF$2 | AG22: =AG$2 | AH22: Avg | AI22: =AI$2 | AJ22: =AJ$2 | AK22: =AK$2 | AL22: Avg | AM22: =AM$2 | AN22: =AN$2 | AO22: =AO$2 | AP22: Avg | AQ22: =AQ$2 | AR22: =AR$2 | AS22: =AS$2 | AT22: Avg | AU22: =AU$2 | AV22: =AV$2 | AW22: =AW$2 | AX22: Avg | AY22: =AY$2 | AZ22: =AZ$2 | BA22: =BA$2 | BB22: Avg | BC22: =BC$2 | BD22: =BD$2 | BE22: =BE$2 | BF22: Avg | BG22: =BG$2 | BH22: =BH$2 | BI22: =BI$2 | BJ22: Avg | BK22: =BK$2 | BL22: =BL$2 | BM22: =BM$2 | BN22: Avg | BO22: =BO$2 | BP22: =BP$2 | BQ22: =BQ$2 | BR22: Avg | BS22: =BS$2 | BT22: =BT$2 | BU22: =BU$2 | BV22: Avg | BW22: =BW$2 | BX22: =BX$2 | BY22: =BY$2 | BZ22: Avg | CA22: =CA$2 | CB22: =CB$2 | CC22: =CC$2 | CD22: Avg | CE22: =CE$2 | CF22: =CF$2 | CG22: =CG$2 | CH22: Avg | CI22: =CI$2 | CJ22: =CJ$2 | CK22: =CK$2 | CL22: Avg | CM22: =CM$2 | CN22: =CN$2 | CO22: =CO$2 | CP22: Avg | CQ22: =CQ$2 | CR22: =CR$2 | CS22: =CS$2 | CT22: Avg | CU22: =CU$2 | CV22: =CV$2 | CW22: =CW$2 | CX22: Avg | CY22: =CY$2 | CZ22: =CZ$2 | DA22: =DA$2 | DB22: Avg | DC22: =DC$2 | DD22: =DD$2 | DE22: =DE$2 | DF22: Avg | DG22: =DG$2 | DH22: =DH$2 | DI22: =DI$2 | DJ22: Avg | DK22: =DK$2 | DL22: =DL$2 | DM22: =DM$2 | DN22: Avg | DO22: =DO$2 | DP22: =DP$2 | DQ22: =DQ$2 | DR22: Avg | DS22: =DS$2 | DT22: =DT$2 | DU22: =DU$2 | DV22: Avg | DW22: K | DX22: M | DY22: G | DZ22: J | EA22: Y | EB22: C | EC22: Avg
A23: [Person_2] | B23: 20 | F23: =IFERROR(AVERAGE(C23:E23),"") | J23: =IFERROR(AVERAGE(G23:I23),"") | N23: =IFERROR(AVERAGE(K23:M23),"") | R23: =IFERROR(AVERAGE(O23:Q23),"") | V23: =IFERROR(AVERAGE(S23:U23),"") | Z23: =IFERROR(AVERAGE(W23:Y23),"") | AD23: =IFERROR(AVERAGE(AA23:AC23),"") | AH23: =IFERROR(AVERAGE(AE23:AG23),"") | AL23: =IFERROR(AVERAGE(AI23:AK23),"") | AP23: =IFERROR(AVERAGE(AM23:AO23),"") | AT23: =IFERROR(AVERAGE(AQ23:AS23),"") | AX23: =IFERROR(AVERAGE(AU23:AW23),"") | BB23: =IFERROR(AVERAGE(AY23:BA23),"") | BF23: =IFERROR(AVERAGE(BC23:BE23),"") | BJ23: =IFERROR(AVERAGE(BG23:BI23),"") | BN23: =IFERROR(AVERAGE(BK23:BM23),"") | BR23: =IFERROR(AVERAGE(BO23:BQ23),"") | BV23: =IFERROR(AVERAGE(BS23:BU23),"") | BZ23: =IFERROR(AVERAGE(BW23:BY23),"") | CD23: =IFERROR(AVERAGE(CA23:CC23),"") | CH23: =IFERROR(AVERAGE(CE23:CG23),"") | CL23: =IFERROR(AVERAGE(CI23:CK23),"") | CP23: =IFERROR(AVERAGE(CM23:CO23),"") | CT23: =IFERROR(AVERAGE(CQ23:CS23),"") | CX23: =IFERROR(AVERAGE(CU23:CW23),"") | DB23: =IFERROR(AVERAGE(CY23:DA23),"") | DF23: =IFERROR(AVERAGE(DC23:DE23),"") | DJ23: =IFERROR(AVERAGE(DG23:DI23),"") | DN23: =IFERROR(AVERAGE(DK23:DM23),"") | DR23: =IFERROR(AVERAGE(DO23:DQ23),"") | DV23: =IFERROR(AVERAGE(DS23:DU23),"") | EA23: =IFERROR(AVERAGE(D23,H23,L23,P23,T23,X23,AB23,AF23,AJ23,AN23,AR23,AV23,AZ23,BD23,BH23,BL23,BP23,BT23,BX23,CB23,CF23,CJ23,CN23,CR23,CV23,CZ23,DD23,DH23,DL23,DP23,DT23),"") | EB23: =IFERROR(AVERAGE(E23,I23,M23,Q23,U23,Y23,AC23,AG23,AK23,AO23,AS23,AW23,BA23,BE23,BI23,BM23,BQ23,BU23,BY23,CC23,CG23,CK23,CO23,CS23,CW23,DA23,DE23,DI23,DM23,DQ23,DU23),"") | EC23: =IFERROR(AVERAGE(DW23:EB23),"")
A24: Assist Guests VIP/Lift | B24: 10 | F24: =IFERROR(AVERAGE(C24:E24),"") | J24: =IFERROR(AVERAGE(G24:I24),"") | N24: =IFERROR(AVERAGE(K24:M24),"") | R24: =IFERROR(AVERAGE(O24:Q24),"") | V24: =IFERROR(AVERAGE(S24:U24),"") | Z24: =IFERROR(AVERAGE(W24:Y24),"") | AD24: =IFERROR(AVERAGE(AA24:AC24),"") | AH24: =IFERROR(AVERAGE(AE24:AG24),"") | AL24: =IFERROR(AVERAGE(AI24:AK24),"") | AP24: =IFERROR(AVERAGE(AM24:AO24),"") | AT24: =IFERROR(AVERAGE(AQ24:AS24),"") | AX24: =IFERROR(AVERAGE(AU24:AW24),"") | BB24: =IFERROR(AVERAGE(AY24:BA24),"") | BF24: =IFERROR(AVERAGE(BC24:BE24),"") | BJ24: =IFERROR(AVERAGE(BG24:BI24),"") | BN24: =IFERROR(AVERAGE(BK24:BM24),"") | BR24: =IFERROR(AVERAGE(BO24:BQ24),"") | BV24: =IFERROR(AVERAGE(BS24:BU24),"") | BZ24: =IFERROR(AVERAGE(BW24:BY24),"") | CD24: =IFERROR(AVERAGE(CA24:CC24),"") | CH24: =IFERROR(AVERAGE(CE24:CG24),"") | CL24: =IFERROR(AVERAGE(CI24:CK24),"") | CP24: =IFERROR(AVERAGE(CM24:CO24),"") | CT24: =IFERROR(AVERAGE(CQ24:CS24),"") | CX24: =IFERROR(AVERAGE(CU24:CW24),"") | DB24: =IFERROR(AVERAGE(CY24:DA24),"") | DF24: =IFERROR(AVERAGE(DC24:DE24),"") | DJ24: =IFERROR(AVERAGE(DG24:DI24),"") | DN24: =IFERROR(AVERAGE(DK24:DM24),"") | DR24: =IFERROR(AVERAGE(DO24:DQ24),"") | DV24: =IFERROR(AVERAGE(DS24:DU24),"") | EA24: =IFERROR(AVERAGE(D24,H24,L24,P24,T24,X24,AB24,AF24,AJ24,AN24,AR24,AV24,AZ24,BD24,BH24,BL24,BP24,BT24,BX24,CB24,CF24,CJ24,CN24,CR24,CV24,CZ24,DD24,DH24,DL24,DP24,DT24),"") | EB24: =IFERROR(AVERAGE(E24,I24,M24,Q24,U24,Y24,AC24,AG24,AK24,AO24,AS24,AW24,BA24,BE24,BI24,BM24,BQ24,BU24,BY24,CC24,CG24,CK24,CO24,CS24,CW24,DA24,DE24,DI24,DM24,DQ24,DU24),"") | EC24: =IFERROR(AVERAGE(DW24:EB24),"")
A25: Posture & Body Language | B25: 10 | F25: =IFERROR(AVERAGE(C25:E25),"") | J25: =IFERROR(AVERAGE(G25:I25),"") | N25: =IFERROR(AVERAGE(K25:M25),"") | R25: =IFERROR(AVERAGE(O25:Q25),"") | V25: =IFERROR(AVERAGE(S25:U25),"") | Z25: =IFERROR(AVERAGE(W25:Y25),"") | AD25: =IFERROR(AVERAGE(AA25:AC25),"") | AH25: =IFERROR(AVERAGE(AE25:AG25),"") | AL25: =IFERROR(AVERAGE(AI25:AK25),"") | AP25: =IFERROR(AVERAGE(AM25:AO25),"") | AT25: =IFERROR(AVERAGE(AQ25:AS25),"") | AX25: =IFERROR(AVERAGE(AU25:AW25),"") | BB25: =IFERROR(AVERAGE(AY25:BA25),"") | BF25: =IFERROR(AVERAGE(BC25:BE25),"") | BJ25: =IFERROR(AVERAGE(BG25:BI25),"") | BN25: =IFERROR(AVERAGE(BK25:BM25),"") | BR25: =IFERROR(AVERAGE(BO25:BQ25),"") | BV25: =IFERROR(AVERAGE(BS25:BU25),"") | BZ25: =IFERROR(AVERAGE(BW25:BY25),"") | CD25: =IFERROR(AVERAGE(CA25:CC25),"") | CH25: =IFERROR(AVERAGE(CE25:CG25),"") | CL25: =IFERROR(AVERAGE(CI25:CK25),"") | CP25: =IFERROR(AVERAGE(CM25:CO25),"") | CT25: =IFERROR(AVERAGE(CQ25:CS25),"") | CX25: =IFERROR(AVERAGE(CU25:CW25),"") | DB25: =IFERROR(AVERAGE(CY25:DA25),"") | DF25: =IFERROR(AVERAGE(DC25:DE25),"") | DJ25: =IFERROR(AVERAGE(DG25:DI25),"") | DN25: =IFERROR(AVERAGE(DK25:DM25),"") | DR25: =IFERROR(AVERAGE(DO25:DQ25),"") | DV25: =IFERROR(AVERAGE(DS25:DU25),"") | EA25: =IFERROR(AVERAGE(D25,H25,L25,P25,T25,X25,AB25,AF25,AJ25,AN25,AR25,AV25,AZ25,BD25,BH25,BL25,BP25,BT25,BX25,CB25,CF25,CJ25,CN25,CR25,CV25,CZ25,DD25,DH25,DL25,DP25,DT25),"") | EB25: =IFERROR(AVERAGE(E25,I25,M25,Q25,U25,Y25,AC25,AG25,AK25,AO25,AS25,AW25,BA25,BE25,BI25,BM25,BQ25,BU25,BY25,CC25,CG25,CK25,CO25,CS25,CW25,DA25,DE25,DI25,DM25,DQ25,DU25),"") | EC25: =IFERROR(AVERAGE(DW25:EB25),"")
A26: Knowledge of Hotel & Events | B26: 20 | F26: =IFERROR(AVERAGE(C26:E26),"") | J26: =IFERROR(AVERAGE(G26:I26),"") | N26: =IFERROR(AVERAGE(K26:M26),"") | R26: =IFERROR(AVERAGE(O26:Q26),"") | V26: =IFERROR(AVERAGE(S26:U26),"") | Z26: =IFERROR(AVERAGE(W26:Y26),"") | AD26: =IFERROR(AVERAGE(AA26:AC26),"") | AH26: =IFERROR(AVERAGE(AE26:AG26),"") | AL26: =IFERROR(AVERAGE(AI26:AK26),"") | AP26: =IFERROR(AVERAGE(AM26:AO26),"") | AT26: =IFERROR(AVERAGE(AQ26:AS26),"") | AX26: =IFERROR(AVERAGE(AU26:AW26),"") | BB26: =IFERROR(AVERAGE(AY26:BA26),"") | BF26: =IFERROR(AVERAGE(BC26:BE26),"") | BJ26: =IFERROR(AVERAGE(BG26:BI26),"") | BN26: =IFERROR(AVERAGE(BK26:BM26),"") | BR26: =IFERROR(AVERAGE(BO26:BQ26),"") | BV26: =IFERROR(AVERAGE(BS26:BU26),"") | BZ26: =IFERROR(AVERAGE(BW26:BY26),"") | CD26: =IFERROR(AVERAGE(CA26:CC26),"") | CH26: =IFERROR(AVERAGE(CE26:CG26),"") | CL26: =IFERROR(AVERAGE(CI26:CK26),"") | CP26: =IFERROR(AVERAGE(CM26:CO26),"") | CT26: =IFERROR(AVERAGE(CQ26:CS26),"") | CX26: =IFERROR(AVERAGE(CU26:CW26),"") | DB26: =IFERROR(AVERAGE(CY26:DA26),"") | DF26: =IFERROR(AVERAGE(DC26:DE26),"") | DJ26: =IFERROR(AVERAGE(DG26:DI26),"") | DN26: =IFERROR(AVERAGE(DK26:DM26),"") | DR26: =IFERROR(AVERAGE(DO26:DQ26),"") | DV26: =IFERROR(AVERAGE(DS26:DU26),"") | EA26: =IFERROR(AVERAGE(D26,H26,L26,P26,T26,X26,AB26,AF26,AJ26,AN26,AR26,AV26,AZ26,BD26,BH26,BL26,BP26,BT26,BX26,CB26,CF26,CJ26,CN26,CR26,CV26,CZ26,DD26,DH26,DL26,DP26,DT26),"") | EB26: =IFERROR(AVERAGE(E26,I26,M26,Q26,U26,Y26,AC26,AG26,AK26,AO26,AS26,AW26,BA26,BE26,BI26,BM26,BQ26,BU26,BY26,CC26,CG26,CK26,CO26,CS26,CW26,DA26,DE26,DI26,DM26,DQ26,DU26),"") | EC26: =IFERROR(AVERAGE(DW26:EB26),"")
A27: Hair | B27: 15 | F27: =IFERROR(AVERAGE(C27:E27),"") | J27: =IFERROR(AVERAGE(G27:I27),"") | N27: =IFERROR(AVERAGE(K27:M27),"") | R27: =IFERROR(AVERAGE(O27:Q27),"") | V27: =IFERROR(AVERAGE(S27:U27),"") | Z27: =IFERROR(AVERAGE(W27:Y27),"") | AD27: =IFERROR(AVERAGE(AA27:AC27),"") | AH27: =IFERROR(AVERAGE(AE27:AG27),"") | AL27: =IFERROR(AVERAGE(AI27:AK27),"") | AP27: =IFERROR(AVERAGE(AM27:AO27),"") | AT27: =IFERROR(AVERAGE(AQ27:AS27),"") | AX27: =IFERROR(AVERAGE(AU27:AW27),"") | BB27: =IFERROR(AVERAGE(AY27:BA27),"") | BF27: =IFERROR(AVERAGE(BC27:BE27),"") | BJ27: =IFERROR(AVERAGE(BG27:BI27),"") | BN27: =IFERROR(AVERAGE(BK27:BM27),"") | BR27: =IFERROR(AVERAGE(BO27:BQ27),"") | BV27: =IFERROR(AVERAGE(BS27:BU27),"") | BZ27: =IFERROR(AVERAGE(BW27:BY27),"") | CD27: =IFERROR(AVERAGE(CA27:CC27),"") | CH27: =IFERROR(AVERAGE(CE27:CG27),"") | CL27: =IFERROR(AVERAGE(CI27:CK27),"") | CP27: =IFERROR(AVERAGE(CM27:CO27),"") | CT27: =IFERROR(AVERAGE(CQ27:CS27),"") | CX27: =IFERROR(AVERAGE(CU27:CW27),"") | DB27: =IFERROR(AVERAGE(CY27:DA27),"") | DF27: =IFERROR(AVERAGE(DC27:DE27),"") | DJ27: =IFERROR(AVERAGE(DG27:DI27),"") | DN27: =IFERROR(AVERAGE(DK27:DM27),"") | DR27: =IFERROR(AVERAGE(DO27:DQ27),"") | DV27: =IFERROR(AVERAGE(DS27:DU27),"") | EA27: =IFERROR(AVERAGE(D27,H27,L27,P27,T27,X27,AB27,AF27,AJ27,AN27,AR27,AV27,AZ27,BD27,BH27,BL27,BP27,BT27,BX27,CB27,CF27,CJ27,CN27,CR27,CV27,CZ27,DD27,DH27,DL27,DP27,DT27),"") | EB27: =IFERROR(AVERAGE(E27,I27,M27,Q27,U27,Y27,AC27,AG27,AK27,AO27,AS27,AW27,BA27,BE27,BI27,BM27,BQ27,BU27,BY27,CC27,CG27,CK27,CO27,CS27,CW27,DA27,DE27,DI27,DM27,DQ27,DU27),"") | EC27: =IFERROR(AVERAGE(DW27:EB27),"")
A28: Makeup | B28: 15 | F28: =IFERROR(AVERAGE(C28:E28),"") | J28: =IFERROR(AVERAGE(G28:I28),"") | N28: =IFERROR(AVERAGE(K28:M28),"") | R28: =IFERROR(AVERAGE(O28:Q28),"") | V28: =IFERROR(AVERAGE(S28:U28),"") | Z28: =IFERROR(AVERAGE(W28:Y28),"") | AD28: =IFERROR(AVERAGE(AA28:AC28),"") | AH28: =IFERROR(AVERAGE(AE28:AG28),"") | AL28: =IFERROR(AVERAGE(AI28:AK28),"") | AP28: =IFERROR(AVERAGE(AM28:AO28),"") | AT28: =IFERROR(AVERAGE(AQ28:AS28),"") | AX28: =IFERROR(AVERAGE(AU28:AW28),"") | BB28: =IFERROR(AVERAGE(AY28:BA28),"") | BF28: =IFERROR(AVERAGE(BC28:BE28),"") | BJ28: =IFERROR(AVERAGE(BG28:BI28),"") | BN28: =IFERROR(AVERAGE(BK28:BM28),"") | BR28: =IFERROR(AVERAGE(BO28:BQ28),"") | BV28: =IFERROR(AVERAGE(BS28:BU28),"") | BZ28: =IFERROR(AVERAGE(BW28:BY28),"") | CD28: =IFERROR(AVERAGE(CA28:CC28),"") | CH28: =IFERROR(AVERAGE(CE28:CG28),"") | CL28: =IFERROR(AVERAGE(CI28:CK28),"") | CP28: =IFERROR(AVERAGE(CM28:CO28),"") | CT28: =IFERROR(AVERAGE(CQ28:CS28),"") | CX28: =IFERROR(AVERAGE(CU28:CW28),"") | DB28: =IFERROR(AVERAGE(CY28:DA28),"") | DF28: =IFERROR(AVERAGE(DC28:DE28),"") | DJ28: =IFERROR(AVERAGE(DG28:DI28),"") | DN28: =IFERROR(AVERAGE(DK28:DM28),"") | DR28: =IFERROR(AVERAGE(DO28:DQ28),"") | DV28: =IFERROR(AVERAGE(DS28:DU28),"") | EA28: =IFERROR(AVERAGE(D28,H28,L28,P28,T28,X28,AB28,AF28,AJ28,AN28,AR28,AV28,AZ28,BD28,BH28,BL28,BP28,BT28,BX28,CB28,CF28,CJ28,CN28,CR28,CV28,CZ28,DD28,DH28,DL28,DP28,DT28),"") | EB28: =IFERROR(AVERAGE(E28,I28,M28,Q28,U28,Y28,AC28,AG28,AK28,AO28,AS28,AW28,BA28,BE28,BI28,BM28,BQ28,BU28,BY28,CC28,CG28,CK28,CO28,CS28,CW28,DA28,DE28,DI28,DM28,DQ28,DU28),"") | EC28: =IFERROR(AVERAGE(DW28:EB28),"")
A29: Uniform | B29: 10 | F29: =IFERROR(AVERAGE(C29:E29),"") | J29: =IFERROR(AVERAGE(G29:I29),"") | N29: =IFERROR(AVERAGE(K29:M29),"") | R29: =IFERROR(AVERAGE(O29:Q29),"") | V29: =IFERROR(AVERAGE(S29:U29),"") | Z29: =IFERROR(AVERAGE(W29:Y29),"") | AD29: =IFERROR(AVERAGE(AA29:AC29),"") | AH29: =IFERROR(AVERAGE(AE29:AG29),"") | AL29: =IFERROR(AVERAGE(AI29:AK29),"") | AP29: =IFERROR(AVERAGE(AM29:AO29),"") | AT29: =IFERROR(AVERAGE(AQ29:AS29),"") | AX29: =IFERROR(AVERAGE(AU29:AW29),"") | BB29: =IFERROR(AVERAGE(AY29:BA29),"") | BF29: =IFERROR(AVERAGE(BC29:BE29),"") | BJ29: =IFERROR(AVERAGE(BG29:BI29),"") | BN29: =IFERROR(AVERAGE(BK29:BM29),"") | BR29: =IFERROR(AVERAGE(BO29:BQ29),"") | BV29: =IFERROR(AVERAGE(BS29:BU29),"") | BZ29: =IFERROR(AVERAGE(BW29:BY29),"") | CD29: =IFERROR(AVERAGE(CA29:CC29),"") | CH29: =IFERROR(AVERAGE(CE29:CG29),"") | CL29: =IFERROR(AVERAGE(CI29:CK29),"") | CP29: =IFERROR(AVERAGE(CM29:CO29),"") | CT29: =IFERROR(AVERAGE(CQ29:CS29),"") | CX29: =IFERROR(AVERAGE(CU29:CW29),"") | DB29: =IFERROR(AVERAGE(CY29:DA29),"") | DF29: =IFERROR(AVERAGE(DC29:DE29),"") | DJ29: =IFERROR(AVERAGE(DG29:DI29),"") | DN29: =IFERROR(AVERAGE(DK29:DM29),"") | DR29: =IFERROR(AVERAGE(DO29:DQ29),"") | DV29: =IFERROR(AVERAGE(DS29:DU29),"") | EA29: =IFERROR(AVERAGE(D29,H29,L29,P29,T29,X29,AB29,AF29,AJ29,AN29,AR29,AV29,AZ29,BD29,BH29,BL29,BP29,BT29,BX29,CB29,CF29,CJ29,CN29,CR29,CV29,CZ29,DD29,DH29,DL29,DP29,DT29),"") | EB29: =IFERROR(AVERAGE(E29,I29,M29,Q29,U29,Y29,AC29,AG29,AK29,AO29,AS29,AW29,BA29,BE29,BI29,BM29,BQ29,BU29,BY29,CC29,CG29,CK29,CO29,CS29,CW29,DA29,DE29,DI29,DM29,DQ29,DU29),"") | EC29: =IFERROR(AVERAGE(DW29:EB29),"")
A30: Total | B30: 100 | C30: =IFERROR(SUM(C23:C29),"") | D30: =IFERROR(SUM(D23:D29),"") | E30: =IFERROR(SUM(E23:E29),"") | F30: =IFERROR(SUM(F23:F29),"") | G30: =IFERROR(SUM(G23:G29),"") | H30: =IFERROR(SUM(H23:H29),"") | I30: =IFERROR(SUM(I23:I29),"") | J30: =IFERROR(SUM(J23:J29),"") | ... DV30: =IFERROR(SUM(DV23:DV29),"") | EA30: =IFERROR(SUM(EA23:EA29),"") | EB30: =IFERROR(SUM(EB23:EB29),"") | EC30: =IFERROR(SUM(EC23:EC29),"")
A32: [Person_3] | B32: % | C32: =C$2 | D32: =D$2 | E32: =E$2 | F32: Avg | G32: =G$2 | H32: =H$2 | I32: =I$2 | J32: Avg | K32: =K$2 | L32: =L$2 | M32: =M$2 | N32: Avg | O32: =O$2 | P32: =P$2 | Q32: =Q$2 | R32: Avg | S32: =S$2 | T32: =T$2 | U32: =U$2 | V32: Avg | W32: =W$2 | X32: =X$2 | Y32: =Y$2 | Z32: Avg | AA32: =AA$2 | AB32: =AB$2 | AC32: =AC$2 | AD32: Avg | AE32: =AE$2 | AF32: =AF$2 | AG32: =AG$2 | AH32: Avg | AI32: =AI$2 | AJ32: =AJ$2 | AK32: =AK$2 | AL32: Avg | AM32: =AM$2 | AN32: =AN$2 | AO32: =AO$2 | AP32: Avg | AQ32: =AQ$2 | AR32: =AR$2 | AS32: =AS$2 | AT32: Avg | AU32: =AU$2 | AV32: =AV$2 | AW32: =AW$2 | AX32: Avg | AY32: =AY$2 | AZ32: =AZ$2 | BA32: =BA$2 | BB32: Avg | BC32: =BC$2 | BD32: =BD$2 | BE32: =BE$2 | BF32: Avg | BG32: =BG$2 | BH32: =BH$2 | BI32: =BI$2 | BJ32: Avg | BK32: =BK$2 | BL32: =BL$2 | BM32: =BM$2 | BN32: Avg | BO32: =BO$2 | BP32: =BP$2 | BQ32: =BQ$2 | BR32: Avg | BS32: =BS$2 | BT32: =BT$2 | BU32: =BU$2 | BV32: Avg | BW32: =BW$2 | BX32: =BX$2 | BY32: =BY$2 | BZ32: Avg | CA32: =CA$2 | CB32: =CB$2 | CC32: =CC$2 | CD32: Avg | CE32: =CE$2 | CF32: =CF$2 | CG32: =CG$2 | CH32: Avg | CI32: =CI$2 | CJ32: =CJ$2 | CK32: =CK$2 | CL32: Avg | CM32: =CM$2 | CN32: =CN$2 | CO32: =CO$2 | CP32: Avg | CQ32: =CQ$2 | CR32: =CR$2 | CS32: =CS$2 | CT32: Avg | CU32: =CU$2 | CV32: =CV$2 | CW32: =CW$2 | CX32: Avg | CY32: =CY$2 | CZ32: =CZ$2 | DA32: =DA$2 | DB32: Avg | DC32: =DC$2 | DD32: =DD$2 | DE32: =DE$2 | DF32: Avg | DG32: =DG$2 | DH32: =DH$2 | DI32: =DI$2 | DJ32: Avg | DK32: =DK$2 | DL32: =DL$2 | DM32: =DM$2 | DN32: Avg | DO32: =DO$2 | DP32: =DP$2 | DQ32: =DQ$2 | DR32: Avg | DS32: =DS$2 | DT32: =DT$2 | DU32: =DU$2 | DV32: Avg | DW32: K | DX32: M | DY32: G | DZ32: J | EA32: Y | EB32: C | EC32: Avg
A33: [Person_2] | B33: 20 | F33: =IFERROR(AVERAGE(C33:E33),"") | J33: =IFERROR(AVERAGE(G33:I33),"") | N33: =IFERROR(AVERAGE(K33:M33),"") | R33: =IFERROR(AVERAGE(O33:Q33),"") | V33: =IFERROR(AVERAGE(S33:U33),"") | Z33: =IFERROR(AVERAGE(W33:Y33),"") | AD33: =IFERROR(AVERAGE(AA33:AC33),"") | AH33: =IFERROR(AVERAGE(AE33:AG33),"") | AL33: =IFERROR(AVERAGE(AI33:AK33),"") | AP33: =IFERROR(AVERAGE(AM33:AO33),"") | AT33: =IFERROR(AVERAGE(AQ33:AS33),"") | AX33: =IFERROR(AVERAGE(AU33:AW33),"") | BB33: =IFERROR(AVERAGE(AY33:BA33),"") | BF33: =IFERROR(AVERAGE(BC33:BE33),"") | BJ33: =IFERROR(AVERAGE(BG33:BI33),"") | BN33: =IFERROR(AVERAGE(BK33:BM33),"") | BR33: =IFERROR(AVERAGE(BO33:BQ33),"") | BV33: =IFERROR(AVERAGE(BS33:BU33),"") | BZ33: =IFERROR(AVERAGE(BW33:BY33),"") | CD33: =IFERROR(AVERAGE(CA33:CC33),"") | CH33: =IFERROR(AVERAGE(CE33:CG33),"") | CL33: =IFERROR(AVERAGE(CI33:CK33),"") | CP33: =IFERROR(AVERAGE(CM33:CO33),"") | CT33: =IFERROR(AVERAGE(CQ33:CS33),"") | CX33: =IFERROR(AVERAGE(CU33:CW33),"") | DB33: =IFERROR(AVERAGE(CY33:DA33),"") | DF33: =IFERROR(AVERAGE(DC33:DE33),"") | DJ33: =IFERROR(AVERAGE(DG33:DI33),"") | DN33: =IFERROR(AVERAGE(DK33:DM33),"") | DR33: =IFERROR(AVERAGE(DO33:DQ33),"") | DV33: =IFERROR(AVERAGE(DS33:DU33),"") | EA33: =IFERROR(AVERAGE(D33,H33,L33,P33,T33,X33,AB33,AF33,AJ33,AN33,AR33,AV33,AZ33,BD33,BH33,BL33,BP33,BT33,BX33,CB33,CF33,CJ33,CN33,CR33,CV33,CZ33,DD33,DH33,DL33,DP33,DT33),"") | EB33: =IFERROR(AVERAGE(E33,I33,M33,Q33,U33,Y33,AC33,AG33,AK33,AO33,AS33,AW33,BA33,BE33,BI33,BM33,BQ33,BU33,BY33,CC33,CG33,CK33,CO33,CS33,CW33,DA33,DE33,DI33,DM33,DQ33,DU33),"") | EC33: =IFERROR(AVERAGE(DW33:EB33),"")
A34: Assist Guests VIP/Lift | B34: 10 | F34: =IFERROR(AVERAGE(C34:E34),"") | J34: =IFERROR(AVERAGE(G34:I34),"") | N34: =IFERROR(AVERAGE(K34:M34),"") | R34: =IFERROR(AVERAGE(O34:Q34),"") | V34: =IFERROR(AVERAGE(S34:U34),"") | Z34: =IFERROR(AVERAGE(W34:Y34),"") | AD34: =IFERROR(AVERAGE(AA34:AC34),"") | AH34: =IFERROR(AVERAGE(AE34:AG34),"") | AL34: =IFERROR(AVERAGE(AI34:AK34),"") | AP34: =IFERROR(AVERAGE(AM34:AO34),"") | AT34: =IFERROR(AVERAGE(AQ34:AS34),"") | AX34: =IFERROR(AVERAGE(AU34:AW34),"") | BB34: =IFERROR(AVERAGE(AY34:BA34),"") | BF34: =IFERROR(AVERAGE(BC34:BE34),"") | BJ34: =IFERROR(AVERAGE(BG34:BI34),"") | BN34: =IFERROR(AVERAGE(BK34:BM34),"") | BR34: =IFERROR(AVERAGE(BO34:BQ34),"") | BV34: =IFERROR(AVERAGE(BS34:BU34),"") | BZ34: =IFERROR(AVERAGE(BW34:BY34),"") | CD34: =IFERROR(AVERAGE(CA34:CC34),"") | CH34: =IFERROR(AVERAGE(CE34:CG34),"") | CL34: =IFERROR(AVERAGE(CI34:CK34),"") | CP34: =IFERROR(AVERAGE(CM34:CO34),"") | CT34: =IFERROR(AVERAGE(CQ34:CS34),"") | CX34: =IFERROR(AVERAGE(CU34:CW34),"") | DB34: =IFERROR(AVERAGE(CY34:DA34),"") | DF34: =IFERROR(AVERAGE(DC34:DE34),"") | DJ34: =IFERROR(AVERAGE(DG34:DI34),"") | DN34: =IFERROR(AVERAGE(DK34:DM34),"") | DR34: =IFERROR(AVERAGE(DO34:DQ34),"") | DV34: =IFERROR(AVERAGE(DS34:DU34),"") | EA34: =IFERROR(AVERAGE(D34,H34,L34,P34,T34,X34,AB34,AF34,AJ34,AN34,AR34,AV34,AZ34,BD34,BH34,BL34,BP34,BT34,BX34,CB34,CF34,CJ34,CN34,CR34,CV34,CZ34,DD34,DH34,DL34,DP34,DT34),"") | EB34: =IFERROR(AVERAGE(E34,I34,M34,Q34,U34,Y34,AC34,AG34,AK34,AO34,AS34,AW34,BA34,BE34,BI34,BM34,BQ34,BU34,BY34,CC34,CG34,CK34,CO34,CS34,CW34,DA34,DE34,DI34,DM34,DQ34,DU34),"") | EC34: =IFERROR(AVERAGE(DW34:EB34),"")
A35: Posture & Body Language | B35: 10 | F35: =IFERROR(AVERAGE(C35:E35),"") | J35: =IFERROR(AVERAGE(G35:I35),"") | N35: =IFERROR(AVERAGE(K35:M35),"") | R35: =IFERROR(AVERAGE(O35:Q35),"") | V35: =IFERROR(AVERAGE(S35:U35),"") | Z35: =IFERROR(AVERAGE(W35:Y35),"") | AD35: =IFERROR(AVERAGE(AA35:AC35),"") | AH35: =IFERROR(AVERAGE(AE35:AG35),"") | AL35: =IFERROR(AVERAGE(AI35:AK35),"") | AP35: =IFERROR(AVERAGE(AM35:AO35),"") | AT35: =IFERROR(AVERAGE(AQ35:AS35),"") | AX35: =IFERROR(AVERAGE(AU35:AW35),"") | BB35: =IFERROR(AVERAGE(AY35:BA35),"") | BF35: =IFERROR(AVERAGE(BC35:BE35),"") | BJ35: =IFERROR(AVERAGE(BG35:BI35),"") | BN35: =IFERROR(AVERAGE(BK35:BM35),"") | BR35: =IFERROR(AVERAGE(BO35:BQ35),"") | BV35: =IFERROR(AVERAGE(BS35:BU35),"") | BZ35: =IFERROR(AVERAGE(BW35:BY35),"") | CD35: =IFERROR(AVERAGE(CA35:CC35),"") | CH35: =IFERROR(AVERAGE(CE35:CG35),"") | CL35: =IFERROR(AVERAGE(CI35:CK35),"") | CP35: =IFERROR(AVERAGE(CM35:CO35),"") | CT35: =IFERROR(AVERAGE(CQ35:CS35),"") | CX35: =IFERROR(AVERAGE(CU35:CW35),"") | DB35: =IFERROR(AVERAGE(CY35:DA35),"") | DF35: =IFERROR(AVERAGE(DC35:DE35),"") | DJ35: =IFERROR(AVERAGE(DG35:DI35),"") | DN35: =IFERROR(AVERAGE(DK35:DM35),"") | DR35: =IFERROR(AVERAGE(DO35:DQ35),"") | DV35: =IFERROR(AVERAGE(DS35:DU35),"") | EA35: =IFERROR(AVERAGE(D35,H35,L35,P35,T35,X35,AB35,AF35,AJ35,AN35,AR35,AV35,AZ35,BD35,BH35,BL35,BP35,BT35,BX35,CB35,CF35,CJ35,CN35,CR35,CV35,CZ35,DD35,DH35,DL35,DP35,DT35),"") | EB35: =IFERROR(AVERAGE(E35,I35,M35,Q35,U35,Y35,AC35,AG35,AK35,AO35,AS35,AW35,BA35,BE35,BI35,BM35,BQ35,BU35,BY35,CC35,CG35,CK35,CO35,CS35,CW35,DA35,DE35,DI35,DM35,DQ35,DU35),"") | EC35: =IFERROR(AVERAGE(DW35:EB35),"")
A36: Knowledge of Hotel & Events | B36: 20 | F36: =IFERROR(AVERAGE(C36:E36),"") | J36: =IFERROR(AVERAGE(G36:I36),"") | N36: =IFERROR(AVERAGE(K36:M36),"") | R36: =IFERROR(AVERAGE(O36:Q36),"") | V36: =IFERROR(AVERAGE(S36:U36),"") | Z36: =IFERROR(AVERAGE(W36:Y36),"") | AD36: =IFERROR(AVERAGE(AA36:AC36),"") | AH36: =IFERROR(AVERAGE(AE36:AG36),"") | AL36: =IFERROR(AVERAGE(AI36:AK36),"") | AP36: =IFERROR(AVERAGE(AM36:AO36),"") | AT36: =IFERROR(AVERAGE(AQ36:AS36),"") | AX36: =IFERROR(AVERAGE(AU36:AW36),"") | BB36: =IFERROR(AVERAGE(AY36:BA36),"") | BF36: =IFERROR(AVERAGE(BC36:BE36),"") | BJ36: =IFERROR(AVERAGE(BG36:BI36),"") | BN36: =IFERROR(AVERAGE(BK36:BM36),"") | BR36: =IFERROR(AVERAGE(BO36:BQ36),"") | BV36: =IFERROR(AVERAGE(BS36:BU36),"") | BZ36: =IFERROR(AVERAGE(BW36:BY36),"") | CD36: =IFERROR(AVERAGE(CA36:CC36),"") | CH36: =IFERROR(AVERAGE(CE36:CG36),"") | CL36: =IFERROR(AVERAGE(CI36:CK36),"") | CP36: =IFERROR(AVERAGE(CM36:CO36),"") | CT36: =IFERROR(AVERAGE(CQ36:CS36),"") | CX36: =IFERROR(AVERAGE(CU36:CW36),"") | DB36: =IFERROR(AVERAGE(CY36:DA36),"") | DF36: =IFERROR(AVERAGE(DC36:DE36),"") | DJ36: =IFERROR(AVERAGE(DG36:DI36),"") | DN36: =IFERROR(AVERAGE(DK36:DM36),"") | DR36: =IFERROR(AVERAGE(DO36:DQ36),"") | DV36: =IFERROR(AVERAGE(DS36:DU36),"") | EA36: =IFERROR(AVERAGE(D36,H36,L36,P36,T36,X36,AB36,AF36,AJ36,AN36,AR36,AV36,AZ36,BD36,BH36,BL36,BP36,BT36,BX36,CB36,CF36,CJ36,CN36,CR36,CV36,CZ36,DD36,DH36,DL36,DP36,DT36),"") | EB36: =IFERROR(AVERAGE(E36,I36,M36,Q36,U36,Y36,AC36,AG36,AK36,AO36,AS36,AW36,BA36,BE36,BI36,BM36,BQ36,BU36,BY36,CC36,CG36,CK36,CO36,CS36,CW36,DA36,DE36,DI36,DM36,DQ36,DU36),"") | EC36: =IFERROR(AVERAGE(DW36:EB36),"")
A37: Hair | B37: 15 | F37: =IFERROR(AVERAGE(C37:E37),"") | J37: =IFERROR(AVERAGE(G37:I37),"") | N37: =IFERROR(AVERAGE(K37:M37),"") | R37: =IFERROR(AVERAGE(O37:Q37),"") | V37: =IFERROR(AVERAGE(S37:U37),"") | Z37: =IFERROR(AVERAGE(W37:Y37),"") | AD37: =IFERROR(AVERAGE(AA37:AC37),"") | AH37: =IFERROR(AVERAGE(AE37:AG37),"") | AL37: =IFERROR(AVERAGE(AI37:AK37),"") | AP37: =IFERROR(AVERAGE(AM37:AO37),"") | AT37: =IFERROR(AVERAGE(AQ37:AS37),"") | AX37: =IFERROR(AVERAGE(AU37:AW37),"") | BB37: =IFERROR(AVERAGE(AY37:BA37),"") | BF37: =IFERROR(AVERAGE(BC37:BE37),"") | BJ37: =IFERROR(AVERAGE(BG37:BI37),"") | BN37: =IFERROR(AVERAGE(BK37:BM37),"") | BR37: =IFERROR(AVERAGE(BO37:BQ37),"") | BV37: =IFERROR(AVERAGE(BS37:BU37),"") | BZ37: =IFERROR(AVERAGE(BW37:BY37),"") | CD37: =IFERROR(AVERAGE(CA37:CC37),"") | CH37: =IFERROR(AVERAGE(CE37:CG37),"") | CL37: =IFERROR(AVERAGE(CI37:CK37),"") | CP37: =IFERROR(AVERAGE(CM37:CO37),"") | CT37: =IFERROR(AVERAGE(CQ37:CS37),"") | CX37: =IFERROR(AVERAGE(CU37:CW37),"") | DB37: =IFERROR(AVERAGE(CY37:DA37),"") | DF37: =IFERROR(AVERAGE(DC37:DE37),"") | DJ37: =IFERROR(AVERAGE(DG37:DI37),"") | DN37: =IFERROR(AVERAGE(DK37:DM37),"") | DR37: =IFERROR(AVERAGE(DO37:DQ37),"") | DV37: =IFERROR(AVERAGE(DS37:DU37),"") | EA37: =IFERROR(AVERAGE(D37,H37,L37,P37,T37,X37,AB37,AF37,AJ37,AN37,AR37,AV37,AZ37,BD37,BH37,BL37,BP37,BT37,BX37,CB37,CF37,CJ37,CN37,CR37,CV37,CZ37,DD37,DH37,DL37,DP37,DT37),"") | EB37: =IFERROR(AVERAGE(E37,I37,M37,Q37,U37,Y37,AC37,AG37,AK37,AO37,AS37,AW37,BA37,BE37,BI37,BM37,BQ37,BU37,BY37,CC37,CG37,CK37,CO37,CS37,CW37,DA37,DE37,DI37,DM37,DQ37,DU37),"") | EC37: =IFERROR(AVERAGE(DW37:EB37),"")
A38: Makeup | B38: 15 | F38: =IFERROR(AVERAGE(C38:E38),"") | J38: =IFERROR(AVERAGE(G38:I38),"") | N38: =IFERROR(AVERAGE(K38:M38),"") | R38: =IFERROR(AVERAGE(O38:Q38),"") | V38: =IFERROR(AVERAGE(S38:U38),"") | Z38: =IFERROR(AVERAGE(W38:Y38),"") | AD38: =IFERROR(AVERAGE(AA38:AC38),"") | AH38: =IFERROR(AVERAGE(AE38:AG38),"") | AL38: =IFERROR(AVERAGE(AI38:AK38),"") | AP38: =IFERROR(AVERAGE(AM38:AO38),"") | AT38: =IFERROR(AVERAGE(AQ38:AS38),"") | AX38: =IFERROR(AVERAGE(AU38:AW38),"") | BB38: =IFERROR(AVERAGE(AY38:BA38),"") | BF38: =IFERROR(AVERAGE(BC38:BE38),"") | BJ38: =IFERROR(AVERAGE(BG38:BI38),"") | BN38: =IFERROR(AVERAGE(BK38:BM38),"") | BR38: =IFERROR(AVERAGE(BO38:BQ38),"") | BV38: =IFERROR(AVERAGE(BS38:BU38),"") | BZ38: =IFERROR(AVERAGE(BW38:BY38),"") | CD38: =IFERROR(AVERAGE(CA38:CC38),"") | CH38: =IFERROR(AVERAGE(CE38:CG38),"") | CL38: =IFERROR(AVERAGE(CI38:CK38),"") | CP38: =IFERROR(AVERAGE(CM38:CO38),"") | CT38: =IFERROR(AVERAGE(CQ38:CS38),"") | CX38: =IFERROR(AVERAGE(CU38:CW38),"") | DB38: =IFERROR(AVERAGE(CY38:DA38),"") | DF38: =IFERROR(AVERAGE(DC38:DE38),"") | DJ38: =IFERROR(AVERAGE(DG38:DI38),"") | DN38: =IFERROR(AVERAGE(DK38:DM38),"") | DR38: =IFERROR(AVERAGE(DO38:DQ38),"") | DV38: =IFERROR(AVERAGE(DS38:DU38),"") | EA38: =IFERROR(AVERAGE(D38,H38,L38,P38,T38,X38,AB38,AF38,AJ38,AN38,AR38,AV38,AZ38,BD38,BH38,BL38,BP38,BT38,BX38,CB38,CF38,CJ38,CN38,CR38,CV38,CZ38,DD38,DH38,DL38,DP38,DT38),"") | EB38: =IFERROR(AVERAGE(E38,I38,M38,Q38,U38,Y38,AC38,AG38,AK38,AO38,AS38,AW38,BA38,BE38,BI38,BM38,BQ38,BU38,BY38,CC38,CG38,CK38,CO38,CS38,CW38,DA38,DE38,DI38,DM38,DQ38,DU38),"") | EC38: =IFERROR(AVERAGE(DW38:EB38),"")
A39: Uniform | B39: 10 | F39: =IFERROR(AVERAGE(C39:E39),"") | J39: =IFERROR(AVERAGE(G39:I39),"") | N39: =IFERROR(AVERAGE(K39:M39),"") | R39: =IFERROR(AVERAGE(O39:Q39),"") | V39: =IFERROR(AVERAGE(S39:U39),"") | Z39: =IFERROR(AVERAGE(W39:Y39),"") | AD39: =IFERROR(AVERAGE(AA39:AC39),"") | AH39: =IFERROR(AVERAGE(AE39:AG39),"") | AL39: =IFERROR(AVERAGE(AI39:AK39),"") | AP39: =IFERROR(AVERAGE(AM39:AO39),"") | AT39: =IFERROR(AVERAGE(AQ39:AS39),"") | AX39: =IFERROR(AVERAGE(AU39:AW39),"") | BB39: =IFERROR(AVERAGE(AY39:BA39),"") | BF39: =IFERROR(AVERAGE(BC39:BE39),"") | BJ39: =IFERROR(AVERAGE(BG39:BI39),"") | BN39: =IFERROR(AVERAGE(BK39:BM39),"") | BR39: =IFERROR(AVERAGE(BO39:BQ39),"") | BV39: =IFERROR(AVERAGE(BS39:BU39),"") | BZ39: =IFERROR(AVERAGE(BW39:BY39),"") | CD39: =IFERROR(AVERAGE(CA39:CC39),"") | CH39: =IFERROR(AVERAGE(CE39:CG39),"") | CL39: =IFERROR(AVERAGE(CI39:CK39),"") | CP39: =IFERROR(AVERAGE(CM39:CO39),"") | CT39: =IFERROR(AVERAGE(CQ39:CS39),"") | CX39: =IFERROR(AVERAGE(CU39:CW39),"") | DB39: =IFERROR(AVERAGE(CY39:DA39),"") | DF39: =IFERROR(AVERAGE(DC39:DE39),"") | DJ39: =IFERROR(AVERAGE(DG39:DI39),"") | DN39: =IFERROR(AVERAGE(DK39:DM39),"") | DR39: =IFERROR(AVERAGE(DO39:DQ39),"") | DV39: =IFERROR(AVERAGE(DS39:DU39),"") | EA39: =IFERROR(AVERAGE(D39,H39,L39,P39,T39,X39,AB39,AF39,AJ39,AN39,AR39,AV39,AZ39,BD39,BH39,BL39,BP39,BT39,BX39,CB39,CF39,CJ39,CN39,CR39,CV39,CZ39,DD39,DH39,DL39,DP39,DT39),"") | EB39: =IFERROR(AVERAGE(E39,I39,M39,Q39,U39,Y39,AC39,AG39,AK39,AO39,AS39,AW39,BA39,BE39,BI39,BM39,BQ39,BU39,BY39,CC39,CG39,CK39,CO39,CS39,CW39,DA39,DE39,DI39,DM39,DQ39,DU39),"") | EC39: =IFERROR(AVERAGE(DW39:EB39),"")
A40: Total | B40: 100 | C40: =IFERROR(SUM(C33:C39),"") | D40: =IFERROR(SUM(D33:D39),"") | E40: =IFERROR(SUM(E33:E39),"") | F40: =IFERROR(SUM(F33:F39),"") | G40: =IFERROR(SUM(G33:G39),"") | H40: =IFERROR(SUM(H33:H39),"") | I40: =IFERROR(SUM(I33:I39),"") | J40: =IFERROR(SUM(J33:J39),"") | ... DV40: =IFERROR(SUM(DV33:DV39),"") | EA40: =IFERROR(SUM(EA33:EA39),"") | EB40: =IFERROR(SUM(EB33:EB39),"") | EC40: =IFERROR(SUM(EC33:EC39),"")
A42: Jedah | B42: % | C42: =C$2 | D42: =D$2 | E42: =E$2 | F42: Avg | G42: =G$2 | H42: =H$2 | I42: =I$2 | J42: Avg | K42: =K$2 | L42: =L$2 | M42: =M$2 | N42: Avg | O42: =O$2 | P42: =P$2 | Q42: =Q$2 | R42: Avg | S42: =S$2 | T42: =T$2 | U42: =U$2 | V42: Avg | W42: =W$2 | X42: =X$2 | Y42: =Y$2 | Z42: Avg | AA42: =AA$2 | AB42: =AB$2 | AC42: =AC$2 | AD42: Avg | AE42: =AE$2 | AF42: =AF$2 | AG42: =AG$2 | AH42: Avg | AI42: =AI$2 | AJ42: =AJ$2 | AK42: =AK$2 | AL42: Avg | AM42: =AM$2 | AN42: =AN$2 | AO42: =AO$2 | AP42: Avg | AQ42: =AQ$2 | AR42: =AR$2 | AS42: =AS$2 | AT42: Avg | AU42: =AU$2 | AV42: =AV$2 | AW42: =AW$2 | AX42: Avg | AY42: =AY$2 | AZ42: =AZ$2 | BA42: =BA$2 | BB42: Avg | BC42: =BC$2 | BD42: =BD$2 | BE42: =BE$2 | BF42: Avg | BG42: =BG$2 | BH42: =BH$2 | BI42: =BI$2 | BJ42: Avg | BK42: =BK$2 | BL42: =BL$2 | BM42: =BM$2 | BN42: Avg | BO42: =BO$2 | BP42: =BP$2 | BQ42: =BQ$2 | BR42: Avg | BS42: =BS$2 | BT42: =BT$2 | BU42: =BU$2 | BV42: Avg | BW42: =BW$2 | BX42: =BX$2 | BY42: =BY$2 | BZ42: Avg | CA42: =CA$2 | CB42: =CB$2 | CC42: =CC$2 | CD42: Avg | CE42: =CE$2 | CF42: =CF$2 | CG42: =CG$2 | CH42: Avg | CI42: =CI$2 | CJ42: =CJ$2 | CK42: =CK$2 | CL42: Avg | CM42: =CM$2 | CN42: =CN$2 | CO42: =CO$2 | CP42: Avg | CQ42: =CQ$2 | CR42: =CR$2 | CS42: =CS$2 | CT42: Avg | CU42: =CU$2 | CV42: =CV$2 | CW42: =CW$2 | CX42: Avg | CY42: =CY$2 | CZ42: =CZ$2 | DA42: =DA$2 | DB42: Avg | DC42: =DC$2 | DD42: =DD$2 | DE42: =DE$2 | DF42: Avg | DG42: =DG$2 | DH42: =DH$2 | DI42: =DI$2 | DJ42: Avg | DK42: =DK$2 | DL42: =DL$2 | DM42: =DM$2 | DN42: Avg | DO42: =DO$2 | DP42: =DP$2 | DQ42: =DQ$2 | DR42: Avg | DS42: =DS$2 | DT42: =DT$2 | DU42: =DU$2 | DV42: Avg | DW42: K | DX42: M | DY42: G | DZ42: J | EA42: Y | EB42: C | EC42: Avg
A43: [Person_2] | B43: 20 | F43: =IFERROR(AVERAGE(C43:E43),"") | J43: =IFERROR(AVERAGE(G43:I43),"") | N43: =IFERROR(AVERAGE(K43:M43),"") | R43: =IFERROR(AVERAGE(O43:Q43),"") | V43: =IFERROR(AVERAGE(S43:U43),"") | Z43: =IFERROR(AVERAGE(W43:Y43),"") | AD43: =IFERROR(AVERAGE(AA43:AC43),"") | AH43: =IFERROR(AVERAGE(AE43:AG43),"") | AL43: =IFERROR(AVERAGE(AI43:AK43),"") | AP43: =IFERROR(AVERAGE(AM43:AO43),"") | AT43: =IFERROR(AVERAGE(AQ43:AS43),"") | AX43: =IFERROR(AVERAGE(AU43:AW43),"") | BB43: =IFERROR(AVERAGE(AY43:BA43),"") | BF43: =IFERROR(AVERAGE(BC43:BE43),"") | BJ43: =IFERROR(AVERAGE(BG43:BI43),"") | BN43: =IFERROR(AVERAGE(BK43:BM43),"") | BR43: =IFERROR(AVERAGE(BO43:BQ43),"") | BV43: =IFERROR(AVERAGE(BS43:BU43),"") | BZ43: =IFERROR(AVERAGE(BW43:BY43),"") | CD43: =IFERROR(AVERAGE(CA43:CC43),"") | CH43: =IFERROR(AVERAGE(CE43:CG43),"") | CL43: =IFERROR(AVERAGE(CI43:CK43),"") | CP43: =IFERROR(AVERAGE(CM43:CO43),"") | CT43: =IFERROR(AVERAGE(CQ43:CS43),"") | CX43: =IFERROR(AVERAGE(CU43:CW43),"") | DB43: =IFERROR(AVERAGE(CY43:DA43),"") | DF43: =IFERROR(AVERAGE(DC43:DE43),"") | DJ43: =IFERROR(AVERAGE(DG43:DI43),"") | DN43: =IFERROR(AVERAGE(DK43:DM43),"") | DR43: =IFERROR(AVERAGE(DO43:DQ43),"") | DV43: =IFERROR(AVERAGE(DS43:DU43),"") | EA43: =IFERROR(AVERAGE(D43,H43,L43,P43,T43,X43,AB43,AF43,AJ43,AN43,AR43,AV43,AZ43,BD43,BH43,BL43,BP43,BT43,BX43,CB43,CF43,CJ43,CN43,CR43,CV43,CZ43,DD43,DH43,DL43,DP43,DT43),"") | EB43: =IFERROR(AVERAGE(E43,I43,M43,Q43,U43,Y43,AC43,AG43,AK43,AO43,AS43,AW43,BA43,BE43,BI43,BM43,BQ43,BU43,BY43,CC43,CG43,CK43,CO43,CS43,CW43,DA43,DE43,DI43,DM43,DQ43,DU43),"") | EC43: =IFERROR(AVERAGE(DW43:EB43),"")
A44: Assist Guests VIP/Lift | B44: 10 | F44: =IFERROR(AVERAGE(C44:E44),"") | J44: =IFERROR(AVERAGE(G44:I44),"") | N44: =IFERROR(AVERAGE(K44:M44),"") | R44: =IFERROR(AVERAGE(O44:Q44),"") | V44: =IFERROR(AVERAGE(S44:U44),"") | Z44: =IFERROR(AVERAGE(W44:Y44),"") | AD44: =IFERROR(AVERAGE(AA44:AC44),"") | AH44: =IFERROR(AVERAGE(AE44:AG44),"") | AL44: =IFERROR(AVERAGE(AI44:AK44),"") | AP44: =IFERROR(AVERAGE(AM44:AO44),"") | AT44: =IFERROR(AVERAGE(AQ44:AS44),"") | AX44: =IFERROR(AVERAGE(AU44:AW44),"") | BB44: =IFERROR(AVERAGE(AY44:BA44),"") | BF44: =IFERROR(AVERAGE(BC44:BE44),"") | BJ44: =IFERROR(AVERAGE(BG44:BI44),"") | BN44: =IFERROR(AVERAGE(BK44:BM44),"") | BR44: =IFERROR(AVERAGE(BO44:BQ44),"") | BV44: =IFERROR(AVERAGE(BS44:BU44),"") | BZ44: =IFERROR(AVERAGE(BW44:BY44),"") | CD44: =IFERROR(AVERAGE(CA44:CC44),"") | CH44: =IFERROR(AVERAGE(CE44:CG44),"") | CL44: =IFERROR(AVERAGE(CI44:CK44),"") | CP44: =IFERROR(AVERAGE(CM44:CO44),"") | CT44: =IFERROR(AVERAGE(CQ44:CS44),"") | CX44: =IFERROR(AVERAGE(CU44:CW44),"") | DB44: =IFERROR(AVERAGE(CY44:DA44),"") | DF44: =IFERROR(AVERAGE(DC44:DE44),"") | DJ44: =IFERROR(AVERAGE(DG44:DI44),"") | DN44: =IFERROR(AVERAGE(DK44:DM44),"") | DR44: =IFERROR(AVERAGE(DO44:DQ44),"") | DV44: =IFERROR(AVERAGE(DS44:DU44),"") | EA44: =IFERROR(AVERAGE(D44,H44,L44,P44,T44,X44,AB44,AF44,AJ44,AN44,AR44,AV44,AZ44,BD44,BH44,BL44,BP44,BT44,BX44,CB44,CF44,CJ44,CN44,CR44,CV44,CZ44,DD44,DH44,DL44,DP44,DT44),"") | EB44: =IFERROR(AVERAGE(E44,I44,M44,Q44,U44,Y44,AC44,AG44,AK44,AO44,AS44,AW44,BA44,BE44,BI44,BM44,BQ44,BU44,BY44,CC44,CG44,CK44,CO44,CS44,CW44,DA44,DE44,DI44,DM44,DQ44,DU44),"") | EC44: =IFERROR(AVERAGE(DW44:EB44),"")
...

Sheet September
A1: September | C1: 1 | H1: =C1+1 | M1: =H1+1 | R1: =M1+1 | W1: =R1+1 | AB1: =W1+1 | AG1: =AB1+1 | AL1: =AG1+1 | AQ1: =AL1+1 | AV1: =AQ1+1 | BA1: =AV1+1 | BF1: =BA1+1 | BK1: =BF1+1 | BP1: =BK1+1 | BU1: =BP1+1 | BZ1: =BU1+1 | CE1: =BZ1+1 | CJ1: =CE1+1 | CO1: =CJ1+1 | CT1: =CO1+1 | CY1: =CT1+1 | DD1: =CY1+1 | DI1: =DD1+1 | DN1: =DI1+1 | DS1: =DN1+1 | DX1: =DS1+1 | EC1: =DX1+1 | EH1: =EC1+1 | EM1: =EH1+1 | ER1: =EM1+1 | EW1: =ER1+1 | FB1: Monthly Average | FG1: Last Month Comparison
A2: [Person_1] | B2: % | C2: K | D2: G | E2: M | F2: J | G2: Avg | H2: K | I2: G | J2: M | K2: J | L2: Avg | M2: K | N2: G | O2: M | P2: J | Q2: Avg | R2: K | S2: G | T2: M | U2: J | V2: Avg | W2: K | X2: G | Y2: M | Z2: J | AA2: Avg | AB2: K | AC2: G | AD2: M | AE2: J | AF2: Avg | AG2: K | AH2: G | AI2: M | AJ2: J | AK2: Avg | AL2: K | AM2: G | AN2: M | AO2: J | AP2: Avg | AQ2: K | AR2: G | AS2: M | AT2: J | AU2: Avg | AV2: K | AW2: G | AX2: M | AY2: J | AZ2: Avg | BA2: K | BB2: G | BC2: M | BD2: J | BE2: Avg | BF2: K | BG2: G | BH2: M | BI2: J | BJ2: Avg | BK2: K | BL2: G | BM2: M | BN2: J | BO2: Avg | BP2: K | BQ2: G | BR2: M | BS2: J | BT2: Avg | BU2: K | BV2: G | BW2: M | BX2: J | BY2: Avg | BZ2: K | CA2: G | CB2: M | CC2: J | CD2: Avg | CE2: K | CF2: G | CG2: M | CH2: J | CI2: Avg | CJ2: K | CK2: G | CL2: M | CM2: J | CN2: Avg | CO2: K | CP2: G | CQ2: M | CR2: J | CS2: Avg | CT2: K | CU2: G | CV2: M | CW2: J | CX2: Avg | CY2: K | CZ2: G | DA2: M | DB2: J | DC2: Avg | DD2: K | DE2: G | DF2: M | DG2: J | DH2: Avg | DI2: K | DJ2: G | DK2: M | DL2: J | DM2: Avg | DN2: K | DO2: G | DP2: M | DQ2: J | DR2: Avg | DS2: K | DT2: G | DU2: M | DV2: J | DW2: Avg | DX2: K | DY2: G | DZ2: M | EA2: J | EB2: Avg | EC2: K | ED2: G | EE2: M | EF2: J | EG2: Avg | EH2: K | EI2: G | EJ2: M | EK2: J | EL2: Avg | EM2: K | EN2: G | EO2: M | EP2: J | EQ2: Avg | ER2: K | ES2: G | ET2: M | EU2: J | EV2: Avg | EW2: K | EX2: G | EY2: M | EZ2: J | FA2: Avg | FB2: K | FC2: G | FD2: M | FE2: J | FF2: Avg | FG2: K | FH2: G | FI2: M | FJ2: J | FK2: Avg
A3: [Person_2] | B3: 20 | G3: =IFERROR(AVERAGE(C3:F3),"") | L3: =IFERROR(AVERAGE(H3:K3),"") | Q3: =IFERROR(AVERAGE(M3:P3),"") | V3: =IFERROR(AVERAGE(R3:U3),"") | AA3: =IFERROR(AVERAGE(W3:Z3),"") | AF3: =IFERROR(AVERAGE(AB3:AE3),"") | AK3: =IFERROR(AVERAGE(AG3:AJ3),"") | AP3: =IFERROR(AVERAGE(AL3:AO3),"") | AU3: =IFERROR(AVERAGE(AQ3:AT3),"") | AZ3: =IFERROR(AVERAGE(AV3:AY3),"") | BE3: =IFERROR(AVERAGE(BA3:BD3),"") | BJ3: =IFERROR(AVERAGE(BF3:BI3),"") | BO3: =IFERROR(AVERAGE(BK3:BN3),"") | BT3: =IFERROR(AVERAGE(BP3:BS3),"") | BY3: =IFERROR(AVERAGE(BU3:BX3),"") | CD3: =IFERROR(AVERAGE(BZ3:CC3),"") | CI3: =IFERROR(AVERAGE(CE3:CH3),"") | CN3: =IFERROR(AVERAGE(CJ3:CM3),"") | CS3: =IFERROR(AVERAGE(CO3:CR3),"") | CX3: =IFERROR(AVERAGE(CT3:CW3),"") | DC3: =IFERROR(AVERAGE(CY3:DB3),"") | DH3: =IFERROR(AVERAGE(DD3:DG3),"") | DM3: =IFERROR(AVERAGE(DI3:DL3),"") | DR3: =IFERROR(AVERAGE(DN3:DQ3),"") | DW3: =IFERROR(AVERAGE(DS3:DV3),"") | EB3: =IFERROR(AVERAGE(DX3:EA3),"") | EG3: =IFERROR(AVERAGE(EC3:EF3),"") | EL3: =IFERROR(AVERAGE(EH3:EK3),"") | EQ3: =IFERROR(AVERAGE(EM3:EP3),"") | EV3: =IFERROR(AVERAGE(ER3:EU3),"") | EW3: 13 | EX3: 12 | EY3: 20 | EZ3: 8 | FA3: =IFERROR(AVERAGE(EW3:EZ3),"") | FB3: =IFERROR(AVERAGE(C3,H3,M3,R3,W3,AB3,AG3,AL3,AQ3,AV3,BA3,BF3,BK3,BP3,BU3,BZ3,CE3,CJ3,CO3,CT3,CY3,DD3,DI3,DN3,DS3,DX3,EC3,EH3,EM3,ER3,EW3),"") | FC3: =IFERROR(AVERAGE(D3,I3,N3,S3,X3,AC3,AH3,AM3,AR3,AW3,BB3,BG3,BL3,BQ3,BV3,CA3,CF3,CK3,CP3,CU3,CZ3,DE3,DJ3,DO3,DT3,DY3,ED3,EI3,EN3,ES3,EX3),"") | FD3: =IFERROR(AVERAGE(E3,J3,O3,T3,Y3,AD3,AI3,AN3,AS3,AX3,BC3,BH3,BM3,BR3,BW3,CB3,CG3,CL3,CQ3,CV3,DA3,DF3,DK3,DP3,DU3,DZ3,EE3,EJ3,EO3,ET3,EY3),"") | FE3: =IFERROR(AVERAGE(F3,K3,P3,U3,Z3,AE3,AJ3,AO3,AT3,AY3,BD3,BI3,BN3,BS3,BX3,CC3,CH3,CM3,CR3,CW3,DB3,DG3,DL3,DQ3,DV3,EA3,EF3,EK3,EP3,EU3,EZ3),"") | FF3: =IFERROR(AVERAGE(FB3:FE3),"") | FG3: =IFERROR(IF(FB3-August!DW3,FB3-August!DW3,"0%"),"") | FH3: =IFERROR(IF(FC3-August!EA3,FC3-August!EA3,"0%"),"") | FI3: =IFERROR(IF(FD3-August!#REF!,FD3-August!#REF!,"0%"),"") | FJ3: =IFERROR(IF(FE3-August!EB3,FE3-August!EB3,"0%"),"") | FK3: =IFERROR(IF(FF3-August!EC3,FF3-August!EC3,"0%"),"")
