Workbook
Name NameCheck: OFFSET(#REF!,0,0,COUNTA(#REF!)-COUNTBLANK(#REF!),1)

Sheet August
A1: August | C1: 1 | G1: =C1+1 | K1: =G1+1 | O1: =K1+1 | S1: =O1+1 | W1: =S1+1 | AA1: =W1+1 | AE1: =AA1+1 | AI1: =AE1+1 | AM1: =AI1+1 | AQ1: =AM1+1 | AU1: =AQ1+1 | AY1: =AU1+1 | BC1: =AY1+1 | BG1: =BC1+1 | BK1: =BG1+1 | BO1: =BK1+1 | BS1: =BO1+1 | BW1: =BS1+1 | CA1: =BW1+1 | CE1: =CA1+1 | CI1: =CE1+1 | CM1: =CI1+1 | CQ1: =CM1+1 | CU1: =CQ1+1 | CY1: =CU1+1 | DC1: =CY1+1 | DG1: =DC1+1 | DK1: =DG1+1 | DO1: =DK1+1 | DS1: =DO1+1 | DW1: Monthly Average
A2: [Person_1] | B2: % | C2: K | D2: J | E2: Y | F2: Avg | G2: K | H2: J | I2: Y | J2: Avg | K2: K | L2: J | M2: Y | N2: Avg | O2: K | P2: J | Q2: Y | R2: Avg | S2: K | T2: J | U2: Y | V2: Avg | W2: K | X2: J | Y2: Y | Z2: Avg | AA2: K | AB2: J | AC2: Y | AD2: Avg | AE2: K | AF2: J | AG2: Y | AH2: Avg | AI2: K | AJ2: J | AK2: Y | AL2: Avg | AM2: K | AN2: J | AO2: Y | AP2: Avg | AQ2: K | AR2: J | AS2: Y | AT2: Avg | AU2: K | AV2: J | AW2: Y | AX2: Avg | AY2: K | AZ2: J | BA2: Y | BB2: Avg | BC2: K | BD2: J | BE2: Y | BF2: Avg | BG2: K | BH2: J | BI2: Y | BJ2: Avg | BK2: K | BL2: J | BM2: Y | BN2: Avg | BO2: K | BP2: J | BQ2: Y | BR2: Avg | BS2: K | BT2: J | BU2: Y | BV2: Avg | BW2: K | BX2: J | BY2: Y | BZ2: Avg | CA2: K | CB2: J | CC2: Y | CD2: Avg | CE2: K | CF2: J | CG2: Y | CH2: Avg | CI2: K | CJ2: J | CK2: Y | CL2: Avg | CM2: K | CN2: J | CO2: Y | CP2: Avg | CQ2: K | CR2: J | CS2: Y | CT2: Avg | CU2: K | CV2: J | CW2: Y | CX2: Avg | CY2: K | CZ2: J | DA2: Y | DB2: Avg | DC2: K | DD2: J | DE2: Y | DF2: Avg | DG2: K | DH2: J | DI2: Y | DJ2: Avg | DK2: K | DL2: J | DM2: Y | DN2: Avg | DO2: K | DP2: J | DQ2: Y | DR2: Avg | DS2: K | DT2: J | DU2: Y | DV2: Avg | DW2: K | DX2: M | DY2: G | DZ2: J | EA2: Y | EB2: C | EC2: Avg
A3: [Person_2] | B3: 20 | C3: 13 | D3: 12 | E3: 8 | F3: =IFERROR(AVERAGE(C3:E3),"") | J3: =IFERROR(AVERAGE(G3:I3),"") | N3: =IFERROR(AVERAGE(K3:M3),"") | R3: =IFERROR(AVERAGE(O3:Q3),"") | V3: =IFERROR(AVERAGE(S3:U3),"") | Z3: =IFERROR(AVERAGE(W3:Y3),"") | AD3: =IFERROR(AVERAGE(AA3:AC3),"") | AH3: =IFERROR(AVERAGE(AE3:AG3),"") | AL3: =IFERROR(AVERAGE(AI3:AK3),"") | AP3: =IFERROR(AVERAGE(AM3:AO3),"") | AT3: =IFERROR(AVERAGE(AQ3:AS3),"") | AX3: =IFERROR(AVERAGE(AU3:AW3),"") | BB3: =IFERROR(AVERAGE(AY3:BA3),"") | BF3: =IFERROR(AVERAGE(BC3:BE3),"") | BJ3: =IFERROR(AVERAGE(BG3:BI3),"") | BN3: =IFERROR(AVERAGE(BK3:BM3),"") | BR3: =IFERROR(AVERAGE(BO3:BQ3),"") | BV3: =IFERROR(AVERAGE(BS3:BU3),"") | BZ3: =IFERROR(AVERAGE(BW3:BY3),"") | CD3: =IFERROR(AVERAGE(CA3:CC3),"") | CH3: =IFERROR(AVERAGE(CE3:CG3),"") | CL3: =IFERROR(AVERAGE(CI3:CK3),"") | CP3: =IFERROR(AVERAGE(CM3:CO3),"") | CT3: =IFERROR(AVERAGE(CQ3:CS3),"") | CX3: =IFERROR(AVERAGE(CU3:CW3),"") | DB3: =IFERROR(AVERAGE(CY3:DA3),"") | DF3: =IFERROR(AVERAGE(DC3:DE3),"") | DJ3: =IFERROR(AVERAGE(DG3:DI3),"") | DN3: =IFERROR(AVERAGE(DK3:DM3),"") | DR3: =IFERROR(AVERAGE(DO3:DQ3),"") | DV3: =IFERROR(AVERAGE(DS3:DU3),"") | EC3: =IFERROR(AVERAGE(DW3:EB3),"")
A4: Assist Guests VIP/Lift | B4: 10 | C4: 8 | D4: 9 | E4: 5 | F4: =IFERROR(AVERAGE(C4:E4),"") | J4: =IFERROR(AVERAGE(G4:I4),"") | N4: =IFERROR(AVERAGE(K4:M4),"") | R4: =IFERROR(AVERAGE(O4:Q4),"") | V4: =IFERROR(AVERAGE(S4:U4),"") | Z4: =IFERROR(AVERAGE(W4:Y4),"") | AD4: =IFERROR(AVERAGE(AA4:AC4),"") | AH4: =IFERROR(AVERAGE(AE4:AG4),"") | AL4: =IFERROR(AVERAGE(AI4:AK4),"") | AP4: =IFERROR(AVERAGE(AM4:AO4),"") | AT4: =IFERROR(AVERAGE(AQ4:AS4),"") | AX4: =IFERROR(AVERAGE(AU4:AW4),"") | BB4: =IFERROR(AVERAGE(AY4:BA4),"") | BF4: =IFERROR(AVERAGE(BC4:BE4),"") | BJ4: =IFERROR(AVERAGE(BG4:BI4),"") | BN4: =IFERROR(AVERAGE(BK4:BM4),"") | BR4: =IFERROR(AVERAGE(BO4:BQ4),"") | BV4: =IFERROR(AVERAGE(BS4:BU4),"") | BZ4: =IFERROR(AVERAGE(BW4:BY4),"") | CD4: =IFERROR(AVERAGE(CA4:CC4),"") | CH4: =IFERROR(AVERAGE(CE4:CG4),"") | CL4: =IFERROR(AVERAGE(CI4:CK4),"") | CP4: =IFERROR(AVERAGE(CM4:CO4),"") | CT4: =IFERROR(AVERAGE(CQ4:CS4),"") | CX4: =IFERROR(AVERAGE(CU4:CW4),"") | DB4: =IFERROR(AVERAGE(CY4:DA4),"") | DF4: =IFERROR(AVERAGE(DC4:DE4),"") | DJ4: =IFERROR(AVERAGE(DG4:DI4),"") | DN4: =IFERROR(AVERAGE(DK4:DM4),"") | DR4: =IFERROR(AVERAGE(DO4:DQ4),"") | DV4: =IFERROR(AVERAGE(DS4:DU4),"") | EC4: =IFERROR(AVERAGE(DW4:EB4),"")
A5: Posture & Body Language | B5: 10 | C5: 4 | D5: 6 | E5: 9 | F5: =IFERROR(AVERAGE(C5:E5),"") | J5: =IFERROR(AVERAGE(G5:I5),"") | N5: =IFERROR(AVERAGE(K5:M5),"") | R5: =IFERROR(AVERAGE(O5:Q5),"") | V5: =IFERROR(AVERAGE(S5:U5),"") | Z5: =IFERROR(AVERAGE(W5:Y5),"") | AD5: =IFERROR(AVERAGE(AA5:AC5),"") | AH5: =IFERROR(AVERAGE(AE5:AG5),"") | AL5: =IFERROR(AVERAGE(AI5:AK5),"") | AP5: =IFERROR(AVERAGE(AM5:AO5),"") | AT5: =IFERROR(AVERAGE(AQ5:AS5),"") | AX5: =IFERROR(AVERAGE(AU5:AW5),"") | BB5: =IFERROR(AVERAGE(AY5:BA5),"") | BF5: =IFERROR(AVERAGE(BC5:BE5),"") | BJ5: =IFERROR(AVERAGE(BG5:BI5),"") | BN5: =IFERROR(AVERAGE(BK5:BM5),"") | BR5: =IFERROR(AVERAGE(BO5:BQ5),"") | BV5: =IFERROR(AVERAGE(BS5:BU5),"") | BZ5: =IFERROR(AVERAGE(BW5:BY5),"") | CD5: =IFERROR(AVERAGE(CA5:CC5),"") | CH5: =IFERROR(AVERAGE(CE5:CG5),"") | CL5: =IFERROR(AVERAGE(CI5:CK5),"") | CP5: =IFERROR(AVERAGE(CM5:CO5),"") | CT5: =IFERROR(AVERAGE(CQ5:CS5),"") | CX5: =IFERROR(AVERAGE(CU5:CW5),"") | DB5: =IFERROR(AVERAGE(CY5:DA5),"") | DF5: =IFERROR(AVERAGE(DC5:DE5),"") | DJ5: =IFERROR(AVERAGE(DG5:DI5),"") | DN5: =IFERROR(AVERAGE(DK5:DM5),"") | DR5: =IFERROR(AVERAGE(DO5:DQ5),"") | DV5: =IFERROR(AVERAGE(DS5:DU5),"") | EC5: =IFERROR(AVERAGE(DW5:EB5),"")
A6: Knowledge of Hotel & Events | B6: 20 | C6: 16 | D6: 12 | E6: 13 | F6: =IFERROR(AVERAGE(C6:E6),"") | J6: =IFERROR(AVERAGE(G6:I6),"") | N6: =IFERROR(AVERAGE(K6:M6),"") | R6: =IFERROR(AVERAGE(O6:Q6),"") | V6: =IFERROR(AVERAGE(S6:U6),"") | Z6: =IFERROR(AVERAGE(W6:Y6),"") | AD6: =IFERROR(AVERAGE(AA6:AC6),"") | AH6: =IFERROR(AVERAGE(AE6:AG6),"") | AL6: =IFERROR(AVERAGE(AI6:AK6),"") | AP6: =IFERROR(AVERAGE(AM6:AO6),"") | AT6: =IFERROR(AVERAGE(AQ6:AS6),"") | AX6: =IFERROR(AVERAGE(AU6:AW6),"") | BB6: =IFERROR(AVERAGE(AY6:BA6),"") | BF6: =IFERROR(AVERAGE(BC6:BE6),"") | BJ6: =IFERROR(AVERAGE(BG6:BI6),"") | BN6: =IFERROR(AVERAGE(BK6:BM6),"") | BR6: =IFERROR(AVERAGE(BO6:BQ6),"") | BV6: =IFERROR(AVERAGE(BS6:BU6),"") | BZ6: =IFERROR(AVERAGE(BW6:BY6),"") | CD6: =IFERROR(AVERAGE(CA6:CC6),"") | CH6: =IFERROR(AVERAGE(CE6:CG6),"") | CL6: =IFERROR(AVERAGE(CI6:CK6),"") | CP6: =IFERROR(AVERAGE(CM6:CO6),"") | CT6: =IFERROR(AVERAGE(CQ6:CS6),"") | CX6: =IFERROR(AVERAGE(CU6:CW6),"") | DB6: =IFERROR(AVERAGE(CY6:DA6),"") | DF6: =IFERROR(AVERAGE(DC6:DE6),"") | DJ6: =IFERROR(AVERAGE(DG6:DI6),"") | DN6: =IFERROR(AVERAGE(DK6:DM6),"") | DR6: =IFERROR(AVERAGE(DO6:DQ6),"") | DV6: =IFERROR(AVERAGE(DS6:DU6),"") | EC6: =IFERROR(AVERAGE(DW6:EB6),"")
A7: Hair | B7: 15 | C7: 11 | D7: 8 | E7: 7 | F7: =IFERROR(AVERAGE(C7:E7),"") | J7: =IFERROR(AVERAGE(G7:I7),"") | N7: =IFERROR(AVERAGE(K7:M7),"") | R7: =IFERROR(AVERAGE(O7:Q7),"") | V7: =IFERROR(AVERAGE(S7:U7),"") | Z7: =IFERROR(AVERAGE(W7:Y7),"") | AD7: =IFERROR(AVERAGE(AA7:AC7),"") | AH7: =IFERROR(AVERAGE(AE7:AG7),"") | AL7: =IFERROR(AVERAGE(AI7:AK7),"") | AP7: =IFERROR(AVERAGE(AM7:AO7),"") | AT7: =IFERROR(AVERAGE(AQ7:AS7),"") | AX7: =IFERROR(AVERAGE(AU7:AW7),"") | BB7: =IFERROR(AVERAGE(AY7:BA7),"") | BF7: =IFERROR(AVERAGE(BC7:BE7),"") | BJ7: =IFERROR(AVERAGE(BG7:BI7),"") | BN7: =IFERROR(AVERAGE(BK7:BM7),"") | BR7: =IFERROR(AVERAGE(BO7:BQ7),"") | BV7: =IFERROR(AVERAGE(BS7:BU7),"") | BZ7: =IFERROR(AVERAGE(BW7:BY7),"") | CD7: =IFERROR(AVERAGE(CA7:CC7),"") | CH7: =IFERROR(AVERAGE(CE7:CG7),"") | CL7: =IFERROR(AVERAGE(CI7:CK7),"") | CP7: =IFERROR(AVERAGE(CM7:CO7),"") | CT7: =IFERROR(AVERAGE(CQ7:CS7),"") | CX7: =IFERROR(AVERAGE(CU7:CW7),"") | DB7: =IFERROR(AVERAGE(CY7:DA7),"") | DF7: =IFERROR(AVERAGE(DC7:DE7),"") | DJ7: =IFERROR(AVERAGE(DG7:DI7),"") | DN7: =IFERROR(AVERAGE(DK7:DM7),"") | DR7: =IFERROR(AVERAGE(DO7:DQ7),"") | DV7: =IFERROR(AVERAGE(DS7:DU7),"") | EC7: =IFERROR(AVERAGE(DW7:EB7),"")
A8: Makeup | B8: 15 | C8: 9 | D8: 6 | E8: 7 | F8: =IFERROR(AVERAGE(C8:E8),"") | J8: =IFERROR(AVERAGE(G8:I8),"") | N8: =IFERROR(AVERAGE(K8:M8),"") | R8: =IFERROR(AVERAGE(O8:Q8),"") | V8: =IFERROR(AVERAGE(S8:U8),"") | Z8: =IFERROR(AVERAGE(W8:Y8),"") | AD8: =IFERROR(AVERAGE(AA8:AC8),"") | AH8: =IFERROR(AVERAGE(AE8:AG8),"") | AL8: =IFERROR(AVERAGE(AI8:AK8),"") | AP8: =IFERROR(AVERAGE(AM8:AO8),"") | AT8: =IFERROR(AVERAGE(AQ8:AS8),"") | AX8: =IFERROR(AVERAGE(AU8:AW8),"") | BB8: =IFERROR(AVERAGE(AY8:BA8),"") | BF8: =IFERROR(AVERAGE(BC8:BE8),"") | BJ8: =IFERROR(AVERAGE(BG8:BI8),"") | BN8: =IFERROR(AVERAGE(BK8:BM8),"") | BR8: =IFERROR(AVERAGE(BO8:BQ8),"") | BV8: =IFERROR(AVERAGE(BS8:BU8),"") | BZ8: =IFERROR(AVERAGE(BW8:BY8),"") | CD8: =IFERROR(AVERAGE(CA8:CC8),"") | CH8: =IFERROR(AVERAGE(CE8:CG8),"") | CL8: =IFERROR(AVERAGE(CI8:CK8),"") | CP8: =IFERROR(AVERAGE(CM8:CO8),"") | CT8: =IFERROR(AVERAGE(CQ8:CS8),"") | CX8: =IFERROR(AVERAGE(CU8:CW8),"") | DB8: =IFERROR(AVERAGE(CY8:DA8),"") | DF8: =IFERROR(AVERAGE(DC8:DE8),"") | DJ8: =IFERROR(AVERAGE(DG8:DI8),"") | DN8: =IFERROR(AVERAGE(DK8:DM8),"") | DR8: =IFERROR(AVERAGE(DO8:DQ8),"") | DV8: =IFERROR(AVERAGE(DS8:DU8),"") | EC8: =IFERROR(AVERAGE(DW8:EB8),"")
A9: Uniform | B9: 10 | C9: 6 | D9: 10 | E9: 7 | F9: =IFERROR(AVERAGE(C9:E9),"") | J9: =IFERROR(AVERAGE(G9:I9),"") | N9: =IFERROR(AVERAGE(K9:M9),"") | R9: =IFERROR(AVERAGE(O9:Q9),"") | V9: =IFERROR(AVERAGE(S9:U9),"") | Z9: =IFERROR(AVERAGE(W9:Y9),"") | AD9: =IFERROR(AVERAGE(AA9:AC9),"") | AH9: =IFERROR(AVERAGE(AE9:AG9),"") | AL9: =IFERROR(AVERAGE(AI9:AK9),"") | AP9: =IFERROR(AVERAGE(AM9:AO9),"") | AT9: =IFERROR(AVERAGE(AQ9:AS9),"") | AX9: =IFERROR(AVERAGE(AU9:AW9),"") | BB9: =IFERROR(AVERAGE(AY9:BA9),"") | BF9: =IFERROR(AVERAGE(BC9:BE9),"") | BJ9: =IFERROR(AVERAGE(BG9:BI9),"") | BN9: =IFERROR(AVERAGE(BK9:BM9),"") | BR9: =IFERROR(AVERAGE(BO9:BQ9),"") | BV9: =IFERROR(AVERAGE(BS9:BU9),"") | BZ9: =IFERROR(AVERAGE(BW9:BY9),"") | CD9: =IFERROR(AVERAGE(CA9:CC9),"") | CH9: =IFERROR(AVERAGE(CE9:CG9),"") | CL9: =IFERROR(AVERAGE(CI9:CK9),"") | CP9: =IFERROR(AVERAGE(CM9:CO9),"") | CT9: =IFERROR(AVERAGE(CQ9:CS9),"") | CX9: =IFERROR(AVERAGE(CU9:CW9),"") | DB9: =IFERROR(AVERAGE(CY9:DA9),"") | DF9: =IFERROR(AVERAGE(DC9:DE9),"") | DJ9: =IFERROR(AVERAGE(DG9:DI9),"") | DN9: =IFERROR(AVERAGE(DK9:DM9),"") | DR9: =IFERROR(AVERAGE(DO9:DQ9),"") | DV9: =IFERROR(AVERAGE(DS9:DU9),"") | EC9: =IFERROR(AVERAGE(DW9:EB9),"")
A10: Total | B10: 100 | C10: =IFERROR(SUM(C3:C9),"") | D10: =IFERROR(SUM(D3:D9),"") | E10: =IFERROR(SUM(E3:E9),"") | F10: =IFERROR(SUM(F3:F9),"") | G10: =IFERROR(SUM(G3:G9),"") | H10: =IFERROR(SUM(H3:H9),"") | I10: =IFERROR(SUM(I3:I9),"") | J10: =IFERROR(SUM(J3:J9),"") | ... EC10: =IFERROR(SUM(EC3:EC9),"")
A12: Mandy | B12: % | C12: =C$2 | D12: =D$2 | E12: =E$2 | F12: Avg | G12: =G$2 | H12: =H$2 | I12: =I$2 | J12: Avg | K12: =K$2 | L12: =L$2 | M12: =M$2 | N12: Avg | O12: =O$2 | P12: =P$2 | Q12: =Q$2 | R12: Avg | S12: =S$2 | T12: =T$2 | U12: =U$2 | V12: Avg | W12: =W$2 | X12: =X$2 | Y12: =Y$2 | Z12: Avg | AA12: =AA$2 | AB12: =AB$2 | AC12: =AC$2 | AD12: Avg | AE12: =AE$2 | AF12: =AF$2 | AG12: =AG$2 | AH12: Avg | AI12: =AI$2 | AJ12: =AJ$2 | AK12: =AK$2 | AL12: Avg | AM12: =AM$2 | AN12: =AN$2 | AO12: =AO$2 | AP12: Avg | AQ12: =AQ$2 | AR12: =AR$2 | AS12: =AS$2 | AT12: Avg | AU12: =AU$2 | AV12: =AV$2 | AW12: =AW$2 | AX12: Avg | AY12: =AY$2 | AZ12: =AZ$2 | BA12: =BA$2 | BB12: Avg | BC12: =BC$2 | BD12: =BD$2 | BE12: =BE$2 | BF12: Avg | BG12: =BG$2 | BH12: =BH$2 | BI12: =BI$2 | BJ12: Avg | BK12: =BK$2 | BL12: =BL$2 | BM12: =BM$2 | BN12: Avg | BO12: =BO$2 | BP12: =BP$2 | BQ12: =BQ$2 | BR12: Avg | BS12: =BS$2 | BT12: =BT$2 | BU12: =BU$2 | BV12: Avg | BW12: =BW$2 | BX12: =BX$2 | BY12: =BY$2 | BZ12: Avg | CA12: =CA$2 | CB12: =CB$2 | CC12: =CC$2 | CD12: Avg | CE12: =CE$2 | CF12: =CF$2 | CG12: =CG$2 | CH12: Avg | CI12: =CI$2 | CJ12: =CJ$2 | CK12: =CK$2 | CL12: Avg | CM12: =CM$2 | CN12: =CN$2 | CO12: =CO$2 | CP12: Avg | CQ12: =CQ$2 | CR12: =CR$2 | CS12: =CS$2 | CT12: Avg | CU12: =CU$2 | CV12: =CV$2 | CW12: =CW$2 | CX12: Avg | CY12: =CY$2 | CZ12: =CZ$2 | DA12: =DA$2 | DB12: Avg | DC12: =DC$2 | DD12: =DD$2 | DE12: =DE$2 | DF12: Avg | DG12: =DG$2 | DH12: =DH$2 | DI12: =DI$2 | DJ12: Avg | DK12: =DK$2 | DL12: =DL$2 | DM12: =DM$2 | DN12: Avg | DO12: =DO$2 | DP12: =DP$2 | DQ12: =DQ$2 | DR12: Avg | DS12: =DS$2 | DT12: =DT$2 | DU12: =DU$2 | DV12: Avg | DW12: K | DX12: M | DY12: G | DZ12: J | EA12: Y | EB12: C | EC12: Avg
A13: [Person_2] | B13: 20 | F13: =IFERROR(AVERAGE(C13:E13),"") | J13: =IFERROR(AVERAGE(G13:I13),"") | N13: =IFERROR(AVERAGE(K13:M13),"") | R13: =IFERROR(AVERAGE(O13:Q13),"") | V13: =IFERROR(AVERAGE(S13:U13),"") | Z13: =IFERROR(AVERAGE(W13:Y13),"") | AD13: =IFERROR(AVERAGE(AA13:AC13),"") | AH13: =IFERROR(AVERAGE(AE13:AG13),"") | AL13: =IFERROR(AVERAGE(AI13:AK13),"") | AP13: =IFERROR(AVERAGE(AM13:AO13),"") | AT13: =IFERROR(AVERAGE(AQ13:AS13),"") | AX13: =IFERROR(AVERAGE(AU13:AW13),"") | BB13: =IFERROR(AVERAGE(AY13:BA13),"") | BF13: =IFERROR(AVERAGE(BC13:BE13),"") | BJ13: =IFERROR(AVERAGE(BG13:BI13),"") | BN13: =IFERROR(AVERAGE(BK13:BM13),"") | BR13: =IFERROR(AVERAGE(BO13:BQ13),"") | BV13: =IFERROR(AVERAGE(BS13:BU13),"") | BZ13: =IFERROR(AVERAGE(BW13:BY13),"") | CD13: =IFERROR(AVERAGE(CA13:CC13),"") | CH13: =IFERROR(AVERAGE(CE13:CG13),"") | CL13: =IFERROR(AVERAGE(CI13:CK13),"") | CP13: =IFERROR(AVERAGE(CM13:CO13),"") | CT13: =IFERROR(AVERAGE(CQ13:CS13),"") | CX13: =IFERROR(AVERAGE(CU13:CW13),"") | DB13: =IFERROR(AVERAGE(CY13:DA13),"") | DF13: =IFERROR(AVERAGE(DC13:DE13),"") | DJ13: =IFERROR(AVERAGE(DG13:DI13),"") | DN13: =IFERROR(AVERAGE(DK13:DM13),"") | DR13: =IFERROR(AVERAGE(DO13:DQ13),"") | DV13: =IFERROR(AVERAGE(DS13:DU13),"") | EC13: =IFERROR(AVERAGE(DW13:EB13),"")
A14: Assist Guests VIP/Lift | B14: 10 | F14: =IFERROR(AVERAGE(C14:E14),"") | J14: =IFERROR(AVERAGE(G14:I14),"") | N14: =IFERROR(AVERAGE(K14:M14),"") | R14: =IFERROR(AVERAGE(O14:Q14),"") | V14: =IFERROR(AVERAGE(S14:U14),"") | Z14: =IFERROR(AVERAGE(W14:Y14),"") | AD14: =IFERROR(AVERAGE(AA14:AC14),"") | AH14: =IFERROR(AVERAGE(AE14:AG14),"") | AL14: =IFERROR(AVERAGE(AI14:AK14),"") | AP14: =IFERROR(AVERAGE(AM14:AO14),"") | AT14: =IFERROR(AVERAGE(AQ14:AS14),"") | AX14: =IFERROR(AVERAGE(AU14:AW14),"") | BB14: =IFERROR(AVERAGE(AY14:BA14),"") | BF14: =IFERROR(AVERAGE(BC14:BE14),"") | BJ14: =IFERROR(AVERAGE(BG14:BI14),"") | BN14: =IFERROR(AVERAGE(BK14:BM14),"") | BR14: =IFERROR(AVERAGE(BO14:BQ14),"") | BV14: =IFERROR(AVERAGE(BS14:BU14),"") | BZ14: =IFERROR(AVERAGE(BW14:BY14),"") | CD14: =IFERROR(AVERAGE(CA14:CC14),"") | CH14: =IFERROR(AVERAGE(CE14:CG14),"") | CL14: =IFERROR(AVERAGE(CI14:CK14),"") | CP14: =IFERROR(AVERAGE(CM14:CO14),"") | CT14: =IFERROR(AVERAGE(CQ14:CS14),"") | CX14: =IFERROR(AVERAGE(CU14:CW14),"") | DB14: =IFERROR(AVERAGE(CY14:DA14),"") | DF14: =IFERROR(AVERAGE(DC14:DE14),"") | DJ14: =IFERROR(AVERAGE(DG14:DI14),"") | DN14: =IFERROR(AVERAGE(DK14:DM14),"") | DR14: =IFERROR(AVERAGE(DO14:DQ14),"") | DV14: =IFERROR(AVERAGE(DS14:DU14),"") | EC14: =IFERROR(AVERAGE(DW14:EB14),"")
A15: Posture & Body Language | B15: 10 | F15: =IFERROR(AVERAGE(C15:E15),"") | J15: =IFERROR(AVERAGE(G15:I15),"") | N15: =IFERROR(AVERAGE(K15:M15),"") | R15: =IFERROR(AVERAGE(O15:Q15),"") | V15: =IFERROR(AVERAGE(S15:U15),"") | Z15: =IFERROR(AVERAGE(W15:Y15),"") | AD15: =IFERROR(AVERAGE(AA15:AC15),"") | AH15: =IFERROR(AVERAGE(AE15:AG15),"") | AL15: =IFERROR(AVERAGE(AI15:AK15),"") | AP15: =IFERROR(AVERAGE(AM15:AO15),"") | AT15: =IFERROR(AVERAGE(AQ15:AS15),"") | AX15: =IFERROR(AVERAGE(AU15:AW15),"") | BB15: =IFERROR(AVERAGE(AY15:BA15),"") | BF15: =IFERROR(AVERAGE(BC15:BE15),"") | BJ15: =IFERROR(AVERAGE(BG15:BI15),"") | BN15: =IFERROR(AVERAGE(BK15:BM15),"") | BR15: =IFERROR(AVERAGE(BO15:BQ15),"") | BV15: =IFERROR(AVERAGE(BS15:BU15),"") | BZ15: =IFERROR(AVERAGE(BW15:BY15),"") | CD15: =IFERROR(AVERAGE(CA15:CC15),"") | CH15: =IFERROR(AVERAGE(CE15:CG15),"") | CL15: =IFERROR(AVERAGE(CI15:CK15),"") | CP15: =IFERROR(AVERAGE(CM15:CO15),"") | CT15: =IFERROR(AVERAGE(CQ15:CS15),"") | CX15: =IFERROR(AVERAGE(CU15:CW15),"") | DB15: =IFERROR(AVERAGE(CY15:DA15),"") | DF15: =IFERROR(AVERAGE(DC15:DE15),"") | DJ15: =IFERROR(AVERAGE(DG15:DI15),"") | DN15: =IFERROR(AVERAGE(DK15:DM15),"") | DR15: =IFERROR(AVERAGE(DO15:DQ15),"") | DV15: =IFERROR(AVERAGE(DS15:DU15),"") | EC15: =IFERROR(AVERAGE(DW15:EB15),"")
A16: Knowledge of Hotel & Events | B16: 20 | F16: =IFERROR(AVERAGE(C16:E16),"") | J16: =IFERROR(AVERAGE(G16:I16),"") | N16: =IFERROR(AVERAGE(K16:M16),"") | R16: =IFERROR(AVERAGE(O16:Q16),"") | V16: =IFERROR(AVERAGE(S16:U16),"") | Z16: =IFERROR(AVERAGE(W16:Y16),"") | AD16: =IFERROR(AVERAGE(AA16:AC16),"") | AH16: =IFERROR(AVERAGE(AE16:AG16),"") | AL16: =IFERROR(AVERAGE(AI16:AK16),"") | AP16: =IFERROR(AVERAGE(AM16:AO16),"") | AT16: =IFERROR(AVERAGE(AQ16:AS16),"") | AX16: =IFERROR(AVERAGE(AU16:AW16),"") | BB16: =IFERROR(AVERAGE(AY16:BA16),"") | BF16: =IFERROR(AVERAGE(BC16:BE16),"") | BJ16: =IFERROR(AVERAGE(BG16:BI16),"") | BN16: =IFERROR(AVERAGE(BK16:BM16),"") | BR16: =IFERROR(AVERAGE(BO16:BQ16),"") | BV16: =IFERROR(AVERAGE(BS16:BU16),"") | BZ16: =IFERROR(AVERAGE(BW16:BY16),"") | CD16: =IFERROR(AVERAGE(CA16:CC16),"") | CH16: =IFERROR(AVERAGE(CE16:CG16),"") | CL16: =IFERROR(AVERAGE(CI16:CK16),"") | CP16: =IFERROR(AVERAGE(CM16:CO16),"") | CT16: =IFERROR(AVERAGE(CQ16:CS16),"") | CX16: =IFERROR(AVERAGE(CU16:CW16),"") | DB16: =IFERROR(AVERAGE(CY16:DA16),"") | DF16: =IFERROR(AVERAGE(DC16:DE16),"") | DJ16: =IFERROR(AVERAGE(DG16:DI16),"") | DN16: =IFERROR(AVERAGE(DK16:DM16),"") | DR16: =IFERROR(AVERAGE(DO16:DQ16),"") | DV16: =IFERROR(AVERAGE(DS16:DU16),"") | EC16: =IFERROR(AVERAGE(DW16:EB16),"")
A17: Hair | B17: 15 | F17: =IFERROR(AVERAGE(C17:E17),"") | J17: =IFERROR(AVERAGE(G17:I17),"") | N17: =IFERROR(AVERAGE(K17:M17),"") | R17: =IFERROR(AVERAGE(O17:Q17),"") | V17: =IFERROR(AVERAGE(S17:U17),"") | Z17: =IFERROR(AVERAGE(W17:Y17),"") | AD17: =IFERROR(AVERAGE(AA17:AC17),"") | AH17: =IFERROR(AVERAGE(AE17:AG17),"") | AL17: =IFERROR(AVERAGE(AI17:AK17),"") | AP17: =IFERROR(AVERAGE(AM17:AO17),"") | AT17: =IFERROR(AVERAGE(AQ17:AS17),"") | AX17: =IFERROR(AVERAGE(AU17:AW17),"") | BB17: =IFERROR(AVERAGE(AY17:BA17),"") | BF17: =IFERROR(AVERAGE(BC17:BE17),"") | BJ17: =IFERROR(AVERAGE(BG17:BI17),"") | BN17: =IFERROR(AVERAGE(BK17:BM17),"") | BR17: =IFERROR(AVERAGE(BO17:BQ17),"") | BV17: =IFERROR(AVERAGE(BS17:BU17),"") | BZ17: =IFERROR(AVERAGE(BW17:BY17),"") | CD17: =IFERROR(AVERAGE(CA17:CC17),"") | CH17: =IFERROR(AVERAGE(CE17:CG17),"") | CL17: =IFERROR(AVERAGE(CI17:CK17),"") | CP17: =IFERROR(AVERAGE(CM17:CO17),"") | CT17: =IFERROR(AVERAGE(CQ17:CS17),"") | CX17: =IFERROR(AVERAGE(CU17:CW17),"") | DB17: =IFERROR(AVERAGE(CY17:DA17),"") | DF17: =IFERROR(AVERAGE(DC17:DE17),"") | DJ17: =IFERROR(AVERAGE(DG17:DI17),"") | DN17: =IFERROR(AVERAGE(DK17:DM17),"") | DR17: =IFERROR(AVERAGE(DO17:DQ17),"") | DV17: =IFERROR(AVERAGE(DS17:DU17),"") | EC17: =IFERROR(AVERAGE(DW17:EB17),"")
A18: Makeup | B18: 15 | F18: =IFERROR(AVERAGE(C18:E18),"") | J18: =IFERROR(AVERAGE(G18:I18),"") | N18: =IFERROR(AVERAGE(K18:M18),"") | R18: =IFERROR(AVERAGE(O18:Q18),"") | V18: =IFERROR(AVERAGE(S18:U18),"") | Z18: =IFERROR(AVERAGE(W18:Y18),"") | AD18: =IFERROR(AVERAGE(AA18:AC18),"") | AH18: =IFERROR(AVERAGE(AE18:AG18),"") | AL18: =IFERROR(AVERAGE(AI18:AK18),"") | AP18: =IFERROR(AVERAGE(AM18:AO18),"") | AT18: =IFERROR(AVERAGE(AQ18:AS18),"") | AX18: =IFERROR(AVERAGE(AU18:AW18),"") | BB18: =IFERROR(AVERAGE(AY18:BA18),"") | BF18: =IFERROR(AVERAGE(BC18:BE18),"") | BJ18: =IFERROR(AVERAGE(BG18:BI18),"") | BN18: =IFERROR(AVERAGE(BK18:BM18),"") | BR18: =IFERROR(AVERAGE(BO18:BQ18),"") | BV18: =IFERROR(AVERAGE(BS18:BU18),"") | BZ18: =IFERROR(AVERAGE(BW18:BY18),"") | CD18: =IFERROR(AVERAGE(CA18:CC18),"") | CH18: =IFERROR(AVERAGE(CE18:CG18),"") | CL18: =IFERROR(AVERAGE(CI18:CK18),"") | CP18: =IFERROR(AVERAGE(CM18:CO18),"") | CT18: =IFERROR(AVERAGE(CQ18:CS18),"") | CX18: =IFERROR(AVERAGE(CU18:CW18),"") | DB18: =IFERROR(AVERAGE(CY18:DA18),"") | DF18: =IFERROR(AVERAGE(DC18:DE18),"") | DJ18: =IFERROR(AVERAGE(DG18:DI18),"") | DN18: =IFERROR(AVERAGE(DK18:DM18),"") | DR18: =IFERROR(AVERAGE(DO18:DQ18),"") | DV18: =IFERROR(AVERAGE(DS18:DU18),"") | EC18: =IFERROR(AVERAGE(DW18:EB18),"")
A19: Uniform | B19: 10 | F19: =IFERROR(AVERAGE(C19:E19),"") | J19: =IFERROR(AVERAGE(G19:I19),"") | N19: =IFERROR(AVERAGE(K19:M19),"") | R19: =IFERROR(AVERAGE(O19:Q19),"") | V19: =IFERROR(AVERAGE(S19:U19),"") | Z19: =IFERROR(AVERAGE(W19:Y19),"") | AD19: =IFERROR(AVERAGE(AA19:AC19),"") | AH19: =IFERROR(AVERAGE(AE19:AG19),"") | AL19: =IFERROR(AVERAGE(AI19:AK19),"") | AP19: =IFERROR(AVERAGE(AM19:AO19),"") | AT19: =IFERROR(AVERAGE(AQ19:AS19),"") | AX19: =IFERROR(AVERAGE(AU19:AW19),"") | BB19: =IFERROR(AVERAGE(AY19:BA19),"") | BF19: =IFERROR(AVERAGE(BC19:BE19),"") | BJ19: =IFERROR(AVERAGE(BG19:BI19),"") | BN19: =IFERROR(AVERAGE(BK19:BM19),"") | BR19: =IFERROR(AVERAGE(BO19:BQ19),"") | BV19: =IFERROR(AVERAGE(BS19:BU19),"") | BZ19: =IFERROR(AVERAGE(BW19:BY19),"") | CD19: =IFERROR(AVERAGE(CA19:CC19),"") | CH19: =IFERROR(AVERAGE(CE19:CG19),"") | CL19: =IFERROR(AVERAGE(CI19:CK19),"") | CP19: =IFERROR(AVERAGE(CM19:CO19),"") | CT19: =IFERROR(AVERAGE(CQ19:CS19),"") | CX19: =IFERROR(AVERAGE(CU19:CW19),"") | DB19: =IFERROR(AVERAGE(CY19:DA19),"") | DF19: =IFERROR(AVERAGE(DC19:DE19),"") | DJ19: =IFERROR(AVERAGE(DG19:DI19),"") | DN19: =IFERROR(AVERAGE(DK19:DM19),"") | DR19: =IFERROR(AVERAGE(DO19:DQ19),"") | DV19: =IFERROR(AVERAGE(DS19:DU19),"") | EC19: =IFERROR(AVERAGE(DW19:EB19),"")
A20: Total | B20: 100 | C20: =IFERROR(SUM(C13:C19),"") | D20: =IFERROR(SUM(D13:D19),"") | E20: =IFERROR(SUM(E13:E19),"") | F20: =IFERROR(SUM(F13:F19),"") | G20: =IFERROR(SUM(G13:G19),"") | H20: =IFERROR(SUM(H13:H19),"") | I20: =IFERROR(SUM(I13:I19),"") | J20: =IFERROR(SUM(J13:J19),"") | ... DW20: =IFERROR(SUM(DW13:DW19),"") | EA20: =IFERROR(SUM(EA13:EA19),"") | EB20: =IFERROR(SUM(EB13:EB19),"") | EC20: =IFERROR(SUM(EC13:EC19),"")
A22: Luzelle | B22: % | C22: =C$2 | D22: =D$2 | E22: =E$2 | F22: Avg | G22: =G$2 | H22: =H$2 | I22: =I$2 | J22: Avg | K22: =K$2 | L22: =L$2 | M22: =M$2 | N22: Avg | O22: =O$2 | P22: =P$2 | Q22: =Q$2 | R22: Avg | S22: =S$2 | T22: =T$2 | U22: =U$2 | V22: Avg | W22: =W$2 | X22: =X$2 | Y22: =Y$2 | Z22: Avg | AA22: =AA$2 | AB22: =AB$2 | AC22: =AC$2 | AD22: Avg | AE22: =AE$2 | AF22: =AF$2 | AG22: =AG$2 | AH22: Avg | AI22: =AI$2 | AJ22: =AJ$2 | AK22: =AK$2 | AL22: Avg | AM22: =AM$2 | AN22: =AN$2 | AO22: =AO$2 | AP22: Avg | AQ22: =AQ$2 | AR22: =AR$2 | AS22: =AS$2 | AT22: Avg | AU22: =AU$2 | AV22: =AV$2 | AW22: =AW$2 | AX22: Avg | AY22: =AY$2 | AZ22: =AZ$2 | BA22: =BA$2 | BB22: Avg | BC22: =BC$2 | BD22: =BD$2 | BE22: =BE$2 | BF22: Avg | BG22: =BG$2 | BH22: =BH$2 | BI22: =BI$2 | BJ22: Avg | BK22: =BK$2 | BL22: =BL$2 | BM22: =BM$2 | BN22: Avg | BO22: =BO$2 | BP22: =BP$2 | BQ22: =BQ$2 | BR22: Avg | BS22: =BS$2 | BT22: =BT$2 | BU22: =BU$2 | BV22: Avg | BW22: =BW$2 | BX22: =BX$2 | BY22: =BY$2 | BZ22: Avg | CA22: =CA$2 | CB22: =CB$2 | CC22: =CC$2 | CD22: Avg | CE22: =CE$2 | CF22: =CF$2 | CG22: =CG$2 | CH22: Avg | CI22: =CI$2 | CJ22: =CJ$2 | CK22: =CK$2 | CL22: Avg | CM22: =CM$2 | CN22: =CN$2 | CO22: =CO$2 | CP22: Avg | CQ22: =CQ$2 | CR22: =CR$2 | CS22: =CS$2 | CT22: Avg | CU22: =CU$2 | CV22: =CV$2 | CW22: =CW$2 | CX22: Avg | CY22: =CY$2 | CZ22: =CZ$2 | DA22: =DA$2 | DB22: Avg | DC22: =DC$2 | DD22: =DD$2 | DE22: =DE$2 | DF22: Avg | DG22: =DG$2 | DH22: =DH$2 | DI22: =DI$2 | DJ22: Avg | DK22: =DK$2 | DL22: =DL$2 | DM22: =DM$2 | DN22: Avg | DO22: =DO$2 | DP22: =DP$2 | DQ22: =DQ$2 | DR22: Avg | DS22: =DS$2 | DT22: =DT$2 | DU22: =DU$2 | DV22: Avg | DW22: K | DX22: M | DY22: G | DZ22: J | EA22: Y | EB22: C | EC22: Avg
A23: [Person_2] | B23: 20 | F23: =IFERROR(AVERAGE(C23:E23),"") | J23: =IFERROR(AVERAGE(G23:I23),"") | N23: =IFERROR(AVERAGE(K23:M23),"") | R23: =IFERROR(AVERAGE(O23:Q23),"") | V23: =IFERROR(AVERAGE(S23:U23),"") | Z23: =IFERROR(AVERAGE(W23:Y23),"") | AD23: =IFERROR(AVERAGE(AA23:AC23),"") | AH23: =IFERROR(AVERAGE(AE23:AG23),"") | AL23: =IFERROR(AVERAGE(AI23:AK23),"") | AP23: =IFERROR(AVERAGE(AM23:AO23),"") | AT23: =IFERROR(AVERAGE(AQ23:AS23),"") | AX23: =IFERROR(AVERAGE(AU23:AW23),"") | BB23: =IFERROR(AVERAGE(AY23:BA23),"") | BF23: =IFERROR(AVERAGE(BC23:BE23),"") | BJ23: =IFERROR(AVERAGE(BG23:BI23),"") | BN23: =IFERROR(AVERAGE(BK23:BM23),"") | BR23: =IFERROR(AVERAGE(BO23:BQ23),"") | BV23: =IFERROR(AVERAGE(BS23:BU23),"") | BZ23: =IFERROR(AVERAGE(BW23:BY23),"") | CD23: =IFERROR(AVERAGE(CA23:CC23),"") | CH23: =IFERROR(AVERAGE(CE23:CG23),"") | CL23: =IFERROR(AVERAGE(CI23:CK23),"") | CP23: =IFERROR(AVERAGE(CM23:CO23),"") | CT23: =IFERROR(AVERAGE(CQ23:CS23),"") | CX23: =IFERROR(AVERAGE(CU23:CW23),"") | DB23: =IFERROR(AVERAGE(CY23:DA23),"") | DF23: =IFERROR(AVERAGE(DC23:DE23),"") | DJ23: =IFERROR(AVERAGE(DG23:DI23),"") | DN23: =IFERROR(AVERAGE(DK23:DM23),"") | DR23: =IFERROR(AVERAGE(DO23:DQ23),"") | DV23: =IFERROR(AVERAGE(DS23:DU23),"") | EA23: =IFERROR(AVERAGE(D23,H23,L23,P23,T23,X23,AB23,AF23,AJ23,AN23,AR23,AV23,AZ23,BD23,BH23,BL23,BP23,BT23,BX23,CB23,CF23,CJ23,CN23,CR23,CV23,CZ23,DD23,DH23,DL23,DP23,DT23),"") | EB23: =IFERROR(AVERAGE(E23,I23,M23,Q23,U23,Y23,AC23,AG23,AK23,AO23,AS23,AW23,BA23,BE23,BI23,BM23,BQ23,BU23,BY23,CC23,CG23,CK23,CO23,CS23,CW23,DA23,DE23,DI23,DM23,DQ23,DU23),"") | EC23: =IFERROR(AVERAGE(DW23:EB23),"")
A24: Assist Guests VIP/Lift | B24: 10 | F24: =IFERROR(AVERAGE(C24:E24),"") | J24: =IFERROR(AVERAGE(G24:I24),"") | N24: =IFERROR(AVERAGE(K24:M24),"") | R24: =IFERROR(AVERAGE(O24:Q24),"") | V24: =IFERROR(AVERAGE(S24:U24),"") | Z24: =IFERROR(AVERAGE(W24:Y24),"") | AD24: =IFERROR(AVERAGE(AA24:AC24),"") | AH24: =IFERROR(AVERAGE(AE24:AG24),"") | AL24: =IFERROR(AVERAGE(AI24:AK24),"") | AP24: =IFERROR(AVERAGE(AM24:AO24),"") | AT24: =IFERROR(AVERAGE(AQ24:AS24),"") | AX24: =IFERROR(AVERAGE(AU24:AW24),"") | BB24: =IFERROR(AVERAGE(AY24:BA24),"") | BF24: =IFERROR(AVERAGE(BC24:BE24),"") | BJ24: =IFERROR(AVERAGE(BG24:BI24),"") | BN24: =IFERROR(AVERAGE(BK24:BM24),"") | BR24: =IFERROR(AVERAGE(BO24:BQ24),"") | BV24: =IFERROR(AVERAGE(BS24:BU24),"") | BZ24: =IFERROR(AVERAGE(BW24:BY24),"") | CD24: =IFERROR(AVERAGE(CA24:CC24),"") | CH24: =IFERROR(AVERAGE(CE24:CG24),"") | CL24: =IFERROR(AVERAGE(CI24:CK24),"") | CP24: =IFERROR(AVERAGE(CM24:CO24),"") | CT24: =IFERROR(AVERAGE(CQ24:CS24),"") | CX24: =IFERROR(AVERAGE(CU24:CW24),"") | DB24: =IFERROR(AVERAGE(CY24:DA24),"") | DF24: =IFERROR(AVERAGE(DC24:DE24),"") | DJ24: =IFERROR(AVERAGE(DG24:DI24),"") | DN24: =IFERROR(AVERAGE(DK24:DM24),"") | DR24: =IFERROR(AVERAGE(DO24:DQ24),"") | DV24: =IFERROR(AVERAGE(DS24:DU24),"") | EA24: =IFERROR(AVERAGE(D24,H24,L24,P24,T24,X24,AB24,AF24,AJ24,AN24,AR24,AV24,AZ24,BD24,BH24,BL24,BP24,BT24,BX24,CB24,CF24,CJ24,CN24,CR24,CV24,CZ24,DD24,DH24,DL24,DP24,DT24),"") | EB24: =IFERROR(AVERAGE(E24,I24,M24,Q24,U24,Y24,AC24,AG24,AK24,AO24,AS24,AW24,BA24,BE24,BI24,BM24,BQ24,BU24,BY24,CC24,CG24,CK24,CO24,CS24,CW24,DA24,DE24,DI24,DM24,DQ24,DU24),"") | EC24: =IFERROR(AVERAGE(DW24:EB24),"")
A25: Posture & Body Language | B25: 10 | F25: =IFERROR(AVERAGE(C25:E25),"") | J25: =IFERROR(AVERAGE(G25:I25),"") | N25: =IFERROR(AVERAGE(K25:M25),"") | R25: =IFERROR(AVERAGE(O25:Q25),"") | V25: =IFERROR(AVERAGE(S25:U25),"") | Z25: =IFERROR(AVERAGE(W25:Y25),"") | AD25: =IFERROR(AVERAGE(AA25:AC25),"") | AH25: =IFERROR(AVERAGE(AE25:AG25),"") | AL25: =IFERROR(AVERAGE(AI25:AK25),"") | AP25: =IFERROR(AVERAGE(AM25:AO25),"") | AT25: =IFERROR(AVERAGE(AQ25:AS25),"") | AX25: =IFERROR(AVERAGE(AU25:AW25),"") | BB25: =IFERROR(AVERAGE(AY25:BA25),"") | BF25: =IFERROR(AVERAGE(BC25:BE25),"") | BJ25: =IFERROR(AVERAGE(BG25:BI25),"") | BN25: =IFERROR(AVERAGE(BK25:BM25),"") | BR25: =IFERROR(AVERAGE(BO25:BQ25),"") | BV25: =IFERROR(AVERAGE(BS25:BU25),"") | BZ25: =IFERROR(AVERAGE(BW25:BY25),"") | CD25: =IFERROR(AVERAGE(CA25:CC25),"") | CH25: =IFERROR(AVERAGE(CE25:CG25),"") | CL25: =IFERROR(AVERAGE(CI25:CK25),"") | CP25: =IFERROR(AVERAGE(CM25:CO25),"") | CT25: =IFERROR(AVERAGE(CQ25:CS25),"") | CX25: =IFERROR(AVERAGE(CU25:CW25),"") | DB25: =IFERROR(AVERAGE(CY25:DA25),"") | DF25: =IFERROR(AVERAGE(DC25:DE25),"") | DJ25: =IFERROR(AVERAGE(DG25:DI25),"") | DN25: =IFERROR(AVERAGE(DK25:DM25),"") | DR25: =IFERROR(AVERAGE(DO25:DQ25),"") | DV25: =IFERROR(AVERAGE(DS25:DU25),"") | EA25: =IFERROR(AVERAGE(D25,H25,L25,P25,T25,X25,AB25,AF25,AJ25,AN25,AR25,AV25,AZ25,BD25,BH25,BL25,BP25,BT25,BX25,CB25,CF25,CJ25,CN25,CR25,CV25,CZ25,DD25,DH25,DL25,DP25,DT25),"") | EB25: =IFERROR(AVERAGE(E25,I25,M25,Q25,U25,Y25,AC25,AG25,AK25,AO25,AS25,AW25,BA25,BE25,BI25,BM25,BQ25,BU25,BY25,CC25,CG25,CK25,CO25,CS25,CW25,DA25,DE25,DI25,DM25,DQ25,DU25),"") | EC25: =IFERROR(AVERAGE(DW25:EB25),"")
A26: Knowledge of Hotel & Events | B26: 20 | F26: =IFERROR(AVERAGE(C26:E26),"") | J26: =IFERROR(AVERAGE(G26:I26),"") | N26: =IFERROR(AVERAGE(K26:M26),"") | R26: =IFERROR(AVERAGE(O26:Q26),"") | V26: =IFERROR(AVERAGE(S26:U26),"") | Z26: =IFERROR(AVERAGE(W26:Y26),"") | AD26: =IFERROR(AVERAGE(AA26:AC26),"") | AH26: =IFERROR(AVERAGE(AE26:AG26),"") | AL26: =IFERROR(AVERAGE(AI26:AK26),"") | AP26: =IFERROR(AVERAGE(AM26:AO26),"") | AT26: =IFERROR(AVERAGE(AQ26:AS26),"") | AX26: =IFERROR(AVERAGE(AU26:AW26),"") | BB26: =IFERROR(AVERAGE(AY26:BA26),"") | BF26: =IFERROR(AVERAGE(BC26:BE26),"") | BJ26: =IFERROR(AVERAGE(BG26:BI26),"") | BN26: =IFERROR(AVERAGE(BK26:BM26),"") | BR26: =IFERROR(AVERAGE(BO26:BQ26),"") | BV26: =IFERROR(AVERAGE(BS26:BU26),"") | BZ26: =IFERROR(AVERAGE(BW26:BY26),"") | CD26: =IFERROR(AVERAGE(CA26:CC26),"") | CH26: =IFERROR(AVERAGE(CE26:CG26),"") | CL26: =IFERROR(AVERAGE(CI26:CK26),"") | CP26: =IFERROR(AVERAGE(CM26:CO26),"") | CT26: =IFERROR(AVERAGE(CQ26:CS26),"") | CX26: =IFERROR(AVERAGE(CU26:CW26),"") | DB26: =IFERROR(AVERAGE(CY26:DA26),"") | DF26: =IFERROR(AVERAGE(DC26:DE26),"") | DJ26: =IFERROR(AVERAGE(DG26:DI26),"") | DN26: =IFERROR(AVERAGE(DK26:DM26),"") | DR26: =IFERROR(AVERAGE(DO26:DQ26),"") | DV26: =IFERROR(AVERAGE(DS26:DU26),"") | EA26: =IFERROR(AVERAGE(D26,H26,L26,P26,T26,X26,AB26,AF26,AJ26,AN26,AR26,AV26,AZ26,BD26,BH26,BL26,BP26,BT26,BX26,CB26,CF26,CJ26,CN26,CR26,CV26,CZ26,DD26,DH26,DL26,DP26,DT26),"") | EB26: =IFERROR(AVERAGE(E26,I26,M26,Q26,U26,Y26,AC26,AG26,AK26,AO26,AS26,AW26,BA26,BE26,BI26,BM26,BQ26,BU26,BY26,CC26,CG26,CK26,CO26,CS26,CW26,DA26,DE26,DI26,DM26,DQ26,DU26),"") | EC26: =IFERROR(AVERAGE(DW26:EB26),"")
A27: Hair | B27: 15 | F27: =IFERROR(AVERAGE(C27:E27),"") | J27: =IFERROR(AVERAGE(G27:I27),"") | N27: =IFERROR(AVERAGE(K27:M27),"") | R27: =IFERROR(AVERAGE(O27:Q27),"") | V27: =IFERROR(AVERAGE(S27:U27),"") | Z27: =IFERROR(AVERAGE(W27:Y27),"") | AD27: =IFERROR(AVERAGE(AA27:AC27),"") | AH27: =IFERROR(AVERAGE(AE27:AG27),"") | AL27: =IFERROR(AVERAGE(AI27:AK27),"") | AP27: =IFERROR(AVERAGE(AM27:AO27),"") | AT27: =IFERROR(AVERAGE(AQ27:AS27),"") | AX27: =IFERROR(AVERAGE(AU27:AW27),"") | BB27: =IFERROR(AVERAGE(AY27:BA27),"") | BF27: =IFERROR(AVERAGE(BC27:BE27),"") | BJ27: =IFERROR(AVERAGE(BG27:BI27),"") | BN27: =IFERROR(AVERAGE(BK27:BM27),"") | BR27: =IFERROR(AVERAGE(BO27:BQ27),"") | BV27: =IFERROR(AVERAGE(BS27:BU27),"") | BZ27: =IFERROR(AVERAGE(BW27:BY27),"") | CD27: =IFERROR(AVERAGE(CA27:CC27),"") | CH27: =IFERROR(AVERAGE(CE27:CG27),"") | CL27: =IFERROR(AVERAGE(CI27:CK27),"") | CP27: =IFERROR(AVERAGE(CM27:CO27),"") | CT27: =IFERROR(AVERAGE(CQ27:CS27),"") | CX27: =IFERROR(AVERAGE(CU27:CW27),"") | DB27: =IFERROR(AVERAGE(CY27:DA27),"") | DF27: =IFERROR(AVERAGE(DC27:DE27),"") | DJ27: =IFERROR(AVERAGE(DG27:DI27),"") | DN27: =IFERROR(AVERAGE(DK27:DM27),"") | DR27: =IFERROR(AVERAGE(DO27:DQ27),"") | DV27: =IFERROR(AVERAGE(DS27:DU27),"") | EA27: =IFERROR(AVERAGE(D27,H27,L27,P27,T27,X27,AB27,AF27,AJ27,AN27,AR27,AV27,AZ27,BD27,BH27,BL27,BP27,BT27,BX27,CB27,CF27,CJ27,CN27,CR27,CV27,CZ27,DD27,DH27,DL27,DP27,DT27),"") | EB27: =IFERROR(AVERAGE(E27,I27,M27,Q27,U27,Y27,AC27,AG27,AK27,AO27,AS27,AW27,BA27,BE27,BI27,BM27,BQ27,BU27,BY27,CC27,CG27,CK27,CO27,CS27,CW27,DA27,DE27,DI27,DM27,DQ27,DU27),"") | EC27: =IFERROR(AVERAGE(DW27:EB27),"")
A28: Makeup | B28: 15 | F28: =IFERROR(AVERAGE(C28:E28),"") | J28: =IFERROR(AVERAGE(G28:I28),"") | N28: =IFERROR(AVERAGE(K28:M28),"") | R28: =IFERROR(AVERAGE(O28:Q28),"") | V28: =IFERROR(AVERAGE(S28:U28),"") | Z28: =IFERROR(AVERAGE(W28:Y28),"") | AD28: =IFERROR(AVERAGE(AA28:AC28),"") | AH28: =IFERROR(AVERAGE(AE28:AG28),"") | AL28: =IFERROR(AVERAGE(AI28:AK28),"") | AP28: =IFERROR(AVERAGE(AM28:AO28),"") | AT28: =IFERROR(AVERAGE(AQ28:AS28),"") | AX28: =IFERROR(AVERAGE(AU28:AW28),"") | BB28: =IFERROR(AVERAGE(AY28:BA28),"") | BF28: =IFERROR(AVERAGE(BC28:BE28),"") | BJ28: =IFERROR(AVERAGE(BG28:BI28),"") | BN28: =IFERROR(AVERAGE(BK28:BM28),"") | BR28: =IFERROR(AVERAGE(BO28:BQ28),"") | BV28: =IFERROR(AVERAGE(BS28:BU28),"") | BZ28: =IFERROR(AVERAGE(BW28:BY28),"") | CD28: =IFERROR(AVERAGE(CA28:CC28),"") | CH28: =IFERROR(AVERAGE(CE28:CG28),"") | CL28: =IFERROR(AVERAGE(CI28:CK28),"") | CP28: =IFERROR(AVERAGE(CM28:CO28),"") | CT28: =IFERROR(AVERAGE(CQ28:CS28),"") | CX28: =IFERROR(AVERAGE(CU28:CW28),"") | DB28: =IFERROR(AVERAGE(CY28:DA28),"") | DF28: =IFERROR(AVERAGE(DC28:DE28),"") | DJ28: =IFERROR(AVERAGE(DG28:DI28),"") | DN28: =IFERROR(AVERAGE(DK28:DM28),"") | DR28: =IFERROR(AVERAGE(DO28:DQ28),"") | DV28: =IFERROR(AVERAGE(DS28:DU28),"") | EA28: =IFERROR(AVERAGE(D28,H28,L28,P28,T28,X28,AB28,AF28,AJ28,AN28,AR28,AV28,AZ28,BD28,BH28,BL28,BP28,BT28,BX28,CB28,CF28,CJ28,CN28,CR28,CV28,CZ28,DD28,DH28,DL28,DP28,DT28),"") | EB28: =IFERROR(AVERAGE(E28,I28,M28,Q28,U28,Y28,AC28,AG28,AK28,AO28,AS28,AW28,BA28,BE28,BI28,BM28,BQ28,BU28,BY28,CC28,CG28,CK28,CO28,CS28,CW28,DA28,DE28,DI28,DM28,DQ28,DU28),"") | EC28: =IFERROR(AVERAGE(DW28:EB28),"")
A29: Uniform | B29: 10 | F29: =IFERROR(AVERAGE(C29:E29),"") | J29: =IFERROR(AVERAGE(G29:I29),"") | N29: =IFERROR(AVERAGE(K29:M29),"") | R29: =IFERROR(AVERAGE(O29:Q29),"") | V29: =IFERROR(AVERAGE(S29:U29),"") | Z29: =IFERROR(AVERAGE(W29:Y29),"") | AD29: =IFERROR(AVERAGE(AA29:AC29),"") | AH29: =IFERROR(AVERAGE(AE29:AG29),"") | AL29: =IFERROR(AVERAGE(AI29:AK29),"") | AP29: =IFERROR(AVERAGE(AM29:AO29),"") | AT29: =IFERROR(AVERAGE(AQ29:AS29),"") | AX29: =IFERROR(AVERAGE(AU29:AW29),"") | BB29: =IFERROR(AVERAGE(AY29:BA29),"") | BF29: =IFERROR(AVERAGE(BC29:BE29),"") | BJ29: =IFERROR(AVERAGE(BG29:BI29),"") | BN29: =IFERROR(AVERAGE(BK29:BM29),"") | BR29: =IFERROR(AVERAGE(BO29:BQ29),"") | BV29: =IFERROR(AVERAGE(BS29:BU29),"") | BZ29: =IFERROR(AVERAGE(BW29:BY29),"") | CD29: =IFERROR(AVERAGE(CA29:CC29),"") | CH29: =IFERROR(AVERAGE(CE29:CG29),"") | CL29: =IFERROR(AVERAGE(CI29:CK29),"") | CP29: =IFERROR(AVERAGE(CM29:CO29),"") | CT29: =IFERROR(AVERAGE(CQ29:CS29),"") | CX29: =IFERROR(AVERAGE(CU29:CW29),"") | DB29: =IFERROR(AVERAGE(CY29:DA29),"") | DF29: =IFERROR(AVERAGE(DC29:DE29),"") | DJ29: =IFERROR(AVERAGE(DG29:DI29),"") | DN29: =IFERROR(AVERAGE(DK29:DM29),"") | DR29: =IFERROR(AVERAGE(DO29:DQ29),"") | DV29: =IFERROR(AVERAGE(DS29:DU29),"") | EA29: =IFERROR(AVERAGE(D29,H29,L29,P29,T29,X29,AB29,AF29,AJ29,AN29,AR29,AV29,AZ29,BD29,BH29,BL29,BP29,BT29,BX29,CB29,CF29,CJ29,CN29,CR29,CV29,CZ29,DD29,DH29,DL29,DP29,DT29),"") | EB29: =IFERROR(AVERAGE(E29,I29,M29,Q29,U29,Y29,AC29,AG29,AK29,AO29,AS29,AW29,BA29,BE29,BI29,BM29,BQ29,BU29,BY29,CC29,CG29,CK29,CO29,CS29,CW29,DA29,DE29,DI29,DM29,DQ29,DU29),"") | EC29: =IFERROR(AVERAGE(DW29:EB29),"")
A30: Total | B30: 100 | C30: =IFERROR(SUM(C23:C29),"") | D30: =IFERROR(SUM(D23:D29),"") | E30: =IFERROR(SUM(E23:E29),"") | F30: =IFERROR(SUM(F23:F29),"") | G30: =IFERROR(SUM(G23:G29),"") | H30: =IFERROR(SUM(H23:H29),"") | I30: =IFERROR(SUM(I23:I29),"") | J30: =IFERROR(SUM(J23:J29),"") | ... DV30: =IFERROR(SUM(DV23:DV29),"") | EA30: =IFERROR(SUM(EA23:EA29),"") | EB30: =IFERROR(SUM(EB23:EB29),"") | EC30: =IFERROR(SUM(EC23:EC29),"")
A32: [Person_3] | B32: % | C32: =C$2 | D32: =D$2 | E32: =E$2 | F32: Avg | G32: =G$2 | H32: =H$2 | I32: =I$2 | J32: Avg | K32: =K$2 | L32: =L$2 | M32: =M$2 | N32: Avg | O32: =O$2 | P32: =P$2 | Q32: =Q$2 | R32: Avg | S32: =S$2 | T32: =T$2 | U32: =U$2 | V32: Avg | W32: =W$2 | X32: =X$2 | Y32: =Y$2 | Z32: Avg | AA32: =AA$2 | AB32: =AB$2 | AC32: =AC$2 | AD32: Avg | AE32: =AE$2 | AF32: =AF$2 | AG32: =AG$2 | AH32: Avg | AI32: =AI$2 | AJ32: =AJ$2 | AK32: =AK$2 | AL32: Avg | AM32: =AM$2 | AN32: =AN$2 | AO32: =AO$2 | AP32: Avg | AQ32: =AQ$2 | AR32: =AR$2 | AS32: =AS$2 | AT32: Avg | AU32: =AU$2 | AV32: =AV$2 | AW32: =AW$2 | AX32: Avg | AY32: =AY$2 | AZ32: =AZ$2 | BA32: =BA$2 | BB32: Avg | BC32: =BC$2 | BD32: =BD$2 | BE32: =BE$2 | BF32: Avg | BG32: =BG$2 | BH32: =BH$2 | BI32: =BI$2 | BJ32: Avg | BK32: =BK$2 | BL32: =BL$2 | BM32: =BM$2 | BN32: Avg | BO32: =BO$2 | BP32: =BP$2 | BQ32: =BQ$2 | BR32: Avg | BS32: =BS$2 | BT32: =BT$2 | BU32: =BU$2 | BV32: Avg | BW32: =BW$2 | BX32: =BX$2 | BY32: =BY$2 | BZ32: Avg | CA32: =CA$2 | CB32: =CB$2 | CC32: =CC$2 | CD32: Avg | CE32: =CE$2 | CF32: =CF$2 | CG32: =CG$2 | CH32: Avg | CI32: =CI$2 | CJ32: =CJ$2 | CK32: =CK$2 | CL32: Avg | CM32: =CM$2 | CN32: =CN$2 | CO32: =CO$2 | CP32: Avg | CQ32: =CQ$2 | CR32: =CR$2 | CS32: =CS$2 | CT32: Avg | CU32: =CU$2 | CV32: =CV$2 | CW32: =CW$2 | CX32: Avg | CY32: =CY$2 | CZ32: =CZ$2 | DA32: =DA$2 | DB32: Avg | DC32: =DC$2 | DD32: =DD$2 | DE32: =DE$2 | DF32: Avg | DG32: =DG$2 | DH32: =DH$2 | DI32: =DI$2 | DJ32: Avg | DK32: =DK$2 | DL32: =DL$2 | DM32: =DM$2 | DN32: Avg | DO32: =DO$2 | DP32: =DP$2 | DQ32: =DQ$2 | DR32: Avg | DS32: =DS$2 | DT32: =DT$2 | DU32: =DU$2 | DV32: Avg | DW32: K | DX32: M | DY32: G | DZ32: J | EA32: Y | EB32: C | EC32: Avg
A33: [Person_2] | B33: 20 | F33: =IFERROR(AVERAGE(C33:E33),"") | J33: =IFERROR(AVERAGE(G33:I33),"") | N33: =IFERROR(AVERAGE(K33:M33),"") | R33: =IFERROR(AVERAGE(O33:Q33),"") | V33: =IFERROR(AVERAGE(S33:U33),"") | Z33: =IFERROR(AVERAGE(W33:Y33),"") | AD33: =IFERROR(AVERAGE(AA33:AC33),"") | AH33: =IFERROR(AVERAGE(AE33:AG33),"") | AL33: =IFERROR(AVERAGE(AI33:AK33),"") | AP33: =IFERROR(AVERAGE(AM33:AO33),"") | AT33: =IFERROR(AVERAGE(AQ33:AS33),"") | AX33: =IFERROR(AVERAGE(AU33:AW33),"") | BB33: =IFERROR(AVERAGE(AY33:BA33),"") | BF33: =IFERROR(AVERAGE(BC33:BE33),"") | BJ33: =IFERROR(AVERAGE(BG33:BI33),"") | BN33: =IFERROR(AVERAGE(BK33:BM33),"") | BR33: =IFERROR(AVERAGE(BO33:BQ33),"") | BV33: =IFERROR(AVERAGE(BS33:BU33),"") | BZ33: =IFERROR(AVERAGE(BW33:BY33),"") | CD33: =IFERROR(AVERAGE(CA33:CC33),"") | CH33: =IFERROR(AVERAGE(CE33:CG33),"") | CL33: =IFERROR(AVERAGE(CI33:CK33),"") | CP33: =IFERROR(AVERAGE(CM33:CO33),"") | CT33: =IFERROR(AVERAGE(CQ33:CS33),"") | CX33: =IFERROR(AVERAGE(CU33:CW33),"") | DB33: =IFERROR(AVERAGE(CY33:DA33),"") | DF33: =IFERROR(AVERAGE(DC33:DE33),"") | DJ33: =IFERROR(AVERAGE(DG33:DI33),"") | DN33: =IFERROR(AVERAGE(DK33:DM33),"") | DR33: =IFERROR(AVERAGE(DO33:DQ33),"") | DV33: =IFERROR(AVERAGE(DS33:DU33),"") | EA33: =IFERROR(AVERAGE(D33,H33,L33,P33,T33,X33,AB33,AF33,AJ33,AN33,AR33,AV33,AZ33,BD33,BH33,BL33,BP33,BT33,BX33,CB33,CF33,CJ33,CN33,CR33,CV33,CZ33,DD33,DH33,DL33,DP33,DT33),"") | EB33: =IFERROR(AVERAGE(E33,I33,M33,Q33,U33,Y33,AC33,AG33,AK33,AO33,AS33,AW33,BA33,BE33,BI33,BM33,BQ33,BU33,BY33,CC33,CG33,CK33,CO33,CS33,CW33,DA33,DE33,DI33,DM33,DQ33,DU33),"") | EC33: =IFERROR(AVERAGE(DW33:EB33),"")
A34: Assist Guests VIP/Lift | B34: 10 | F34: =IFERROR(AVERAGE(C34:E34),"") | J34: =IFERROR(AVERAGE(G34:I34),"") | N34: =IFERROR(AVERAGE(K34:M34),"") | R34: =IFERROR(AVERAGE(O34:Q34),"") | V34: =IFERROR(AVERAGE(S34:U34),"") | Z34: =IFERROR(AVERAGE(W34:Y34),"") | AD34: =IFERROR(AVERAGE(AA34:AC34),"") | AH34: =IFERROR(AVERAGE(AE34:AG34),"") | AL34: =IFERROR(AVERAGE(AI34:AK34),"") | AP34: =IFERROR(AVERAGE(AM34:AO34),"") | AT34: =IFERROR(AVERAGE(AQ34:AS34),"") | AX34: =IFERROR(AVERAGE(AU34:AW34),"") | BB34: =IFERROR(AVERAGE(AY34:BA34),"") | BF34: =IFERROR(AVERAGE(BC34:BE34),"") | BJ34: =IFERROR(AVERAGE(BG34:BI34),"") | BN34: =IFERROR(AVERAGE(BK34:BM34),"") | BR34: =IFERROR(AVERAGE(BO34:BQ34),"") | BV34: =IFERROR(AVERAGE(BS34:BU34),"") | BZ34: =IFERROR(AVERAGE(BW34:BY34),"") | CD34: =IFERROR(AVERAGE(CA34:CC34),"") | CH34: =IFERROR(AVERAGE(CE34:CG34),"") | CL34: =IFERROR(AVERAGE(CI34:CK34),"") | CP34: =IFERROR(AVERAGE(CM34:CO34),"") | CT34: =IFERROR(AVERAGE(CQ34:CS34),"") | CX34: =IFERROR(AVERAGE(CU34:CW34),"") | DB34: =IFERROR(AVERAGE(CY34:DA34),"") | DF34: =IFERROR(AVERAGE(DC34:DE34),"") | DJ34: =IFERROR(AVERAGE(DG34:DI34),"") | DN34: =IFERROR(AVERAGE(DK34:DM34),"") | DR34: =IFERROR(AVERAGE(DO34:DQ34),"") | DV34: =IFERROR(AVERAGE(DS34:DU34),"") | EA34: =IFERROR(AVERAGE(D34,H34,L34,P34,T34,X34,AB34,AF34,AJ34,AN34,AR34,AV34,AZ34,BD34,BH34,BL34,BP34,BT34,BX34,CB34,CF34,CJ34,CN34,CR34,CV34,CZ34,DD34,DH34,DL34,DP34,DT34),"") | EB34: =IFERROR(AVERAGE(E34,I34,M34,Q34,U34,Y34,AC34,AG34,AK34,AO34,AS34,AW34,BA34,BE34,BI34,BM34,BQ34,BU34,BY34,CC34,CG34,CK34,CO34,CS34,CW34,DA34,DE34,DI34,DM34,DQ34,DU34),"") | EC34: =IFERROR(AVERAGE(DW34:EB34),"")
A35: Posture & Body Language | B35: 10 | F35: =IFERROR(AVERAGE(C35:E35),"") | J35: =IFERROR(AVERAGE(G35:I35),"") | N35: =IFERROR(AVERAGE(K35:M35),"") | R35: =IFERROR(AVERAGE(O35:Q35),"") | V35: =IFERROR(AVERAGE(S35:U35),"") | Z35: =IFERROR(AVERAGE(W35:Y35),"") | AD35: =IFERROR(AVERAGE(AA35:AC35),"") | AH35: =IFERROR(AVERAGE(AE35:AG35),"") | AL35: =IFERROR(AVERAGE(AI35:AK35),"") | AP35: =IFERROR(AVERAGE(AM35:AO35),"") | AT35: =IFERROR(AVERAGE(AQ35:AS35),"") | AX35: =IFERROR(AVERAGE(AU35:AW35),"") | BB35: =IFERROR(AVERAGE(AY35:BA35),"") | BF35: =IFERROR(AVERAGE(BC35:BE35),"") | BJ35: =IFERROR(AVERAGE(BG35:BI35),"") | BN35: =IFERROR(AVERAGE(BK35:BM35),"") | BR35: =IFERROR(AVERAGE(BO35:BQ35),"") | BV35: =IFERROR(AVERAGE(BS35:BU35),"") | BZ35: =IFERROR(AVERAGE(BW35:BY35),"") | CD35: =IFERROR(AVERAGE(CA35:CC35),"") | CH35: =IFERROR(AVERAGE(CE35:CG35),"") | CL35: =IFERROR(AVERAGE(CI35:CK35),"") | CP35: =IFERROR(AVERAGE(CM35:CO35),"") | CT35: =IFERROR(AVERAGE(CQ35:CS35),"") | CX35: =IFERROR(AVERAGE(CU35:CW35),"") | DB35: =IFERROR(AVERAGE(CY35:DA35),"") | DF35: =IFERROR(AVERAGE(DC35:DE35),"") | DJ35: =IFERROR(AVERAGE(DG35:DI35),"") | DN35: =IFERROR(AVERAGE(DK35:DM35),"") | DR35: =IFERROR(AVERAGE(DO35:DQ35),"") | DV35: =IFERROR(AVERAGE(DS35:DU35),"") | EA35: =IFERROR(AVERAGE(D35,H35,L35,P35,T35,X35,AB35,AF35,AJ35,AN35,AR35,AV35,AZ35,BD35,BH35,BL35,BP35,BT35,BX35,CB35,CF35,CJ35,CN35,CR35,CV35,CZ35,DD35,DH35,DL35,DP35,DT35),"") | EB35: =IFERROR(AVERAGE(E35,I35,M35,Q35,U35,Y35,AC35,AG35,AK35,AO35,AS35,AW35,BA35,BE35,BI35,BM35,BQ35,BU35,BY35,CC35,CG35,CK35,CO35,CS35,CW35,DA35,DE35,DI35,DM35,DQ35,DU35),"") | EC35: =IFERROR(AVERAGE(DW35:EB35),"")
A36: Knowledge of Hotel & Events | B36: 20 | F36: =IFERROR(AVERAGE(C36:E36),"") | J36: =IFERROR(AVERAGE(G36:I36),"") | N36: =IFERROR(AVERAGE(K36:M36),"") | R36: =IFERROR(AVERAGE(O36:Q36),"") | V36: =IFERROR(AVERAGE(S36:U36),"") | Z36: =IFERROR(AVERAGE(W36:Y36),"") | AD36: =IFERROR(AVERAGE(AA36:AC36),"") | AH36: =IFERROR(AVERAGE(AE36:AG36),"") | AL36: =IFERROR(AVERAGE(AI36:AK36),"") | AP36: =IFERROR(AVERAGE(AM36:AO36),"") | AT36: =IFERROR(AVERAGE(AQ36:AS36),"") | AX36: =IFERROR(AVERAGE(AU36:AW36),"") | BB36: =IFERROR(AVERAGE(AY36:BA36),"") | BF36: =IFERROR(AVERAGE(BC36:BE36),"") | BJ36: =IFERROR(AVERAGE(BG36:BI36),"") | BN36: =IFERROR(AVERAGE(BK36:BM36),"") | BR36: =IFERROR(AVERAGE(BO36:BQ36),"") | BV36: =IFERROR(AVERAGE(BS36:BU36),"") | BZ36: =IFERROR(AVERAGE(BW36:BY36),"") | CD36: =IFERROR(AVERAGE(CA36:CC36),"") | CH36: =IFERROR(AVERAGE(CE36:CG36),"") | CL36: =IFERROR(AVERAGE(CI36:CK36),"") | CP36: =IFERROR(AVERAGE(CM36:CO36),"") | CT36: =IFERROR(AVERAGE(CQ36:CS36),"") | CX36: =IFERROR(AVERAGE(CU36:CW36),"") | DB36: =IFERROR(AVERAGE(CY36:DA36),"") | DF36: =IFERROR(AVERAGE(DC36:DE36),"") | DJ36: =IFERROR(AVERAGE(DG36:DI36),"") | DN36: =IFERROR(AVERAGE(DK36:DM36),"") | DR36: =IFERROR(AVERAGE(DO36:DQ36),"") | DV36: =IFERROR(AVERAGE(DS36:DU36),"") | EA36: =IFERROR(AVERAGE(D36,H36,L36,P36,T36,X36,AB36,AF36,AJ36,AN36,AR36,AV36,AZ36,BD36,BH36,BL36,BP36,BT36,BX36,CB36,CF36,CJ36,CN36,CR36,CV36,CZ36,DD36,DH36,DL36,DP36,DT36),"") | EB36: =IFERROR(AVERAGE(E36,I36,M36,Q36,U36,Y36,AC36,AG36,AK36,AO36,AS36,AW36,BA36,BE36,BI36,BM36,BQ36,BU36,BY36,CC36,CG36,CK36,CO36,CS36,CW36,DA36,DE36,DI36,DM36,DQ36,DU36),"") | EC36: =IFERROR(AVERAGE(DW36:EB36),"")
A37: Hair | B37: 15 | F37: =IFERROR(AVERAGE(C37:E37),"") | J37: =IFERROR(AVERAGE(G37:I37),"") | N37: =IFERROR(AVERAGE(K37:M37),"") | R37: =IFERROR(AVERAGE(O37:Q37),"") | V37: =IFERROR(AVERAGE(S37:U37),"") | Z37: =IFERROR(AVERAGE(W37:Y37),"") | AD37: =IFERROR(AVERAGE(AA37:AC37),"") | AH37: =IFERROR(AVERAGE(AE37:AG37),"") | AL37: =IFERROR(AVERAGE(AI37:AK37),"") | AP37: =IFERROR(AVERAGE(AM37:AO37),"") | AT37: =IFERROR(AVERAGE(AQ37:AS37),"") | AX37: =IFERROR(AVERAGE(AU37:AW37),"") | BB37: =IFERROR(AVERAGE(AY37:BA37),"") | BF37: =IFERROR(AVERAGE(BC37:BE37),"") | BJ37: =IFERROR(AVERAGE(BG37:BI37),"") | BN37: =IFERROR(AVERAGE(BK37:BM37),"") | BR37: =IFERROR(AVERAGE(BO37:BQ37),"") | BV37: =IFERROR(AVERAGE(BS37:BU37),"") | BZ37: =IFERROR(AVERAGE(BW37:BY37),"") | CD37: =IFERROR(AVERAGE(CA37:CC37),"") | CH37: =IFERROR(AVERAGE(CE37:CG37),"") | CL37: =IFERROR(AVERAGE(CI37:CK37),"") | CP37: =IFERROR(AVERAGE(CM37:CO37),"") | CT37: =IFERROR(AVERAGE(CQ37:CS37),"") | CX37: =IFERROR(AVERAGE(CU37:CW37),"") | DB37: =IFERROR(AVERAGE(CY37:DA37),"") | DF37: =IFERROR(AVERAGE(DC37:DE37),"") | DJ37: =IFERROR(AVERAGE(DG37:DI37),"") | DN37: =IFERROR(AVERAGE(DK37:DM37),"") | DR37: =IFERROR(AVERAGE(DO37:DQ37),"") | DV37: =IFERROR(AVERAGE(DS37:DU37),"") | EA37: =IFERROR(AVERAGE(D37,H37,L37,P37,T37,X37,AB37,AF37,AJ37,AN37,AR37,AV37,AZ37,BD37,BH37,BL37,BP37,BT37,BX37,CB37,CF37,CJ37,CN37,CR37,CV37,CZ37,DD37,DH37,DL37,DP37,DT37),"") | EB37: =IFERROR(AVERAGE(E37,I37,M37,Q37,U37,Y37,AC37,AG37,AK37,AO37,AS37,AW37,BA37,BE37,BI37,BM37,BQ37,BU37,BY37,CC37,CG37,CK37,CO37,CS37,CW37,DA37,DE37,DI37,DM37,DQ37,DU37),"") | EC37: =IFERROR(AVERAGE(DW37:EB37),"")
A38: Makeup | B38: 15 | F38: =IFERROR(AVERAGE(C38:E38),"") | J38: =IFERROR(AVERAGE(G38:I38),"") | N38: =IFERROR(AVERAGE(K38:M38),"") | R38: =IFERROR(AVERAGE(O38:Q38),"") | V38: =IFERROR(AVERAGE(S38:U38),"") | Z38: =IFERROR(AVERAGE(W38:Y38),"") | AD38: =IFERROR(AVERAGE(AA38:AC38),"") | AH38: =IFERROR(AVERAGE(AE38:AG38),"") | AL38: =IFERROR(AVERAGE(AI38:AK38),"") | AP38: =IFERROR(AVERAGE(AM38:AO38),"") | AT38: =IFERROR(AVERAGE(AQ38:AS38),"") | AX38: =IFERROR(AVERAGE(AU38:AW38),"") | BB38: =IFERROR(AVERAGE(AY38:BA38),"") | BF38: =IFERROR(AVERAGE(BC38:BE38),"") | BJ38: =IFERROR(AVERAGE(BG38:BI38),"") | BN38: =IFERROR(AVERAGE(BK38:BM38),"") | BR38: =IFERROR(AVERAGE(BO38:BQ38),"") | BV38: =IFERROR(AVERAGE(BS38:BU38),"") | BZ38: =IFERROR(AVERAGE(BW38:BY38),"") | CD38: =IFERROR(AVERAGE(CA38:CC38),"") | CH38: =IFERROR(AVERAGE(CE38:CG38),"") | CL38: =IFERROR(AVERAGE(CI38:CK38),"") | CP38: =IFERROR(AVERAGE(CM38:CO38),"") | CT38: =IFERROR(AVERAGE(CQ38:CS38),"") | CX38: =IFERROR(AVERAGE(CU38:CW38),"") | DB38: =IFERROR(AVERAGE(CY38:DA38),"") | DF38: =IFERROR(AVERAGE(DC38:DE38),"") | DJ38: =IFERROR(AVERAGE(DG38:DI38),"") | DN38: =IFERROR(AVERAGE(DK38:DM38),"") | DR38: =IFERROR(AVERAGE(DO38:DQ38),"") | DV38: =IFERROR(AVERAGE(DS38:DU38),"") | EA38: =IFERROR(AVERAGE(D38,H38,L38,P38,T38,X38,AB38,AF38,AJ38,AN38,AR38,AV38,AZ38,BD38,BH38,BL38,BP38,BT38,BX38,CB38,CF38,CJ38,CN38,CR38,CV38,CZ38,DD38,DH38,DL38,DP38,DT38),"") | EB38: =IFERROR(AVERAGE(E38,I38,M38,Q38,U38,Y38,AC38,AG38,AK38,AO38,AS38,AW38,BA38,BE38,BI38,BM38,BQ38,BU38,BY38,CC38,CG38,CK38,CO38,CS38,CW38,DA38,DE38,DI38,DM38,DQ38,DU38),"") | EC38: =IFERROR(AVERAGE(DW38:EB38),"")
A39: Uniform | B39: 10 | F39: =IFERROR(AVERAGE(C39:E39),"") | J39: =IFERROR(AVERAGE(G39:I39),"") | N39: =IFERROR(AVERAGE(K39:M39),"") | R39: =IFERROR(AVERAGE(O39:Q39),"") | V39: =IFERROR(AVERAGE(S39:U39),"") | Z39: =IFERROR(AVERAGE(W39:Y39),"") | AD39: =IFERROR(AVERAGE(AA39:AC39),"") | AH39: =IFERROR(AVERAGE(AE39:AG39),"") | AL39: =IFERROR(AVERAGE(AI39:AK39),"") | AP39: =IFERROR(AVERAGE(AM39:AO39),"") | AT39: =IFERROR(AVERAGE(AQ39:AS39),"") | AX39: =IFERROR(AVERAGE(AU39:AW39),"") | BB39: =IFERROR(AVERAGE(AY39:BA39),"") | BF39: =IFERROR(AVERAGE(BC39:BE39),"") | BJ39: =IFERROR(AVERAGE(BG39:BI39),"") | BN39: =IFERROR(AVERAGE(BK39:BM39),"") | BR39: =IFERROR(AVERAGE(BO39:BQ39),"") | BV39: =IFERROR(AVERAGE(BS39:BU39),"") | BZ39: =IFERROR(AVERAGE(BW39:BY39),"") | CD39: =IFERROR(AVERAGE(CA39:CC39),"") | CH39: =IFERROR(AVERAGE(CE39:CG39),"") | CL39: =IFERROR(AVERAGE(CI39:CK39),"") | CP39: =IFERROR(AVERAGE(CM39:CO39),"") | CT39: =IFERROR(AVERAGE(CQ39:CS39),"") | CX39: =IFERROR(AVERAGE(CU39:CW39),"") | DB39: =IFERROR(AVERAGE(CY39:DA39),"") | DF39: =IFERROR(AVERAGE(DC39:DE39),"") | DJ39: =IFERROR(AVERAGE(DG39:DI39),"") | DN39: =IFERROR(AVERAGE(DK39:DM39),"") | DR39: =IFERROR(AVERAGE(DO39:DQ39),"") | DV39: =IFERROR(AVERAGE(DS39:DU39),"") | EA39: =IFERROR(AVERAGE(D39,H39,L39,P39,T39,X39,AB39,AF39,AJ39,AN39,AR39,AV39,AZ39,BD39,BH39,BL39,BP39,BT39,BX39,CB39,CF39,CJ39,CN39,CR39,CV39,CZ39,DD39,DH39,DL39,DP39,DT39),"") | EB39: =IFERROR(AVERAGE(E39,I39,M39,Q39,U39,Y39,AC39,AG39,AK39,AO39,AS39,AW39,BA39,BE39,BI39,BM39,BQ39,BU39,BY39,CC39,CG39,CK39,CO39,CS39,CW39,DA39,DE39,DI39,DM39,DQ39,DU39),"") | EC39: =IFERROR(AVERAGE(DW39:EB39),"")
A40: Total | B40: 100 | C40: =IFERROR(SUM(C33:C39),"") | D40: =IFERROR(SUM(D33:D39),"") | E40: =IFERROR(SUM(E33:E39),"") | F40: =IFERROR(SUM(F33:F39),"") | G40: =IFERROR(SUM(G33:G39),"") | H40: =IFERROR(SUM(H33:H39),"") | I40: =IFERROR(SUM(I33:I39),"") | J40: =IFERROR(SUM(J33:J39),"") | ... DV40: =IFERROR(SUM(DV33:DV39),"") | EA40: =IFERROR(SUM(EA33:EA39),"") | EB40: =IFERROR(SUM(EB33:EB39),"") | EC40: =IFERROR(SUM(EC33:EC39),"")
A42: Jedah | B42: % | C42: =C$2 | D42: =D$2 | E42: =E$2 | F42: Avg | G42: =G$2 | H42: =H$2 | I42: =I$2 | J42: Avg | K42: =K$2 | L42: =L$2 | M42: =M$2 | N42: Avg | O42: =O$2 | P42: =P$2 | Q42: =Q$2 | R42: Avg | S42: =S$2 | T42: =T$2 | U42: =U$2 | V42: Avg | W42: =W$2 | X42: =X$2 | Y42: =Y$2 | Z42: Avg | AA42: =AA$2 | AB42: =AB$2 | AC42: =AC$2 | AD42: Avg | AE42: =AE$2 | AF42: =AF$2 | AG42: =AG$2 | AH42: Avg | AI42: =AI$2 | AJ42: =AJ$2 | AK42: =AK$2 | AL42: Avg | AM42: =AM$2 | AN42: =AN$2 | AO42: =AO$2 | AP42: Avg | AQ42: =AQ$2 | AR42: =AR$2 | AS42: =AS$2 | AT42: Avg | AU42: =AU$2 | AV42: =AV$2 | AW42: =AW$2 | AX42: Avg | AY42: =AY$2 | AZ42: =AZ$2 | BA42: =BA$2 | BB42: Avg | BC42: =BC$2 | BD42: =BD$2 | BE42: =BE$2 | BF42: Avg | BG42: =BG$2 | BH42: =BH$2 | BI42: =BI$2 | BJ42: Avg | BK42: =BK$2 | BL42: =BL$2 | BM42: =BM$2 | BN42: Avg | BO42: =BO$2 | BP42: =BP$2 | BQ42: =BQ$2 | BR42: Avg | BS42: =BS$2 | BT42: =BT$2 | BU42: =BU$2 | BV42: Avg | BW42: =BW$2 | BX42: =BX$2 | BY42: =BY$2 | BZ42: Avg | CA42: =CA$2 | CB42: =CB$2 | CC42: =CC$2 | CD42: Avg | CE42: =CE$2 | CF42: =CF$2 | CG42: =CG$2 | CH42: Avg | CI42: =CI$2 | CJ42: =CJ$2 | CK42: =CK$2 | CL42: Avg | CM42: =CM$2 | CN42: =CN$2 | CO42: =CO$2 | CP42: Avg | CQ42: =CQ$2 | CR42: =CR$2 | CS42: =CS$2 | CT42: Avg | CU42: =CU$2 | CV42: =CV$2 | CW42: =CW$2 | CX42: Avg | CY42: =CY$2 | CZ42: =CZ$2 | DA42: =DA$2 | DB42: Avg | DC42: =DC$2 | DD42: =DD$2 | DE42: =DE$2 | DF42: Avg | DG42: =DG$2 | DH42: =DH$2 | DI42: =DI$2 | DJ42: Avg | DK42: =DK$2 | DL42: =DL$2 | DM42: =DM$2 | DN42: Avg | DO42: =DO$2 | DP42: =DP$2 | DQ42: =DQ$2 | DR42: Avg | DS42: =DS$2 | DT42: =DT$2 | DU42: =DU$2 | DV42: Avg | DW42: K | DX42: M | DY42: G | DZ42: J | EA42: Y | EB42: C | EC42: Avg
A43: [Person_2] | B43: 20 | F43: =IFERROR(AVERAGE(C43:E43),"") | J43: =IFERROR(AVERAGE(G43:I43),"") | N43: =IFERROR(AVERAGE(K43:M43),"") | R43: =IFERROR(AVERAGE(O43:Q43),"") | V43: =IFERROR(AVERAGE(S43:U43),"") | Z43: =IFERROR(AVERAGE(W43:Y43),"") | AD43: =IFERROR(AVERAGE(AA43:AC43),"") | AH43: =IFERROR(AVERAGE(AE43:AG43),"") | AL43: =IFERROR(AVERAGE(AI43:AK43),"") | AP43: =IFERROR(AVERAGE(AM43:AO43),"") | AT43: =IFERROR(AVERAGE(AQ43:AS43),"") | AX43: =IFERROR(AVERAGE(AU43:AW43),"") | BB43: =IFERROR(AVERAGE(AY43:BA43),"") | BF43: =IFERROR(AVERAGE(BC43:BE43),"") | BJ43: =IFERROR(AVERAGE(BG43:BI43),"") | BN43: =IFERROR(AVERAGE(BK43:BM43),"") | BR43: =IFERROR(AVERAGE(BO43:BQ43),"") | BV43: =IFERROR(AVERAGE(BS43:BU43),"") | BZ43: =IFERROR(AVERAGE(BW43:BY43),"") | CD43: =IFERROR(AVERAGE(CA43:CC43),"") | CH43: =IFERROR(AVERAGE(CE43:CG43),"") | CL43: =IFERROR(AVERAGE(CI43:CK43),"") | CP43: =IFERROR(AVERAGE(CM43:CO43),"") | CT43: =IFERROR(AVERAGE(CQ43:CS43),"") | CX43: =IFERROR(AVERAGE(CU43:CW43),"") | DB43: =IFERROR(AVERAGE(CY43:DA43),"") | DF43: =IFERROR(AVERAGE(DC43:DE43),"") | DJ43: =IFERROR(AVERAGE(DG43:DI43),"") | DN43: =IFERROR(AVERAGE(DK43:DM43),"") | DR43: =IFERROR(AVERAGE(DO43:DQ43),"") | DV43: =IFERROR(AVERAGE(DS43:DU43),"") | EA43: =IFERROR(AVERAGE(D43,H43,L43,P43,T43,X43,AB43,AF43,AJ43,AN43,AR43,AV43,AZ43,BD43,BH43,BL43,BP43,BT43,BX43,CB43,CF43,CJ43,CN43,CR43,CV43,CZ43,DD43,DH43,DL43,DP43,DT43),"") | EB43: =IFERROR(AVERAGE(E43,I43,M43,Q43,U43,Y43,AC43,AG43,AK43,AO43,AS43,AW43,BA43,BE43,BI43,BM43,BQ43,BU43,BY43,CC43,CG43,CK43,CO43,CS43,CW43,DA43,DE43,DI43,DM43,DQ43,DU43),"") | EC43: =IFERROR(AVERAGE(DW43:EB43),"")
A44: Assist Guests VIP/Lift | B44: 10 | F44: =IFERROR(AVERAGE(C44:E44),"") | J44: =IFERROR(AVERAGE(G44:I44),"") | N44: =IFERROR(AVERAGE(K44:M44),"") | R44: =IFERROR(AVERAGE(O44:Q44),"") | V44: =IFERROR(AVERAGE(S44:U44),"") | Z44: =IFERROR(AVERAGE(W44:Y44),"") | AD44: =IFERROR(AVERAGE(AA44:AC44),"") | AH44: =IFERROR(AVERAGE(AE44:AG44),"") | AL44: =IFERROR(AVERAGE(AI44:AK44),"") | AP44: =IFERROR(AVERAGE(AM44:AO44),"") | AT44: =IFERROR(AVERAGE(AQ44:AS44),"") | AX44: =IFERROR(AVERAGE(AU44:AW44),"") | BB44: =IFERROR(AVERAGE(AY44:BA44),"") | BF44: =IFERROR(AVERAGE(BC44:BE44),"") | BJ44: =IFERROR(AVERAGE(BG44:BI44),"") | BN44: =IFERROR(AVERAGE(BK44:BM44),"") | BR44: =IFERROR(AVERAGE(BO44:BQ44),"") | BV44: =IFERROR(AVERAGE(BS44:BU44),"") | BZ44: =IFERROR(AVERAGE(BW44:BY44),"") | CD44: =IFERROR(AVERAGE(CA44:CC44),"") | CH44: =IFERROR(AVERAGE(CE44:CG44),"") | CL44: =IFERROR(AVERAGE(CI44:CK44),"") | CP44: =IFERROR(AVERAGE(CM44:CO44),"") | CT44: =IFERROR(AVERAGE(CQ44:CS44),"") | CX44: =IFERROR(AVERAGE(CU44:CW44),"") | DB44: =IFERROR(AVERAGE(CY44:DA44),"") | DF44: =IFERROR(AVERAGE(DC44:DE44),"") | DJ44: =IFERROR(AVERAGE(DG44:DI44),"") | DN44: =IFERROR(AVERAGE(DK44:DM44),"") | DR44: =IFERROR(AVERAGE(DO44:DQ44),"") | DV44: =IFERROR(AVERAGE(DS44:DU44),"") | EA44: =IFERROR(AVERAGE(D44,H44,L44,P44,T44,X44,AB44,AF44,AJ44,AN44,AR44,AV44,AZ44,BD44,BH44,BL44,BP44,BT44,BX44,CB44,CF44,CJ44,CN44,CR44,CV44,CZ44,DD44,DH44,DL44,DP44,DT44),"") | EB44: =IFERROR(AVERAGE(E44,I44,M44,Q44,U44,Y44,AC44,AG44,AK44,AO44,AS44,AW44,BA44,BE44,BI44,BM44,BQ44,BU44,BY44,CC44,CG44,CK44,CO44,CS44,CW44,DA44,DE44,DI44,DM44,DQ44,DU44),"") | EC44: =IFERROR(AVERAGE(DW44:EB44),"")
A45: Posture & Body Language | B45: 10 | F45: =IFERROR(AVERAGE(C45:E45),"") | J45: =IFERROR(AVERAGE(G45:I45),"") | N45: =IFERROR(AVERAGE(K45:M45),"") | R45: =IFERROR(AVERAGE(O45:Q45),"") | V45: =IFERROR(AVERAGE(S45:U45),"") | Z45: =IFERROR(AVERAGE(W45:Y45),"") | AD45: =IFERROR(AVERAGE(AA45:AC45),"") | AH45: =IFERROR(AVERAGE(AE45:AG45),"") | AL45: =IFERROR(AVERAGE(AI45:AK45),"") | AP45: =IFERROR(AVERAGE(AM45:AO45),"") | AT45: =IFERROR(AVERAGE(AQ45:AS45),"") | AX45: =IFERROR(AVERAGE(AU45:AW45),"") | BB45: =IFERROR(AVERAGE(AY45:BA45),"") | BF45: =IFERROR(AVERAGE(BC45:BE45),"") | BJ45: =IFERROR(AVERAGE(BG45:BI45),"") | BN45: =IFERROR(AVERAGE(BK45:BM45),"") | BR45: =IFERROR(AVERAGE(BO45:BQ45),"") | BV45: =IFERROR(AVERAGE(BS45:BU45),"") | BZ45: =IFERROR(AVERAGE(BW45:BY45),"") | CD45: =IFERROR(AVERAGE(CA45:CC45),"") | CH45: =IFERROR(AVERAGE(CE45:CG45),"") | CL45: =IFERROR(AVERAGE(CI45:CK45),"") | CP45: =IFERROR(AVERAGE(CM45:CO45),"") | CT45: =IFERROR(AVERAGE(CQ45:CS45),"") | CX45: =IFERROR(AVERAGE(CU45:CW45),"") | DB45: =IFERROR(AVERAGE(CY45:DA45),"") | DF45: =IFERROR(AVERAGE(DC45:DE45),"") | DJ45: =IFERROR(AVERAGE(DG45:DI45),"") | DN45: =IFERROR(AVERAGE(DK45:DM45),"") | DR45: =IFERROR(AVERAGE(DO45:DQ45),"") | DV45: =IFERROR(AVERAGE(DS45:DU45),"") | EA45: =IFERROR(AVERAGE(D45,H45,L45,P45,T45,X45,AB45,AF45,AJ45,AN45,AR45,AV45,AZ45,BD45,BH45,BL45,BP45,BT45,BX45,CB45,CF45,CJ45,CN45,CR45,CV45,CZ45,DD45,DH45,DL45,DP45,DT45),"") | EB45: =IFERROR(AVERAGE(E45,I45,M45,Q45,U45,Y45,AC45,AG45,AK45,AO45,AS45,AW45,BA45,BE45,BI45,BM45,BQ45,BU45,BY45,CC45,CG45,CK45,CO45,CS45,CW45,DA45,DE45,DI45,DM45,DQ45,DU45),"") | EC45: =IFERROR(AVERAGE(DW45:EB45),"")
A46: Knowledge of Hotel & Events | B46: 20 | F46: =IFERROR(AVERAGE(C46:E46),"") | J46: =IFERROR(AVERAGE(G46:I46),"") | N46: =IFERROR(AVERAGE(K46:M46),"") | R46: =IFERROR(AVERAGE(O46:Q46),"") | V46: =IFERROR(AVERAGE(S46:U46),"") | Z46: =IFERROR(AVERAGE(W46:Y46),"") | AD46: =IFERROR(AVERAGE(AA46:AC46),"") | AH46: =IFERROR(AVERAGE(AE46:AG46),"") | AL46: =IFERROR(AVERAGE(AI46:AK46),"") | AP46: =IFERROR(AVERAGE(AM46:AO46),"") | AT46: =IFERROR(AVERAGE(AQ46:AS46),"") | AX46: =IFERROR(AVERAGE(AU46:AW46),"") | BB46: =IFERROR(AVERAGE(AY46:BA46),"") | BF46: =IFERROR(AVERAGE(BC46:BE46),"") | BJ46: =IFERROR(AVERAGE(BG46:BI46),"") | BN46: =IFERROR(AVERAGE(BK46:BM46),"") | BR46: =IFERROR(AVERAGE(BO46:BQ46),"") | BV46: =IFERROR(AVERAGE(BS46:BU46),"") | BZ46: =IFERROR(AVERAGE(BW46:BY46),"") | CD46: =IFERROR(AVERAGE(CA46:CC46),"") | CH46: =IFERROR(AVERAGE(CE46:CG46),"") | CL46: =IFERROR(AVERAGE(CI46:CK46),"") | CP46: =IFERROR(AVERAGE(CM46:CO46),"") | CT46: =IFERROR(AVERAGE(CQ46:CS46),"") | CX46: =IFERROR(AVERAGE(CU46:CW46),"") | DB46: =IFERROR(AVERAGE(CY46:DA46),"") | DF46: =IFERROR(AVERAGE(DC46:DE46),"") | DJ46: =IFERROR(AVERAGE(DG46:DI46),"") | DN46: =IFERROR(AVERAGE(DK46:DM46),"") | DR46: =IFERROR(AVERAGE(DO46:DQ46),"") | DV46: =IFERROR(AVERAGE(DS46:DU46),"") | EA46: =IFERROR(AVERAGE(D46,H46,L46,P46,T46,X46,AB46,AF46,AJ46,AN46,AR46,AV46,AZ46,BD46,BH46,BL46,BP46,BT46,BX46,CB46,CF46,CJ46,CN46,CR46,CV46,CZ46,DD46,DH46,DL46,DP46,DT46),"") | EB46: =IFERROR(AVERAGE(E46,I46,M46,Q46,U46,Y46,AC46,AG46,AK46,AO46,AS46,AW46,BA46,BE46,BI46,BM46,BQ46,BU46,BY46,CC46,CG46,CK46,CO46,CS46,CW46,DA46,DE46,DI46,DM46,DQ46,DU46),"") | EC46: =IFERROR(AVERAGE(DW46:EB46),"")
A47: Hair | B47: 15 | F47: =IFERROR(AVERAGE(C47:E47),"") | J47: =IFERROR(AVERAGE(G47:I47),"") | N47: =IFERROR(AVERAGE(K47:M47),"") | R47: =IFERROR(AVERAGE(O47:Q47),"") | V47: =IFERROR(AVERAGE(S47:U47),"") | Z47: =IFERROR(AVERAGE(W47:Y47),"") | AD47: =IFERROR(AVERAGE(AA47:AC47),"") | AH47: =IFERROR(AVERAGE(AE47:AG47),"") | AL47: =IFERROR(AVERAGE(AI47:AK47),"") | AP47: =IFERROR(AVERAGE(AM47:AO47),"") | AT47: =IFERROR(AVERAGE(AQ47:AS47),"") | AX47: =IFERROR(AVERAGE(AU47:AW47),"") | BB47: =IFERROR(AVERAGE(AY47:BA47),"") | BF47: =IFERROR(AVERAGE(BC47:BE47),"") | BJ47: =IFERROR(AVERAGE(BG47:BI47),"") | BN47: =IFERROR(AVERAGE(BK47:BM47),"") | BR47: =IFERROR(AVERAGE(BO47:BQ47),"") | BV47: =IFERROR(AVERAGE(BS47:BU47),"") | BZ47: =IFERROR(AVERAGE(BW47:BY47),"") | CD47: =IFERROR(AVERAGE(CA47:CC47),"") | CH47: =IFERROR(AVERAGE(CE47:CG47),"") | CL47: =IFERROR(AVERAGE(CI47:CK47),"") | CP47: =IFERROR(AVERAGE(CM47:CO47),"") | CT47: =IFERROR(AVERAGE(CQ47:CS47),"") | CX47: =IFERROR(AVERAGE(CU47:CW47),"") | DB47: =IFERROR(AVERAGE(CY47:DA47),"") | DF47: =IFERROR(AVERAGE(DC47:DE47),"") | DJ47: =IFERROR(AVERAGE(DG47:DI47),"") | DN47: =IFERROR(AVERAGE(DK47:DM47),"") | DR47: =IFERROR(AVERAGE(DO47:DQ47),"") | DV47: =IFERROR(AVERAGE(DS47:DU47),"") | EA47: =IFERROR(AVERAGE(D47,H47,L47,P47,T47,X47,AB47,AF47,AJ47,AN47,AR47,AV47,AZ47,BD47,BH47,BL47,BP47,BT47,BX47,CB47,CF47,CJ47,CN47,CR47,CV47,CZ47,DD47,DH47,DL47,DP47,DT47),"") | EB47: =IFERROR(AVERAGE(E47,I47,M47,Q47,U47,Y47,AC47,AG47,AK47,AO47,AS47,AW47,BA47,BE47,BI47,BM47,BQ47,BU47,BY47,CC47,CG47,CK47,CO47,CS47,CW47,DA47,DE47,DI47,DM47,DQ47,DU47),"") | EC47: =IFERROR(AVERAGE(DW47:EB47),"")
A48: Makeup | B48: 15 | F48: =IFERROR(AVERAGE(C48:E48),"") | J48: =IFERROR(AVERAGE(G48:I48),"") | N48: =IFERROR(AVERAGE(K48:M48),"") | R48: =IFERROR(AVERAGE(O48:Q48),"") | V48: =IFERROR(AVERAGE(S48:U48),"") | Z48: =IFERROR(AVERAGE(W48:Y48),"") | AD48: =IFERROR(AVERAGE(AA48:AC48),"") | AH48: =IFERROR(AVERAGE(AE48:AG48),"") | AL48: =IFERROR(AVERAGE(AI48:AK48),"") | AP48: =IFERROR(AVERAGE(AM48:AO48),"") | AT48: =IFERROR(AVERAGE(AQ48:AS48),"") | AX48: =IFERROR(AVERAGE(AU48:AW48),"") | BB48: =IFERROR(AVERAGE(AY48:BA48),"") | BF48: =IFERROR(AVERAGE(BC48:BE48),"") | BJ48: =IFERROR(AVERAGE(BG48:BI48),"") | BN48: =IFERROR(AVERAGE(BK48:BM48),"") | BR48: =IFERROR(AVERAGE(BO48:BQ48),"") | BV48: =IFERROR(AVERAGE(BS48:BU48),"") | BZ48: =IFERROR(AVERAGE(BW48:BY48),"") | CD48: =IFERROR(AVERAGE(CA48:CC48),"") | CH48: =IFERROR(AVERAGE(CE48:CG48),"") | CL48: =IFERROR(AVERAGE(CI48:CK48),"") | CP48: =IFERROR(AVERAGE(CM48:CO48),"") | CT48: =IFERROR(AVERAGE(CQ48:CS48),"") | CX48: =IFERROR(AVERAGE(CU48:CW48),"") | DB48: =IFERROR(AVERAGE(CY48:DA48),"") | DF48: =IFERROR(AVERAGE(DC48:DE48),"") | DJ48: =IFERROR(AVERAGE(DG48:DI48),"") | DN48: =IFERROR(AVERAGE(DK48:DM48),"") | DR48: =IFERROR(AVERAGE(DO48:DQ48),"") | DV48: =IFERROR(AVERAGE(DS48:DU48),"") | EA48: =IFERROR(AVERAGE(D48,H48,L48,P48,T48,X48,AB48,AF48,AJ48,AN48,AR48,AV48,AZ48,BD48,BH48,BL48,BP48,BT48,BX48,CB48,CF48,CJ48,CN48,CR48,CV48,CZ48,DD48,DH48,DL48,DP48,DT48),"") | EB48: =IFERROR(AVERAGE(E48,I48,M48,Q48,U48,Y48,AC48,AG48,AK48,AO48,AS48,AW48,BA48,BE48,BI48,BM48,BQ48,BU48,BY48,CC48,CG48,CK48,CO48,CS48,CW48,DA48,DE48,DI48,DM48,DQ48,DU48),"") | EC48: =IFERROR(AVERAGE(DW48:EB48),"")
A49: Uniform | B49: 10 | F49: =IFERROR(AVERAGE(C49:E49),"") | J49: =IFERROR(AVERAGE(G49:I49),"") | N49: =IFERROR(AVERAGE(K49:M49),"") | R49: =IFERROR(AVERAGE(O49:Q49),"") | V49: =IFERROR(AVERAGE(S49:U49),"") | Z49: =IFERROR(AVERAGE(W49:Y49),"") | AD49: =IFERROR(AVERAGE(AA49:AC49),"") | AH49: =IFERROR(AVERAGE(AE49:AG49),"") | AL49: =IFERROR(AVERAGE(AI49:AK49),"") | AP49: =IFERROR(AVERAGE(AM49:AO49),"") | AT49: =IFERROR(AVERAGE(AQ49:AS49),"") | AX49: =IFERROR(AVERAGE(AU49:AW49),"") | BB49: =IFERROR(AVERAGE(AY49:BA49),"") | BF49: =IFERROR(AVERAGE(BC49:BE49),"") | BJ49: =IFERROR(AVERAGE(BG49:BI49),"") | BN49: =IFERROR(AVERAGE(BK49:BM49),"") | BR49: =IFERROR(AVERAGE(BO49:BQ49),"") | BV49: =IFERROR(AVERAGE(BS49:BU49),"") | BZ49: =IFERROR(AVERAGE(BW49:BY49),"") | CD49: =IFERROR(AVERAGE(CA49:CC49),"") | CH49: =IFERROR(AVERAGE(CE49:CG49),"") | CL49: =IFERROR(AVERAGE(CI49:CK49),"") | CP49: =IFERROR(AVERAGE(CM49:CO49),"") | CT49: =IFERROR(AVERAGE(CQ49:CS49),"") | CX49: =IFERROR(AVERAGE(CU49:CW49),"") | DB49: =IFERROR(AVERAGE(CY49:DA49),"") | DF49: =IFERROR(AVERAGE(DC49:DE49),"") | DJ49: =IFERROR(AVERAGE(DG49:DI49),"") | DN49: =IFERROR(AVERAGE(DK49:DM49),"") | DR49: =IFERROR(AVERAGE(DO49:DQ49),"") | DV49: =IFERROR(AVERAGE(DS49:DU49),"") | EA49: =IFERROR(AVERAGE(D49,H49,L49,P49,T49,X49,AB49,AF49,AJ49,AN49,AR49,AV49,AZ49,BD49,BH49,BL49,BP49,BT49,BX49,CB49,CF49,CJ49,CN49,CR49,CV49,CZ49,DD49,DH49,DL49,DP49,DT49),"") | EB49: =IFERROR(AVERAGE(E49,I49,M49,Q49,U49,Y49,AC49,AG49,AK49,AO49,AS49,AW49,BA49,BE49,BI49,BM49,BQ49,BU49,BY49,CC49,CG49,CK49,CO49,CS49,CW49,DA49,DE49,DI49,DM49,DQ49,DU49),"") | EC49: =IFERROR(AVERAGE(DW49:EB49),"")
A50: Total | B50: 100 | C50: =IFERROR(SUM(C43:C49),"") | D50: =IFERROR(SUM(D43:D49),"") | E50: =IFERROR(SUM(E43:E49),"") | F50: =IFERROR(SUM(F43:F49),"") | G50: =IFERROR(SUM(G43:G49),"") | H50: =IFERROR(SUM(H43:H49),"") | I50: =IFERROR(SUM(I43:I49),"") | J50: =IFERROR(SUM(J43:J49),"") | ... DV50: =IFERROR(SUM(DV43:DV49),"") | EA50: =IFERROR(SUM(EA43:EA49),"") | EB50: =IFERROR(SUM(EB43:EB49),"") | EC50: =IFERROR(SUM(EC43:EC49),"")
A52: Vivian | B52: % | C52: =C$2 | D52: =D$2 | E52: =E$2 | F52: Avg | G52: =G$2 | H52: =H$2 | I52: =I$2 | J52: Avg | K52: =K$2 | L52: =L$2 | M52: =M$2 | N52: Avg | O52: =O$2 | P52: =P$2 | Q52: =Q$2 | R52: Avg | S52: =S$2 | T52: =T$2 | U52: =U$2 | V52: Avg | W52: =W$2 | X52: =X$2 | Y52: =Y$2 | Z52: Avg | AA52: =AA$2 | AB52: =AB$2 | AC52: =AC$2 | AD52: Avg | AE52: =AE$2 | AF52: =AF$2 | AG52: =AG$2 | AH52: Avg | AI52: =AI$2 | AJ52: =AJ$2 | AK52: =AK$2 | AL52: Avg | AM52: =AM$2 | AN52: =AN$2 | AO52: =AO$2 | AP52: Avg | AQ52: =AQ$2 | AR52: =AR$2 | AS52: =AS$2 | AT52: Avg | AU52: =AU$2 | AV52: =AV$2 | AW52: =AW$2 | AX52: Avg | AY52: =AY$2 | AZ52: =AZ$2 | BA52: =BA$2 | BB52: Avg | BC52: =BC$2 | BD52: =BD$2 | BE52: =BE$2 | BF52: Avg | BG52: =BG$2 | BH52: =BH$2 | BI52: =BI$2 | BJ52: Avg | BK52: =BK$2 | BL52: =BL$2 | BM52: =BM$2 | BN52: Avg | BO52: =BO$2 | BP52: =BP$2 | BQ52: =BQ$2 | BR52: Avg | BS52: =BS$2 | BT52: =BT$2 | BU52: =BU$2 | BV52: Avg | BW52: =BW$2 | BX52: =BX$2 | BY52: =BY$2 | BZ52: Avg | CA52: =CA$2 | CB52: =CB$2 | CC52: =CC$2 | CD52: Avg | CE52: =CE$2 | CF52: =CF$2 | CG52: =CG$2 | CH52: Avg | CI52: =CI$2 | CJ52: =CJ$2 | CK52: =CK$2 | CL52: Avg | CM52: =CM$2 | CN52: =CN$2 | CO52: =CO$2 | CP52: Avg | CQ52: =CQ$2 | CR52: =CR$2 | CS52: =CS$2 | CT52: Avg | CU52: =CU$2 | CV52: =CV$2 | CW52: =CW$2 | CX52: Avg | CY52: =CY$2 | CZ52: =CZ$2 | DA52: =DA$2 | DB52: Avg | DC52: =DC$2 | DD52: =DD$2 | DE52: =DE$2 | DF52: Avg | DG52: =DG$2 | DH52: =DH$2 | DI52: =DI$2 | DJ52: Avg | DK52: =DK$2 | DL52: =DL$2 | DM52: =DM$2 | DN52: Avg | DO52: =DO$2 | DP52: =DP$2 | DQ52: =DQ$2 | DR52: Avg | DS52: =DS$2 | DT52: =DT$2 | DU52: =DU$2 | DV52: Avg | DW52: K | DX52: M | DY52: G | DZ52: J | EA52: Y | EB52: C | EC52: Avg
A53: [Person_2] | B53: 20 | F53: =IFERROR(AVERAGE(C53:E53),"") | J53: =IFERROR(AVERAGE(G53:I53),"") | N53: =IFERROR(AVERAGE(K53:M53),"") | R53: =IFERROR(AVERAGE(O53:Q53),"") | V53: =IFERROR(AVERAGE(S53:U53),"") | Z53: =IFERROR(AVERAGE(W53:Y53),"") | AD53: =IFERROR(AVERAGE(AA53:AC53),"") | AH53: =IFERROR(AVERAGE(AE53:AG53),"") | AL53: =IFERROR(AVERAGE(AI53:AK53),"") | AP53: =IFERROR(AVERAGE(AM53:AO53),"") | AT53: =IFERROR(AVERAGE(AQ53:AS53),"") | AX53: =IFERROR(AVERAGE(AU53:AW53),"") | BB53: =IFERROR(AVERAGE(AY53:BA53),"") | BF53: =IFERROR(AVERAGE(BC53:BE53),"") | BJ53: =IFERROR(AVERAGE(BG53:BI53),"") | BN53: =IFERROR(AVERAGE(BK53:BM53),"") | BR53: =IFERROR(AVERAGE(BO53:BQ53),"") | BV53: =IFERROR(AVERAGE(BS53:BU53),"") | BZ53: =IFERROR(AVERAGE(BW53:BY53),"") | CD53: =IFERROR(AVERAGE(CA53:CC53),"") | CH53: =IFERROR(AVERAGE(CE53:CG53),"") | CL53: =IFERROR(AVERAGE(CI53:CK53),"") | CP53: =IFERROR(AVERAGE(CM53:CO53),"") | CT53: =IFERROR(AVERAGE(CQ53:CS53),"") | CX53: =IFERROR(AVERAGE(CU53:CW53),"") | DB53: =IFERROR(AVERAGE(CY53:DA53),"") | DF53: =IFERROR(AVERAGE(DC53:DE53),"") | DJ53: =IFERROR(AVERAGE(DG53:DI53),"") | DN53: =IFERROR(AVERAGE(DK53:DM53),"") | DR53: =IFERROR(AVERAGE(DO53:DQ53),"") | DV53: =IFERROR(AVERAGE(DS53:DU53),"") | EA53: =IFERROR(AVERAGE(D53,H53,L53,P53,T53,X53,AB53,AF53,AJ53,AN53,AR53,AV53,AZ53,BD53,BH53,BL53,BP53,BT53,BX53,CB53,CF53,CJ53,CN53,CR53,CV53,CZ53,DD53,DH53,DL53,DP53,DT53),"") | EB53: =IFERROR(AVERAGE(E53,I53,M53,Q53,U53,Y53,AC53,AG53,AK53,AO53,AS53,AW53,BA53,BE53,BI53,BM53,BQ53,BU53,BY53,CC53,CG53,CK53,CO53,CS53,CW53,DA53,DE53,DI53,DM53,DQ53,DU53),"") | EC53: =IFERROR(AVERAGE(DW53:EB53),"")
A54: Assist Guests VIP/Lift | B54: 10 | F54: =IFERROR(AVERAGE(C54:E54),"") | J54: =IFERROR(AVERAGE(G54:I54),"") | N54: =IFERROR(AVERAGE(K54:M54),"") | R54: =IFERROR(AVERAGE(O54:Q54),"") | V54: =IFERROR(AVERAGE(S54:U54),"") | Z54: =IFERROR(AVERAGE(W54:Y54),"") | AD54: =IFERROR(AVERAGE(AA54:AC54),"") | AH54: =IFERROR(AVERAGE(AE54:AG54),"") | AL54: =IFERROR(AVERAGE(AI54:AK54),"") | AP54: =IFERROR(AVERAGE(AM54:AO54),"") | AT54: =IFERROR(AVERAGE(AQ54:AS54),"") | AX54: =IFERROR(AVERAGE(AU54:AW54),"") | BB54: =IFERROR(AVERAGE(AY54:BA54),"") | BF54: =IFERROR(AVERAGE(BC54:BE54),"") | BJ54: =IFERROR(AVERAGE(BG54:BI54),"") | BN54: =IFERROR(AVERAGE(BK54:BM54),"") | BR54: =IFERROR(AVERAGE(BO54:BQ54),"") | BV54: =IFERROR(AVERAGE(BS54:BU54),"") | BZ54: =IFERROR(AVERAGE(BW54:BY54),"") | CD54: =IFERROR(AVERAGE(CA54:CC54),"") | CH54: =IFERROR(AVERAGE(CE54:CG54),"") | CL54: =IFERROR(AVERAGE(CI54:CK54),"") | CP54: =IFERROR(AVERAGE(CM54:CO54),"") | CT54: =IFERROR(AVERAGE(CQ54:CS54),"") | CX54: =IFERROR(AVERAGE(CU54:CW54),"") | DB54: =IFERROR(AVERAGE(CY54:DA54),"") | DF54: =IFERROR(AVERAGE(DC54:DE54),"") | DJ54: =IFERROR(AVERAGE(DG54:DI54),"") | DN54: =IFERROR(AVERAGE(DK54:DM54),"") | DR54: =IFERROR(AVERAGE(DO54:DQ54),"") | DV54: =IFERROR(AVERAGE(DS54:DU54),"") | EA54: =IFERROR(AVERAGE(D54,H54,L54,P54,T54,X54,AB54,AF54,AJ54,AN54,AR54,AV54,AZ54,BD54,BH54,BL54,BP54,BT54,BX54,CB54,CF54,CJ54,CN54,CR54,CV54,CZ54,DD54,DH54,DL54,DP54,DT54),"") | EB54: =IFERROR(AVERAGE(E54,I54,M54,Q54,U54,Y54,AC54,AG54,AK54,AO54,AS54,AW54,BA54,BE54,BI54,BM54,BQ54,BU54,BY54,CC54,CG54,CK54,CO54,CS54,CW54,DA54,DE54,DI54,DM54,DQ54,DU54),"") | EC54: =IFERROR(AVERAGE(DW54:EB54),"")
A55: Posture & Body Language | B55: 10 | F55: =IFERROR(AVERAGE(C55:E55),"") | J55: =IFERROR(AVERAGE(G55:I55),"") | N55: =IFERROR(AVERAGE(K55:M55),"") | R55: =IFERROR(AVERAGE(O55:Q55),"") | V55: =IFERROR(AVERAGE(S55:U55),"") | Z55: =IFERROR(AVERAGE(W55:Y55),"") | AD55: =IFERROR(AVERAGE(AA55:AC55),"") | AH55: =IFERROR(AVERAGE(AE55:AG55),"") | AL55: =IFERROR(AVERAGE(AI55:AK55),"") | AP55: =IFERROR(AVERAGE(AM55:AO55),"") | AT55: =IFERROR(AVERAGE(AQ55:AS55),"") | AX55: =IFERROR(AVERAGE(AU55:AW55),"") | BB55: =IFERROR(AVERAGE(AY55:BA55),"") | BF55: =IFERROR(AVERAGE(BC55:BE55),"") | BJ55: =IFERROR(AVERAGE(BG55:BI55),"") | BN55: =IFERROR(AVERAGE(BK55:BM55),"") | BR55: =IFERROR(AVERAGE(BO55:BQ55),"") | BV55: =IFERROR(AVERAGE(BS55:BU55),"") | BZ55: =IFERROR(AVERAGE(BW55:BY55),"") | CD55: =IFERROR(AVERAGE(CA55:CC55),"") | CH55: =IFERROR(AVERAGE(CE55:CG55),"") | CL55: =IFERROR(AVERAGE(CI55:CK55),"") | CP55: =IFERROR(AVERAGE(CM55:CO55),"") | CT55: =IFERROR(AVERAGE(CQ55:CS55),"") | CX55: =IFERROR(AVERAGE(CU55:CW55),"") | DB55: =IFERROR(AVERAGE(CY55:DA55),"") | DF55: =IFERROR(AVERAGE(DC55:DE55),"") | DJ55: =IFERROR(AVERAGE(DG55:DI55),"") | DN55: =IFERROR(AVERAGE(DK55:DM55),"") | DR55: =IFERROR(AVERAGE(DO55:DQ55),"") | DV55: =IFERROR(AVERAGE(DS55:DU55),"") | EA55: =IFERROR(AVERAGE(D55,H55,L55,P55,T55,X55,AB55,AF55,AJ55,AN55,AR55,AV55,AZ55,BD55,BH55,BL55,BP55,BT55,BX55,CB55,CF55,CJ55,CN55,CR55,CV55,CZ55,DD55,DH55,DL55,DP55,DT55),"") | EB55: =IFERROR(AVERAGE(E55,I55,M55,Q55,U55,Y55,AC55,AG55,AK55,AO55,AS55,AW55,BA55,BE55,BI55,BM55,BQ55,BU55,BY55,CC55,CG55,CK55,CO55,CS55,CW55,DA55,DE55,DI55,DM55,DQ55,DU55),"") | EC55: =IFERROR(AVERAGE(DW55:EB55),"")
A56: Knowledge of Hotel & Events | B56: 20 | F56: =IFERROR(AVERAGE(C56:E56),"") | J56: =IFERROR(AVERAGE(G56:I56),"") | N56: =IFERROR(AVERAGE(K56:M56),"") | R56: =IFERROR(AVERAGE(O56:Q56),"") | V56: =IFERROR(AVERAGE(S56:U56),"") | Z56: =IFERROR(AVERAGE(W56:Y56),"") | AD56: =IFERROR(AVERAGE(AA56:AC56),"") | AH56: =IFERROR(AVERAGE(AE56:AG56),"") | AL56: =IFERROR(AVERAGE(AI56:AK56),"") | AP56: =IFERROR(AVERAGE(AM56:AO56),"") | AT56: =IFERROR(AVERAGE(AQ56:AS56),"") | AX56: =IFERROR(AVERAGE(AU56:AW56),"") | BB56: =IFERROR(AVERAGE(AY56:BA56),"") | BF56: =IFERROR(AVERAGE(BC56:BE56),"") | BJ56: =IFERROR(AVERAGE(BG56:BI56),"") | BN56: =IFERROR(AVERAGE(BK56:BM56),"") | BR56: =IFERROR(AVERAGE(BO56:BQ56),"") | BV56: =IFERROR(AVERAGE(BS56:BU56),"") | BZ56: =IFERROR(AVERAGE(BW56:BY56),"") | CD56: =IFERROR(AVERAGE(CA56:CC56),"") | CH56: =IFERROR(AVERAGE(CE56:CG56),"") | CL56: =IFERROR(AVERAGE(CI56:CK56),"") | CP56: =IFERROR(AVERAGE(CM56:CO56),"") | CT56: =IFERROR(AVERAGE(CQ56:CS56),"") | CX56: =IFERROR(AVERAGE(CU56:CW56),"") | DB56: =IFERROR(AVERAGE(CY56:DA56),"") | DF56: =IFERROR(AVERAGE(DC56:DE56),"") | DJ56: =IFERROR(AVERAGE(DG56:DI56),"") | DN56: =IFERROR(AVERAGE(DK56:DM56),"") | DR56: =IFERROR(AVERAGE(DO56:DQ56),"") | DV56: =IFERROR(AVERAGE(DS56:DU56),"") | EA56: =IFERROR(AVERAGE(D56,H56,L56,P56,T56,X56,AB56,AF56,AJ56,AN56,AR56,AV56,AZ56,BD56,BH56,BL56,BP56,BT56,BX56,CB56,CF56,CJ56,CN56,CR56,CV56,CZ56,DD56,DH56,DL56,DP56,DT56),"") | EB56: =IFERROR(AVERAGE(E56,I56,M56,Q56,U56,Y56,AC56,AG56,AK56,AO56,AS56,AW56,BA56,BE56,BI56,BM56,BQ56,BU56,BY56,CC56,CG56,CK56,CO56,CS56,CW56,DA56,DE56,DI56,DM56,DQ56,DU56),"") | EC56: =IFERROR(AVERAGE(DW56:EB56),"")
A57: Hair | B57: 15 | F57: =IFERROR(AVERAGE(C57:E57),"") | J57: =IFERROR(AVERAGE(G57:I57),"") | N57: =IFERROR(AVERAGE(K57:M57),"") | R57: =IFERROR(AVERAGE(O57:Q57),"") | V57: =IFERROR(AVERAGE(S57:U57),"") | Z57: =IFERROR(AVERAGE(W57:Y57),"") | AD57: =IFERROR(AVERAGE(AA57:AC57),"") | AH57: =IFERROR(AVERAGE(AE57:AG57),"") | AL57: =IFERROR(AVERAGE(AI57:AK57),"") | AP57: =IFERROR(AVERAGE(AM57:AO57),"") | AT57: =IFERROR(AVERAGE(AQ57:AS57),"") | AX57: =IFERROR(AVERAGE(AU57:AW57),"") | BB57: =IFERROR(AVERAGE(AY57:BA57),"") | BF57: =IFERROR(AVERAGE(BC57:BE57),"") | BJ57: =IFERROR(AVERAGE(BG57:BI57),"") | BN57: =IFERROR(AVERAGE(BK57:BM57),"") | BR57: =IFERROR(AVERAGE(BO57:BQ57),"") | BV57: =IFERROR(AVERAGE(BS57:BU57),"") | BZ57: =IFERROR(AVERAGE(BW57:BY57),"") | CD57: =IFERROR(AVERAGE(CA57:CC57),"") | CH57: =IFERROR(AVERAGE(CE57:CG57),"") | CL57: =IFERROR(AVERAGE(CI57:CK57),"") | CP57: =IFERROR(AVERAGE(CM57:CO57),"") | CT57: =IFERROR(AVERAGE(CQ57:CS57),"") | CX57: =IFERROR(AVERAGE(CU57:CW57),"") | DB57: =IFERROR(AVERAGE(CY57:DA57),"") | DF57: =IFERROR(AVERAGE(DC57:DE57),"") | DJ57: =IFERROR(AVERAGE(DG57:DI57),"") | DN57: =IFERROR(AVERAGE(DK57:DM57),"") | DR57: =IFERROR(AVERAGE(DO57:DQ57),"") | DV57: =IFERROR(AVERAGE(DS57:DU57),"") | EA57: =IFERROR(AVERAGE(D57,H57,L57,P57,T57,X57,AB57,AF57,AJ57,AN57,AR57,AV57,AZ57,BD57,BH57,BL57,BP57,BT57,BX57,CB57,CF57,CJ57,CN57,CR57,CV57,CZ57,DD57,DH57,DL57,DP57,DT57),"") | EB57: =IFERROR(AVERAGE(E57,I57,M57,Q57,U57,Y57,AC57,AG57,AK57,AO57,AS57,AW57,BA57,BE57,BI57,BM57,BQ57,BU57,BY57,CC57,CG57,CK57,CO57,CS57,CW57,DA57,DE57,DI57,DM57,DQ57,DU57),"") | EC57: =IFERROR(AVERAGE(DW57:EB57),"")
A58: Makeup | B58: 15 | F58: =IFERROR(AVERAGE(C58:E58),"") | J58: =IFERROR(AVERAGE(G58:I58),"") | N58: =IFERROR(AVERAGE(K58:M58),"") | R58: =IFERROR(AVERAGE(O58:Q58),"") | V58: =IFERROR(AVERAGE(S58:U58),"") | Z58: =IFERROR(AVERAGE(W58:Y58),"") | AD58: =IFERROR(AVERAGE(AA58:AC58),"") | AH58: =IFERROR(AVERAGE(AE58:AG58),"") | AL58: =IFERROR(AVERAGE(AI58:AK58),"") | AP58: =IFERROR(AVERAGE(AM58:AO58),"") | AT58: =IFERROR(AVERAGE(AQ58:AS58),"") | AX58: =IFERROR(AVERAGE(AU58:AW58),"") | BB58: =IFERROR(AVERAGE(AY58:BA58),"") | BF58: =IFERROR(AVERAGE(BC58:BE58),"") | BJ58: =IFERROR(AVERAGE(BG58:BI58),"") | BN58: =IFERROR(AVERAGE(BK58:BM58),"") | BR58: =IFERROR(AVERAGE(BO58:BQ58),"") | BV58: =IFERROR(AVERAGE(BS58:BU58),"") | BZ58: =IFERROR(AVERAGE(BW58:BY58),"") | CD58: =IFERROR(AVERAGE(CA58:CC58),"") | CH58: =IFERROR(AVERAGE(CE58:CG58),"") | CL58: =IFERROR(AVERAGE(CI58:CK58),"") | CP58: =IFERROR(AVERAGE(CM58:CO58),"") | CT58: =IFERROR(AVERAGE(CQ58:CS58),"") | CX58: =IFERROR(AVERAGE(CU58:CW58),"") | DB58: =IFERROR(AVERAGE(CY58:DA58),"") | DF58: =IFERROR(AVERAGE(DC58:DE58),"") | DJ58: =IFERROR(AVERAGE(DG58:DI58),"") | DN58: =IFERROR(AVERAGE(DK58:DM58),"") | DR58: =IFERROR(AVERAGE(DO58:DQ58),"") | DV58: =IFERROR(AVERAGE(DS58:DU58),"") | EA58: =IFERROR(AVERAGE(D58,H58,L58,P58,T58,X58,AB58,AF58,AJ58,AN58,AR58,AV58,AZ58,BD58,BH58,BL58,BP58,BT58,BX58,CB58,CF58,CJ58,CN58,CR58,CV58,CZ58,DD58,DH58,DL58,DP58,DT58),"") | EB58: =IFERROR(AVERAGE(E58,I58,M58,Q58,U58,Y58,AC58,AG58,AK58,AO58,AS58,AW58,BA58,BE58,BI58,BM58,BQ58,BU58,BY58,CC58,CG58,CK58,CO58,CS58,CW58,DA58,DE58,DI58,DM58,DQ58,DU58),"") | EC58: =IFERROR(AVERAGE(DW58:EB58),"")
A59: Uniform | B59: 10 | F59: =IFERROR(AVERAGE(C59:E59),"") | J59: =IFERROR(AVERAGE(G59:I59),"") | N59: =IFERROR(AVERAGE(K59:M59),"") | R59: =IFERROR(AVERAGE(O59:Q59),"") | V59: =IFERROR(AVERAGE(S59:U59),"") | Z59: =IFERROR(AVERAGE(W59:Y59),"") | AD59: =IFERROR(AVERAGE(AA59:AC59),"") | AH59: =IFERROR(AVERAGE(AE59:AG59),"") | AL59: =IFERROR(AVERAGE(AI59:AK59),"") | AP59: =IFERROR(AVERAGE(AM59:AO59),"") | AT59: =IFERROR(AVERAGE(AQ59:AS59),"") | AX59: =IFERROR(AVERAGE(AU59:AW59),"") | BB59: =IFERROR(AVERAGE(AY59:BA59),"") | BF59: =IFERROR(AVERAGE(BC59:BE59),"") | BJ59: =IFERROR(AVERAGE(BG59:BI59),"") | BN59: =IFERROR(AVERAGE(BK59:BM59),"") | BR59: =IFERROR(AVERAGE(BO59:BQ59),"") | BV59: =IFERROR(AVERAGE(BS59:BU59),"") | BZ59: =IFERROR(AVERAGE(BW59:BY59),"") | CD59: =IFERROR(AVERAGE(CA59:CC59),"") | CH59: =IFERROR(AVERAGE(CE59:CG59),"") | CL59: =IFERROR(AVERAGE(CI59:CK59),"") | CP59: =IFERROR(AVERAGE(CM59:CO59),"") | CT59: =IFERROR(AVERAGE(CQ59:CS59),"") | CX59: =IFERROR(AVERAGE(CU59:CW59),"") | DB59: =IFERROR(AVERAGE(CY59:DA59),"") | DF59: =IFERROR(AVERAGE(DC59:DE59),"") | DJ59: =IFERROR(AVERAGE(DG59:DI59),"") | DN59: =IFERROR(AVERAGE(DK59:DM59),"") | DR59: =IFERROR(AVERAGE(DO59:DQ59),"") | DV59: =IFERROR(AVERAGE(DS59:DU59),"") | EA59: =IFERROR(AVERAGE(D59,H59,L59,P59,T59,X59,AB59,AF59,AJ59,AN59,AR59,AV59,AZ59,BD59,BH59,BL59,BP59,BT59,BX59,CB59,CF59,CJ59,CN59,CR59,CV59,CZ59,DD59,DH59,DL59,DP59,DT59),"") | EB59: =IFERROR(AVERAGE(E59,I59,M59,Q59,U59,Y59,AC59,AG59,AK59,AO59,AS59,AW59,BA59,BE59,BI59,BM59,BQ59,BU59,BY59,CC59,CG59,CK59,CO59,CS59,CW59,DA59,DE59,DI59,DM59,DQ59,DU59),"") | EC59: =IFERROR(AVERAGE(DW59:EB59),"")
A60: Total | B60: 100 | C60: =IFERROR(SUM(C53:C59),"") | D60: =IFERROR(SUM(D53:D59),"") | E60: =IFERROR(SUM(E53:E59),"") | F60: =IFERROR(SUM(F53:F59),"") | G60: =IFERROR(SUM(G53:G59),"") | H60: =IFERROR(SUM(H53:H59),"") | I60: =IFERROR(SUM(I53:I59),"") | J60: =IFERROR(SUM(J53:J59),"") | ... DV60: =IFERROR(SUM(DV53:DV59),"") | EA60: =IFERROR(SUM(EA53:EA59),"") | EB60: =IFERROR(SUM(EB53:EB59),"") | EC60: =IFERROR(SUM(EC53:EC59),"")
A62: Unique | B62: % | C62: =C$2 | D62: =D$2 | E62: =E$2 | F62: Avg | G62: =G$2 | H62: =H$2 | I62: =I$2 | J62: Avg | K62: =K$2 | L62: =L$2 | M62: =M$2 | N62: Avg | O62: =O$2 | P62: =P$2 | Q62: =Q$2 | R62: Avg | S62: =S$2 | T62: =T$2 | U62: =U$2 | V62: Avg | W62: =W$2 | X62: =X$2 | Y62: =Y$2 | Z62: Avg | AA62: =AA$2 | AB62: =AB$2 | AC62: =AC$2 | AD62: Avg | AE62: =AE$2 | AF62: =AF$2 | AG62: =AG$2 | AH62: Avg | AI62: =AI$2 | AJ62: =AJ$2 | AK62: =AK$2 | AL62: Avg | AM62: =AM$2 | AN62: =AN$2 | AO62: =AO$2 | AP62: Avg | AQ62: =AQ$2 | AR62: =AR$2 | AS62: =AS$2 | AT62: Avg | AU62: =AU$2 | AV62: =AV$2 | AW62: =AW$2 | AX62: Avg | AY62: =AY$2 | AZ62: =AZ$2 | BA62: =BA$2 | BB62: Avg | BC62: =BC$2 | BD62: =BD$2 | BE62: =BE$2 | BF62: Avg | BG62: =BG$2 | BH62: =BH$2 | BI62: =BI$2 | BJ62: Avg | BK62: =BK$2 | BL62: =BL$2 | BM62: =BM$2 | BN62: Avg | BO62: =BO$2 | BP62: =BP$2 | BQ62: =BQ$2 | BR62: Avg | BS62: =BS$2 | BT62: =BT$2 | BU62: =BU$2 | BV62: Avg | BW62: =BW$2 | BX62: =BX$2 | BY62: =BY$2 | BZ62: Avg | CA62: =CA$2 | CB62: =CB$2 | CC62: =CC$2 | CD62: Avg | CE62: =CE$2 | CF62: =CF$2 | CG62: =CG$2 | CH62: Avg | CI62: =CI$2 | CJ62: =CJ$2 | CK62: =CK$2 | CL62: Avg | CM62: =CM$2 | CN62: =CN$2 | CO62: =CO$2 | CP62: Avg | CQ62: =CQ$2 | CR62: =CR$2 | CS62: =CS$2 | CT62: Avg | CU62: =CU$2 | CV62: =CV$2 | CW62: =CW$2 | CX62: Avg | CY62: =CY$2 | CZ62: =CZ$2 | DA62: =DA$2 | DB62: Avg | DC62: =DC$2 | DD62: =DD$2 | DE62: =DE$2 | DF62: Avg | DG62: =DG$2 | DH62: =DH$2 | DI62: =DI$2 | DJ62: Avg | DK62: =DK$2 | DL62: =DL$2 | DM62: =DM$2 | DN62: Avg | DO62: =DO$2 | DP62: =DP$2 | DQ62: =DQ$2 | DR62: Avg | DS62: =DS$2 | DT62: =DT$2 | DU62: =DU$2 | DV62: Avg | DW62: K | DX62: M | DY62: G | DZ62: J | EA62: Y | EB62: C | EC62: Avg
A63: [Person_2] | B63: 20 | F63: =IFERROR(AVERAGE(C63:E63),"") | J63: =IFERROR(AVERAGE(G63:I63),"") | N63: =IFERROR(AVERAGE(K63:M63),"") | R63: =IFERROR(AVERAGE(O63:Q63),"") | V63: =IFERROR(AVERAGE(S63:U63),"") | Z63: =IFERROR(AVERAGE(W63:Y63),"") | AD63: =IFERROR(AVERAGE(AA63:AC63),"") | AH63: =IFERROR(AVERAGE(AE63:AG63),"") | AL63: =IFERROR(AVERAGE(AI63:AK63),"") | AP63: =IFERROR(AVERAGE(AM63:AO63),"") | AT63: =IFERROR(AVERAGE(AQ63:AS63),"") | AX63: =IFERROR(AVERAGE(AU63:AW63),"") | BB63: =IFERROR(AVERAGE(AY63:BA63),"") | BF63: =IFERROR(AVERAGE(BC63:BE63),"") | BJ63: =IFERROR(AVERAGE(BG63:BI63),"") | BN63: =IFERROR(AVERAGE(BK63:BM63),"") | BR63: =IFERROR(AVERAGE(BO63:BQ63),"") | BV63: =IFERROR(AVERAGE(BS63:BU63),"") | BZ63: =IFERROR(AVERAGE(BW63:BY63),"") | CD63: =IFERROR(AVERAGE(CA63:CC63),"") | CH63: =IFERROR(AVERAGE(CE63:CG63),"") | CL63: =IFERROR(AVERAGE(CI63:CK63),"") | CP63: =IFERROR(AVERAGE(CM63:CO63),"") | CT63: =IFERROR(AVERAGE(CQ63:CS63),"") | CX63: =IFERROR(AVERAGE(CU63:CW63),"") | DB63: =IFERROR(AVERAGE(CY63:DA63),"") | DF63: =IFERROR(AVERAGE(DC63:DE63),"") | DJ63: =IFERROR(AVERAGE(DG63:DI63),"") | DN63: =IFERROR(AVERAGE(DK63:DM63),"") | DR63: =IFERROR(AVERAGE(DO63:DQ63),"") | DV63: =IFERROR(AVERAGE(DS63:DU63),"") | EA63: =IFERROR(AVERAGE(D63,H63,L63,P63,T63,X63,AB63,AF63,AJ63,AN63,AR63,AV63,AZ63,BD63,BH63,BL63,BP63,BT63,BX63,CB63,CF63,CJ63,CN63,CR63,CV63,CZ63,DD63,DH63,DL63,DP63,DT63),"") | EB63: =IFERROR(AVERAGE(E63,I63,M63,Q63,U63,Y63,AC63,AG63,AK63,AO63,AS63,AW63,BA63,BE63,BI63,BM63,BQ63,BU63,BY63,CC63,CG63,CK63,CO63,CS63,CW63,DA63,DE63,DI63,DM63,DQ63,DU63),"") | EC63: =IFERROR(AVERAGE(DW63:EB63),"")
A64: Assist Guests VIP/Lift | B64: 10 | F64: =IFERROR(AVERAGE(C64:E64),"") | J64: =IFERROR(AVERAGE(G64:I64),"") | N64: =IFERROR(AVERAGE(K64:M64),"") | R64: =IFERROR(AVERAGE(O64:Q64),"") | V64: =IFERROR(AVERAGE(S64:U64),"") | Z64: =IFERROR(AVERAGE(W64:Y64),"") | AD64: =IFERROR(AVERAGE(AA64:AC64),"") | AH64: =IFERROR(AVERAGE(AE64:AG64),"") | AL64: =IFERROR(AVERAGE(AI64:AK64),"") | AP64: =IFERROR(AVERAGE(AM64:AO64),"") | AT64: =IFERROR(AVERAGE(AQ64:AS64),"") | AX64: =IFERROR(AVERAGE(AU64:AW64),"") | BB64: =IFERROR(AVERAGE(AY64:BA64),"") | BF64: =IFERROR(AVERAGE(BC64:BE64),"") | BJ64: =IFERROR(AVERAGE(BG64:BI64),"") | BN64: =IFERROR(AVERAGE(BK64:BM64),"") | BR64: =IFERROR(AVERAGE(BO64:BQ64),"") | BV64: =IFERROR(AVERAGE(BS64:BU64),"") | BZ64: =IFERROR(AVERAGE(BW64:BY64),"") | CD64: =IFERROR(AVERAGE(CA64:CC64),"") | CH64: =IFERROR(AVERAGE(CE64:CG64),"") | CL64: =IFERROR(AVERAGE(CI64:CK64),"") | CP64: =IFERROR(AVERAGE(CM64:CO64),"") | CT64: =IFERROR(AVERAGE(CQ64:CS64),"") | CX64: =IFERROR(AVERAGE(CU64:CW64),"") | DB64: =IFERROR(AVERAGE(CY64:DA64),"") | DF64: =IFERROR(AVERAGE(DC64:DE64),"") | DJ64: =IFERROR(AVERAGE(DG64:DI64),"") | DN64: =IFERROR(AVERAGE(DK64:DM64),"") | DR64: =IFERROR(AVERAGE(DO64:DQ64),"") | DV64: =IFERROR(AVERAGE(DS64:DU64),"") | EA64: =IFERROR(AVERAGE(D64,H64,L64,P64,T64,X64,AB64,AF64,AJ64,AN64,AR64,AV64,AZ64,BD64,BH64,BL64,BP64,BT64,BX64,CB64,CF64,CJ64,CN64,CR64,CV64,CZ64,DD64,DH64,DL64,DP64,DT64),"") | EB64: =IFERROR(AVERAGE(E64,I64,M64,Q64,U64,Y64,AC64,AG64,AK64,AO64,AS64,AW64,BA64,BE64,BI64,BM64,BQ64,BU64,BY64,CC64,CG64,CK64,CO64,CS64,CW64,DA64,DE64,DI64,DM64,DQ64,DU64),"") | EC64: =IFERROR(AVERAGE(DW64:EB64),"")
A65: Posture & Body Language | B65: 10 | F65: =IFERROR(AVERAGE(C65:E65),"") | J65: =IFERROR(AVERAGE(G65:I65),"") | N65: =IFERROR(AVERAGE(K65:M65),"") | R65: =IFERROR(AVERAGE(O65:Q65),"") | V65: =IFERROR(AVERAGE(S65:U65),"") | Z65: =IFERROR(AVERAGE(W65:Y65),"") | AD65: =IFERROR(AVERAGE(AA65:AC65),"") | AH65: =IFERROR(AVERAGE(AE65:AG65),"") | AL65: =IFERROR(AVERAGE(AI65:AK65),"") | AP65: =IFERROR(AVERAGE(AM65:AO65),"") | AT65: =IFERROR(AVERAGE(AQ65:AS65),"") | AX65: =IFERROR(AVERAGE(AU65:AW65),"") | BB65: =IFERROR(AVERAGE(AY65:BA65),"") | BF65: =IFERROR(AVERAGE(BC65:BE65),"") | BJ65: =IFERROR(AVERAGE(BG65:BI65),"") | BN65: =IFERROR(AVERAGE(BK65:BM65),"") | BR65: =IFERROR(AVERAGE(BO65:BQ65),"") | BV65: =IFERROR(AVERAGE(BS65:BU65),"") | BZ65: =IFERROR(AVERAGE(BW65:BY65),"") | CD65: =IFERROR(AVERAGE(CA65:CC65),"") | CH65: =IFERROR(AVERAGE(CE65:CG65),"") | CL65: =IFERROR(AVERAGE(CI65:CK65),"") | CP65: =IFERROR(AVERAGE(CM65:CO65),"") | CT65: =IFERROR(AVERAGE(CQ65:CS65),"") | CX65: =IFERROR(AVERAGE(CU65:CW65),"") | DB65: =IFERROR(AVERAGE(CY65:DA65),"") | DF65: =IFERROR(AVERAGE(DC65:DE65),"") | DJ65: =IFERROR(AVERAGE(DG65:DI65),"") | DN65: =IFERROR(AVERAGE(DK65:DM65),"") | DR65: =IFERROR(AVERAGE(DO65:DQ65),"") | DV65: =IFERROR(AVERAGE(DS65:DU65),"") | EA65: =IFERROR(AVERAGE(D65,H65,L65,P65,T65,X65,AB65,AF65,AJ65,AN65,AR65,AV65,AZ65,BD65,BH65,BL65,BP65,BT65,BX65,CB65,CF65,CJ65,CN65,CR65,CV65,CZ65,DD65,DH65,DL65,DP65,DT65),"") | EB65: =IFERROR(AVERAGE(E65,I65,M65,Q65,U65,Y65,AC65,AG65,AK65,AO65,AS65,AW65,BA65,BE65,BI65,BM65,BQ65,BU65,BY65,CC65,CG65,CK65,CO65,CS65,CW65,DA65,DE65,DI65,DM65,DQ65,DU65),"") | EC65: =IFERROR(AVERAGE(DW65:EB65),"")
A66: Knowledge of Hotel & Events | B66: 20 | F66: =IFERROR(AVERAGE(C66:E66),"") | J66: =IFERROR(AVERAGE(G66:I66),"") | N66: =IFERROR(AVERAGE(K66:M66),"") | R66: =IFERROR(AVERAGE(O66:Q66),"") | V66: =IFERROR(AVERAGE(S66:U66),"") | Z66: =IFERROR(AVERAGE(W66:Y66),"") | AD66: =IFERROR(AVERAGE(AA66:AC66),"") | AH66: =IFERROR(AVERAGE(AE66:AG66),"") | AL66: =IFERROR(AVERAGE(AI66:AK66),"") | AP66: =IFERROR(AVERAGE(AM66:AO66),"") | AT66: =IFERROR(AVERAGE(AQ66:AS66),"") | AX66: =IFERROR(AVERAGE(AU66:AW66),"") | BB66: =IFERROR(AVERAGE(AY66:BA66),"") | BF66: =IFERROR(AVERAGE(BC66:BE66),"") | BJ66: =IFERROR(AVERAGE(BG66:BI66),"") | BN66: =IFERROR(AVERAGE(BK66:BM66),"") | BR66: =IFERROR(AVERAGE(BO66:BQ66),"") | BV66: =IFERROR(AVERAGE(BS66:BU66),"") | BZ66: =IFERROR(AVERAGE(BW66:BY66),"") | CD66: =IFERROR(AVERAGE(CA66:CC66),"") | CH66: =IFERROR(AVERAGE(CE66:CG66),"") | CL66: =IFERROR(AVERAGE(CI66:CK66),"") | CP66: =IFERROR(AVERAGE(CM66:CO66),"") | CT66: =IFERROR(AVERAGE(CQ66:CS66),"") | CX66: =IFERROR(AVERAGE(CU66:CW66),"") | DB66: =IFERROR(AVERAGE(CY66:DA66),"") | DF66: =IFERROR(AVERAGE(DC66:DE66),"") | DJ66: =IFERROR(AVERAGE(DG66:DI66),"") | DN66: =IFERROR(AVERAGE(DK66:DM66),"") | DR66: =IFERROR(AVERAGE(DO66:DQ66),"") | DV66: =IFERROR(AVERAGE(DS66:DU66),"") | EA66: =IFERROR(AVERAGE(D66,H66,L66,P66,T66,X66,AB66,AF66,AJ66,AN66,AR66,AV66,AZ66,BD66,BH66,BL66,BP66,BT66,BX66,CB66,CF66,CJ66,CN66,CR66,CV66,CZ66,DD66,DH66,DL66,DP66,DT66),"") | EB66: =IFERROR(AVERAGE(E66,I66,M66,Q66,U66,Y66,AC66,AG66,AK66,AO66,AS66,AW66,BA66,BE66,BI66,BM66,BQ66,BU66,BY66,CC66,CG66,CK66,CO66,CS66,CW66,DA66,DE66,DI66,DM66,DQ66,DU66),"") | EC66: =IFERROR(AVERAGE(DW66:EB66),"")
A67: Hair | B67: 15 | F67: =IFERROR(AVERAGE(C67:E67),"") | J67: =IFERROR(AVERAGE(G67:I67),"") | N67: =IFERROR(AVERAGE(K67:M67),"") | R67: =IFERROR(AVERAGE(O67:Q67),"") | V67: =IFERROR(AVERAGE(S67:U67),"") | Z67: =IFERROR(AVERAGE(W67:Y67),"") | AD67: =IFERROR(AVERAGE(AA67:AC67),"") | AH67: =IFERROR(AVERAGE(AE67:AG67),"") | AL67: =IFERROR(AVERAGE(AI67:AK67),"") | AP67: =IFERROR(AVERAGE(AM67:AO67),"") | AT67: =IFERROR(AVERAGE(AQ67:AS67),"") | AX67: =IFERROR(AVERAGE(AU67:AW67),"") | BB67: =IFERROR(AVERAGE(AY67:BA67),"") | BF67: =IFERROR(AVERAGE(BC67:BE67),"") | BJ67: =IFERROR(AVERAGE(BG67:BI67),"") | BN67: =IFERROR(AVERAGE(BK67:BM67),"") | BR67: =IFERROR(AVERAGE(BO67:BQ67),"") | BV67: =IFERROR(AVERAGE(BS67:BU67),"") | BZ67: =IFERROR(AVERAGE(BW67:BY67),"") | CD67: =IFERROR(AVERAGE(CA67:CC67),"") | CH67: =IFERROR(AVERAGE(CE67:CG67),"") | CL67: =IFERROR(AVERAGE(CI67:CK67),"") | CP67: =IFERROR(AVERAGE(CM67:CO67),"") | CT67: =IFERROR(AVERAGE(CQ67:CS67),"") | CX67: =IFERROR(AVERAGE(CU67:CW67),"") | DB67: =IFERROR(AVERAGE(CY67:DA67),"") | DF67: =IFERROR(AVERAGE(DC67:DE67),"") | DJ67: =IFERROR(AVERAGE(DG67:DI67),"") | DN67: =IFERROR(AVERAGE(DK67:DM67),"") | DR67: =IFERROR(AVERAGE(DO67:DQ67),"") | DV67: =IFERROR(AVERAGE(DS67:DU67),"") | EA67: =IFERROR(AVERAGE(D67,H67,L67,P67,T67,X67,AB67,AF67,AJ67,AN67,AR67,AV67,AZ67,BD67,BH67,BL67,BP67,BT67,BX67,CB67,CF67,CJ67,CN67,CR67,CV67,CZ67,DD67,DH67,DL67,DP67,DT67),"") | EB67: =IFERROR(AVERAGE(E67,I67,M67,Q67,U67,Y67,AC67,AG67,AK67,AO67,AS67,AW67,BA67,BE67,BI67,BM67,BQ67,BU67,BY67,CC67,CG67,CK67,CO67,CS67,CW67,DA67,DE67,DI67,DM67,DQ67,DU67),"") | EC67: =IFERROR(AVERAGE(DW67:EB67),"")
A68: Makeup | B68: 15 | F68: =IFERROR(AVERAGE(C68:E68),"") | J68: =IFERROR(AVERAGE(G68:I68),"") | N68: =IFERROR(AVERAGE(K68:M68),"") | R68: =IFERROR(AVERAGE(O68:Q68),"") | V68: =IFERROR(AVERAGE(S68:U68),"") | Z68: =IFERROR(AVERAGE(W68:Y68),"") | AD68: =IFERROR(AVERAGE(AA68:AC68),"") | AH68: =IFERROR(AVERAGE(AE68:AG68),"") | AL68: =IFERROR(AVERAGE(AI68:AK68),"") | AP68: =IFERROR(AVERAGE(AM68:AO68),"") | AT68: =IFERROR(AVERAGE(AQ68:AS68),"") | AX68: =IFERROR(AVERAGE(AU68:AW68),"") | BB68: =IFERROR(AVERAGE(AY68:BA68),"") | BF68: =IFERROR(AVERAGE(BC68:BE68),"") | BJ68: =IFERROR(AVERAGE(BG68:BI68),"") | BN68: =IFERROR(AVERAGE(BK68:BM68),"") | BR68: =IFERROR(AVERAGE(BO68:BQ68),"") | BV68: =IFERROR(AVERAGE(BS68:BU68),"") | BZ68: =IFERROR(AVERAGE(BW68:BY68),"") | CD68: =IFERROR(AVERAGE(CA68:CC68),"") | CH68: =IFERROR(AVERAGE(CE68:CG68),"") | CL68: =IFERROR(AVERAGE(CI68:CK68),"") | CP68: =IFERROR(AVERAGE(CM68:CO68),"") | CT68: =IFERROR(AVERAGE(CQ68:CS68),"") | CX68: =IFERROR(AVERAGE(CU68:CW68),"") | DB68: =IFERROR(AVERAGE(CY68:DA68),"") | DF68: =IFERROR(AVERAGE(DC68:DE68),"") | DJ68: =IFERROR(AVERAGE(DG68:DI68),"") | DN68: =IFERROR(AVERAGE(DK68:DM68),"") | DR68: =IFERROR(AVERAGE(DO68:DQ68),"") | DV68: =IFERROR(AVERAGE(DS68:DU68),"") | EA68: =IFERROR(AVERAGE(D68,H68,L68,P68,T68,X68,AB68,AF68,AJ68,AN68,AR68,AV68,AZ68,BD68,BH68,BL68,BP68,BT68,BX68,CB68,CF68,CJ68,CN68,CR68,CV68,CZ68,DD68,DH68,DL68,DP68,DT68),"") | EB68: =IFERROR(AVERAGE(E68,I68,M68,Q68,U68,Y68,AC68,AG68,AK68,AO68,AS68,AW68,BA68,BE68,BI68,BM68,BQ68,BU68,BY68,CC68,CG68,CK68,CO68,CS68,CW68,DA68,DE68,DI68,DM68,DQ68,DU68),"") | EC68: =IFERROR(AVERAGE(DW68:EB68),"")
A69: Uniform | B69: 10 | F69: =IFERROR(AVERAGE(C69:E69),"") | J69: =IFERROR(AVERAGE(G69:I69),"") | N69: =IFERROR(AVERAGE(K69:M69),"") | R69: =IFERROR(AVERAGE(O69:Q69),"") | V69: =IFERROR(AVERAGE(S69:U69),"") | Z69: =IFERROR(AVERAGE(W69:Y69),"") | AD69: =IFERROR(AVERAGE(AA69:AC69),"") | AH69: =IFERROR(AVERAGE(AE69:AG69),"") | AL69: =IFERROR(AVERAGE(AI69:AK69),"") | AP69: =IFERROR(AVERAGE(AM69:AO69),"") | AT69: =IFERROR(AVERAGE(AQ69:AS69),"") | AX69: =IFERROR(AVERAGE(AU69:AW69),"") | BB69: =IFERROR(AVERAGE(AY69:BA69),"") | BF69: =IFERROR(AVERAGE(BC69:BE69),"") | BJ69: =IFERROR(AVERAGE(BG69:BI69),"") | BN69: =IFERROR(AVERAGE(BK69:BM69),"") | BR69: =IFERROR(AVERAGE(BO69:BQ69),"") | BV69: =IFERROR(AVERAGE(BS69:BU69),"") | BZ69: =IFERROR(AVERAGE(BW69:BY69),"") | CD69: =IFERROR(AVERAGE(CA69:CC69),"") | CH69: =IFERROR(AVERAGE(CE69:CG69),"") | CL69: =IFERROR(AVERAGE(CI69:CK69),"") | CP69: =IFERROR(AVERAGE(CM69:CO69),"") | CT69: =IFERROR(AVERAGE(CQ69:CS69),"") | CX69: =IFERROR(AVERAGE(CU69:CW69),"") | DB69: =IFERROR(AVERAGE(CY69:DA69),"") | DF69: =IFERROR(AVERAGE(DC69:DE69),"") | DJ69: =IFERROR(AVERAGE(DG69:DI69),"") | DN69: =IFERROR(AVERAGE(DK69:DM69),"") | DR69: =IFERROR(AVERAGE(DO69:DQ69),"") | DV69: =IFERROR(AVERAGE(DS69:DU69),"") | EA69: =IFERROR(AVERAGE(D69,H69,L69,P69,T69,X69,AB69,AF69,AJ69,AN69,AR69,AV69,AZ69,BD69,BH69,BL69,BP69,BT69,BX69,CB69,CF69,CJ69,CN69,CR69,CV69,CZ69,DD69,DH69,DL69,DP69,DT69),"") | EB69: =IFERROR(AVERAGE(E69,I69,M69,Q69,U69,Y69,AC69,AG69,AK69,AO69,AS69,AW69,BA69,BE69,BI69,BM69,BQ69,BU69,BY69,CC69,CG69,CK69,CO69,CS69,CW69,DA69,DE69,DI69,DM69,DQ69,DU69),"") | EC69: =IFERROR(AVERAGE(DW69:EB69),"")
A70: Total | B70: 100 | C70: =IFERROR(SUM(C63:C69),"") | D70: =IFERROR(SUM(D63:D69),"") | E70: =IFERROR(SUM(E63:E69),"") | F70: =IFERROR(SUM(F63:F69),"") | G70: =IFERROR(SUM(G63:G69),"") | H70: =IFERROR(SUM(H63:H69),"") | I70: =IFERROR(SUM(I63:I69),"") | J70: =IFERROR(SUM(J63:J69),"") | ... DV70: =IFERROR(SUM(DV63:DV69),"") | EA70: =IFERROR(SUM(EA63:EA69),"") | EB70: =IFERROR(SUM(EB63:EB69),"") | EC70: =IFERROR(SUM(EC63:EC69),"")
A72: Yolanda | B72: % | C72: =C$2 | D72: =D$2 | E72: =E$2 | F72: Avg | G72: =G$2 | H72: =H$2 | I72: =I$2 | J72: Avg | K72: =K$2 | L72: =L$2 | M72: =M$2 | N72: Avg | O72: =O$2 | P72: =P$2 | Q72: =Q$2 | R72: Avg | S72: =S$2 | T72: =T$2 | U72: =U$2 | V72: Avg | W72: =W$2 | X72: =X$2 | Y72: =Y$2 | Z72: Avg | AA72: =AA$2 | AB72: =AB$2 | AC72: =AC$2 | AD72: Avg | AE72: =AE$2 | AF72: =AF$2 | AG72: =AG$2 | AH72: Avg | AI72: =AI$2 | AJ72: =AJ$2 | AK72: =AK$2 | AL72: Avg | AM72: =AM$2 | AN72: =AN$2 | AO72: =AO$2 | AP72: Avg | AQ72: =AQ$2 | AR72: =AR$2 | AS72: =AS$2 | AT72: Avg | AU72: =AU$2 | AV72: =AV$2 | AW72: =AW$2 | AX72: Avg | AY72: =AY$2 | AZ72: =AZ$2 | BA72: =BA$2 | BB72: Avg | BC72: =BC$2 | BD72: =BD$2 | BE72: =BE$2 | BF72: Avg | BG72: =BG$2 | BH72: =BH$2 | BI72: =BI$2 | BJ72: Avg | BK72: =BK$2 | BL72: =BL$2 | BM72: =BM$2 | BN72: Avg | BO72: =BO$2 | BP72: =BP$2 | BQ72: =BQ$2 | BR72: Avg | BS72: =BS$2 | BT72: =BT$2 | BU72: =BU$2 | BV72: Avg | BW72: =BW$2 | BX72: =BX$2 | BY72: =BY$2 | BZ72: Avg | CA72: =CA$2 | CB72: =CB$2 | CC72: =CC$2 | CD72: Avg | CE72: =CE$2 | CF72: =CF$2 | CG72: =CG$2 | CH72: Avg | CI72: =CI$2 | CJ72: =CJ$2 | CK72: =CK$2 | CL72: Avg | CM72: =CM$2 | CN72: =CN$2 | CO72: =CO$2 | CP72: Avg | CQ72: =CQ$2 | CR72: =CR$2 | CS72: =CS$2 | CT72: Avg | CU72: =CU$2 | CV72: =CV$2 | CW72: =CW$2 | CX72: Avg | CY72: =CY$2 | CZ72: =CZ$2 | DA72: =DA$2 | DB72: Avg | DC72: =DC$2 | DD72: =DD$2 | DE72: =DE$2 | DF72: Avg | DG72: =DG$2 | DH72: =DH$2 | DI72: =DI$2 | DJ72: Avg | DK72: =DK$2 | DL72: =DL$2 | DM72: =DM$2 | DN72: Avg | DO72: =DO$2 | DP72: =DP$2 | DQ72: =DQ$2 | DR72: Avg | DS72: =DS$2 | DT72: =DT$2 | DU72: =DU$2 | DV72: Avg | DW72: K | DX72: M | DY72: G | DZ72: J | EA72: Y | EB72: C | EC72: Avg
A73: [Person_2] | B73: 20 | F73: =IFERROR(AVERAGE(C73:E73),"") | J73: =IFERROR(AVERAGE(G73:I73),"") | N73: =IFERROR(AVERAGE(K73:M73),"") | R73: =IFERROR(AVERAGE(O73:Q73),"") | V73: =IFERROR(AVERAGE(S73:U73),"") | Z73: =IFERROR(AVERAGE(W73:Y73),"") | AD73: =IFERROR(AVERAGE(AA73:AC73),"") | AH73: =IFERROR(AVERAGE(AE73:AG73),"") | AL73: =IFERROR(AVERAGE(AI73:AK73),"") | AP73: =IFERROR(AVERAGE(AM73:AO73),"") | AT73: =IFERROR(AVERAGE(AQ73:AS73),"") | AX73: =IFERROR(AVERAGE(AU73:AW73),"") | BB73: =IFERROR(AVERAGE(AY73:BA73),"") | BF73: =IFERROR(AVERAGE(BC73:BE73),"") | BJ73: =IFERROR(AVERAGE(BG73:BI73),"") | BN73: =IFERROR(AVERAGE(BK73:BM73),"") | BR73: =IFERROR(AVERAGE(BO73:BQ73),"") | BV73: =IFERROR(AVERAGE(BS73:BU73),"") | BZ73: =IFERROR(AVERAGE(BW73:BY73),"") | CD73: =IFERROR(AVERAGE(CA73:CC73),"") | CH73: =IFERROR(AVERAGE(CE73:CG73),"") | CL73: =IFERROR(AVERAGE(CI73:CK73),"") | CP73: =IFERROR(AVERAGE(CM73:CO73),"") | CT73: =IFERROR(AVERAGE(CQ73:CS73),"") | CX73: =IFERROR(AVERAGE(CU73:CW73),"") | DB73: =IFERROR(AVERAGE(CY73:DA73),"") | DF73: =IFERROR(AVERAGE(DC73:DE73),"") | DJ73: =IFERROR(AVERAGE(DG73:DI73),"") | DN73: =IFERROR(AVERAGE(DK73:DM73),"") | DR73: =IFERROR(AVERAGE(DO73:DQ73),"") | DV73: =IFERROR(AVERAGE(DS73:DU73),"") | EA73: =IFERROR(AVERAGE(D73,H73,L73,P73,T73,X73,AB73,AF73,AJ73,AN73,AR73,AV73,AZ73,BD73,BH73,BL73,BP73,BT73,BX73,CB73,CF73,CJ73,CN73,CR73,CV73,CZ73,DD73,DH73,DL73,DP73,DT73),"") | EB73: =IFERROR(AVERAGE(E73,I73,M73,Q73,U73,Y73,AC73,AG73,AK73,AO73,AS73,AW73,BA73,BE73,BI73,BM73,BQ73,BU73,BY73,CC73,CG73,CK73,CO73,CS73,CW73,DA73,DE73,DI73,DM73,DQ73,DU73),"") | EC73: =IFERROR(AVERAGE(DW73:EB73),"")
A74: Assist Guests VIP/Lift | B74: 10 | F74: =IFERROR(AVERAGE(C74:E74),"") | J74: =IFERROR(AVERAGE(G74:I74),"") | N74: =IFERROR(AVERAGE(K74:M74),"") | R74: =IFERROR(AVERAGE(O74:Q74),"") | V74: =IFERROR(AVERAGE(S74:U74),"") | Z74: =IFERROR(AVERAGE(W74:Y74),"") | AD74: =IFERROR(AVERAGE(AA74:AC74),"") | AH74: =IFERROR(AVERAGE(AE74:AG74),"") | AL74: =IFERROR(AVERAGE(AI74:AK74),"") | AP74: =IFERROR(AVERAGE(AM74:AO74),"") | AT74: =IFERROR(AVERAGE(AQ74:AS74),"") | AX74: =IFERROR(AVERAGE(AU74:AW74),"") | BB74: =IFERROR(AVERAGE(AY74:BA74),"") | BF74: =IFERROR(AVERAGE(BC74:BE74),"") | BJ74: =IFERROR(AVERAGE(BG74:BI74),"") | BN74: =IFERROR(AVERAGE(BK74:BM74),"") | BR74: =IFERROR(AVERAGE(BO74:BQ74),"") | BV74: =IFERROR(AVERAGE(BS74:BU74),"") | BZ74: =IFERROR(AVERAGE(BW74:BY74),"") | CD74: =IFERROR(AVERAGE(CA74:CC74),"") | CH74: =IFERROR(AVERAGE(CE74:CG74),"") | CL74: =IFERROR(AVERAGE(CI74:CK74),"") | CP74: =IFERROR(AVERAGE(CM74:CO74),"") | CT74: =IFERROR(AVERAGE(CQ74:CS74),"") | CX74: =IFERROR(AVERAGE(CU74:CW74),"") | DB74: =IFERROR(AVERAGE(CY74:DA74),"") | DF74: =IFERROR(AVERAGE(DC74:DE74),"") | DJ74: =IFERROR(AVERAGE(DG74:DI74),"") | DN74: =IFERROR(AVERAGE(DK74:DM74),"") | DR74: =IFERROR(AVERAGE(DO74:DQ74),"") | DV74: =IFERROR(AVERAGE(DS74:DU74),"") | EA74: =IFERROR(AVERAGE(D74,H74,L74,P74,T74,X74,AB74,AF74,AJ74,AN74,AR74,AV74,AZ74,BD74,BH74,BL74,BP74,BT74,BX74,CB74,CF74,CJ74,CN74,CR74,CV74,CZ74,DD74,DH74,DL74,DP74,DT74),"") | EB74: =IFERROR(AVERAGE(E74,I74,M74,Q74,U74,Y74,AC74,AG74,AK74,AO74,AS74,AW74,BA74,BE74,BI74,BM74,BQ74,BU74,BY74,CC74,CG74,CK74,CO74,CS74,CW74,DA74,DE74,DI74,DM74,DQ74,DU74),"") | EC74: =IFERROR(AVERAGE(DW74:EB74),"")
A75: Posture & Body Language | B75: 10 | F75: =IFERROR(AVERAGE(C75:E75),"") | J75: =IFERROR(AVERAGE(G75:I75),"") | N75: =IFERROR(AVERAGE(K75:M75),"") | R75: =IFERROR(AVERAGE(O75:Q75),"") | V75: =IFERROR(AVERAGE(S75:U75),"") | Z75: =IFERROR(AVERAGE(W75:Y75),"") | AD75: =IFERROR(AVERAGE(AA75:AC75),"") | AH75: =IFERROR(AVERAGE(AE75:AG75),"") | AL75: =IFERROR(AVERAGE(AI75:AK75),"") | AP75: =IFERROR(AVERAGE(AM75:AO75),"") | AT75: =IFERROR(AVERAGE(AQ75:AS75),"") | AX75: =IFERROR(AVERAGE(AU75:AW75),"") | BB75: =IFERROR(AVERAGE(AY75:BA75),"") | BF75: =IFERROR(AVERAGE(BC75:BE75),"") | BJ75: =IFERROR(AVERAGE(BG75:BI75),"") | BN75: =IFERROR(AVERAGE(BK75:BM75),"") | BR75: =IFERROR(AVERAGE(BO75:BQ75),"") | BV75: =IFERROR(AVERAGE(BS75:BU75),"") | BZ75: =IFERROR(AVERAGE(BW75:BY75),"") | CD75: =IFERROR(AVERAGE(CA75:CC75),"") | CH75: =IFERROR(AVERAGE(CE75:CG75),"") | CL75: =IFERROR(AVERAGE(CI75:CK75),"") | CP75: =IFERROR(AVERAGE(CM75:CO75),"") | CT75: =IFERROR(AVERAGE(CQ75:CS75),"") | CX75: =IFERROR(AVERAGE(CU75:CW75),"") | DB75: =IFERROR(AVERAGE(CY75:DA75),"") | DF75: =IFERROR(AVERAGE(DC75:DE75),"") | DJ75: =IFERROR(AVERAGE(DG75:DI75),"") | DN75: =IFERROR(AVERAGE(DK75:DM75),"") | DR75: =IFERROR(AVERAGE(DO75:DQ75),"") | DV75: =IFERROR(AVERAGE(DS75:DU75),"") | EA75: =IFERROR(AVERAGE(D75,H75,L75,P75,T75,X75,AB75,AF75,AJ75,AN75,AR75,AV75,AZ75,BD75,BH75,BL75,BP75,BT75,BX75,CB75,CF75,CJ75,CN75,CR75,CV75,CZ75,DD75,DH75,DL75,DP75,DT75),"") | EB75: =IFERROR(AVERAGE(E75,I75,M75,Q75,U75,Y75,AC75,AG75,AK75,AO75,AS75,AW75,BA75,BE75,BI75,BM75,BQ75,BU75,BY75,CC75,CG75,CK75,CO75,CS75,CW75,DA75,DE75,DI75,DM75,DQ75,DU75),"") | EC75: =IFERROR(AVERAGE(DW75:EB75),"")
A76: Knowledge of Hotel & Events | B76: 20 | F76: =IFERROR(AVERAGE(C76:E76),"") | J76: =IFERROR(AVERAGE(G76:I76),"") | N76: =IFERROR(AVERAGE(K76:M76),"") | R76: =IFERROR(AVERAGE(O76:Q76),"") | V76: =IFERROR(AVERAGE(S76:U76),"") | Z76: =IFERROR(AVERAGE(W76:Y76),"") | AD76: =IFERROR(AVERAGE(AA76:AC76),"") | AH76: =IFERROR(AVERAGE(AE76:AG76),"") | AL76: =IFERROR(AVERAGE(AI76:AK76),"") | AP76: =IFERROR(AVERAGE(AM76:AO76),"") | AT76: =IFERROR(AVERAGE(AQ76:AS76),"") | AX76: =IFERROR(AVERAGE(AU76:AW76),"") | BB76: =IFERROR(AVERAGE(AY76:BA76),"") | BF76: =IFERROR(AVERAGE(BC76:BE76),"") | BJ76: =IFERROR(AVERAGE(BG76:BI76),"") | BN76: =IFERROR(AVERAGE(BK76:BM76),"") | BR76: =IFERROR(AVERAGE(BO76:BQ76),"") | BV76: =IFERROR(AVERAGE(BS76:BU76),"") | BZ76: =IFERROR(AVERAGE(BW76:BY76),"") | CD76: =IFERROR(AVERAGE(CA76:CC76),"") | CH76: =IFERROR(AVERAGE(CE76:CG76),"") | CL76: =IFERROR(AVERAGE(CI76:CK76),"") | CP76: =IFERROR(AVERAGE(CM76:CO76),"") | CT76: =IFERROR(AVERAGE(CQ76:CS76),"") | CX76: =IFERROR(AVERAGE(CU76:CW76),"") | DB76: =IFERROR(AVERAGE(CY76:DA76),"") | DF76: =IFERROR(AVERAGE(DC76:DE76),"") | DJ76: =IFERROR(AVERAGE(DG76:DI76),"") | DN76: =IFERROR(AVERAGE(DK76:DM76),"") | DR76: =IFERROR(AVERAGE(DO76:DQ76),"") | DV76: =IFERROR(AVERAGE(DS76:DU76),"") | EA76: =IFERROR(AVERAGE(D76,H76,L76,P76,T76,X76,AB76,AF76,AJ76,AN76,AR76,AV76,AZ76,BD76,BH76,BL76,BP76,BT76,BX76,CB76,CF76,CJ76,CN76,CR76,CV76,CZ76,DD76,DH76,DL76,DP76,DT76),"") | EB76: =IFERROR(AVERAGE(E76,I76,M76,Q76,U76,Y76,AC76,AG76,AK76,AO76,AS76,AW76,BA76,BE76,BI76,BM76,BQ76,BU76,BY76,CC76,CG76,CK76,CO76,CS76,CW76,DA76,DE76,DI76,DM76,DQ76,DU76),"") | EC76: =IFERROR(AVERAGE(DW76:EB76),"")
A77: Hair | B77: 15 | F77: =IFERROR(AVERAGE(C77:E77),"") | J77: =IFERROR(AVERAGE(G77:I77),"") | N77: =IFERROR(AVERAGE(K77:M77),"") | R77: =IFERROR(AVERAGE(O77:Q77),"") | V77: =IFERROR(AVERAGE(S77:U77),"") | Z77: =IFERROR(AVERAGE(W77:Y77),"") | AD77: =IFERROR(AVERAGE(AA77:AC77),"") | AH77: =IFERROR(AVERAGE(AE77:AG77),"") | AL77: =IFERROR(AVERAGE(AI77:AK77),"") | AP77: =IFERROR(AVERAGE(AM77:AO77),"") | AT77: =IFERROR(AVERAGE(AQ77:AS77),"") | AX77: =IFERROR(AVERAGE(AU77:AW77),"") | BB77: =IFERROR(AVERAGE(AY77:BA77),"") | BF77: =IFERROR(AVERAGE(BC77:BE77),"") | BJ77: =IFERROR(AVERAGE(BG77:BI77),"") | BN77: =IFERROR(AVERAGE(BK77:BM77),"") | BR77: =IFERROR(AVERAGE(BO77:BQ77),"") | BV77: =IFERROR(AVERAGE(BS77:BU77),"") | BZ77: =IFERROR(AVERAGE(BW77:BY77),"") | CD77: =IFERROR(AVERAGE(CA77:CC77),"") | CH77: =IFERROR(AVERAGE(CE77:CG77),"") | CL77: =IFERROR(AVERAGE(CI77:CK77),"") | CP77: =IFERROR(AVERAGE(CM77:CO77),"") | CT77: =IFERROR(AVERAGE(CQ77:CS77),"") | CX77: =IFERROR(AVERAGE(CU77:CW77),"") | DB77: =IFERROR(AVERAGE(CY77:DA77),"") | DF77: =IFERROR(AVERAGE(DC77:DE77),"") | DJ77: =IFERROR(AVERAGE(DG77:DI77),"") | DN77: =IFERROR(AVERAGE(DK77:DM77),"") | DR77: =IFERROR(AVERAGE(DO77:DQ77),"") | DV77: =IFERROR(AVERAGE(DS77:DU77),"") | EA77: =IFERROR(AVERAGE(D77,H77,L77,P77,T77,X77,AB77,AF77,AJ77,AN77,AR77,AV77,AZ77,BD77,BH77,BL77,BP77,BT77,BX77,CB77,CF77,CJ77,CN77,CR77,CV77,CZ77,DD77,DH77,DL77,DP77,DT77),"") | EB77: =IFERROR(AVERAGE(E77,I77,M77,Q77,U77,Y77,AC77,AG77,AK77,AO77,AS77,AW77,BA77,BE77,BI77,BM77,BQ77,BU77,BY77,CC77,CG77,CK77,CO77,CS77,CW77,DA77,DE77,DI77,DM77,DQ77,DU77),"") | EC77: =IFERROR(AVERAGE(DW77:EB77),"")
A78: Makeup | B78: 15 | F78: =IFERROR(AVERAGE(C78:E78),"") | J78: =IFERROR(AVERAGE(G78:I78),"") | N78: =IFERROR(AVERAGE(K78:M78),"") | R78: =IFERROR(AVERAGE(O78:Q78),"") | V78: =IFERROR(AVERAGE(S78:U78),"") | Z78: =IFERROR(AVERAGE(W78:Y78),"") | AD78: =IFERROR(AVERAGE(AA78:AC78),"") | AH78: =IFERROR(AVERAGE(AE78:AG78),"") | AL78: =IFERROR(AVERAGE(AI78:AK78),"") | AP78: =IFERROR(AVERAGE(AM78:AO78),"") | AT78: =IFERROR(AVERAGE(AQ78:AS78),"") | AX78: =IFERROR(AVERAGE(AU78:AW78),"") | BB78: =IFERROR(AVERAGE(AY78:BA78),"") | BF78: =IFERROR(AVERAGE(BC78:BE78),"") | BJ78: =IFERROR(AVERAGE(BG78:BI78),"") | BN78: =IFERROR(AVERAGE(BK78:BM78),"") | BR78: =IFERROR(AVERAGE(BO78:BQ78),"") | BV78: =IFERROR(AVERAGE(BS78:BU78),"") | BZ78: =IFERROR(AVERAGE(BW78:BY78),"") | CD78: =IFERROR(AVERAGE(CA78:CC78),"") | CH78: =IFERROR(AVERAGE(CE78:CG78),"") | CL78: =IFERROR(AVERAGE(CI78:CK78),"") | CP78: =IFERROR(AVERAGE(CM78:CO78),"") | CT78: =IFERROR(AVERAGE(CQ78:CS78),"") | CX78: =IFERROR(AVERAGE(CU78:CW78),"") | DB78: =IFERROR(AVERAGE(CY78:DA78),"") | DF78: =IFERROR(AVERAGE(DC78:DE78),"") | DJ78: =IFERROR(AVERAGE(DG78:DI78),"") | DN78: =IFERROR(AVERAGE(DK78:DM78),"") | DR78: =IFERROR(AVERAGE(DO78:DQ78),"") | DV78: =IFERROR(AVERAGE(DS78:DU78),"") | EA78: =IFERROR(AVERAGE(D78,H78,L78,P78,T78,X78,AB78,AF78,AJ78,AN78,AR78,AV78,AZ78,BD78,BH78,BL78,BP78,BT78,BX78,CB78,CF78,CJ78,CN78,CR78,CV78,CZ78,DD78,DH78,DL78,DP78,DT78),"") | EB78: =IFERROR(AVERAGE(E78,I78,M78,Q78,U78,Y78,AC78,AG78,AK78,AO78,AS78,AW78,BA78,BE78,BI78,BM78,BQ78,BU78,BY78,CC78,CG78,CK78,CO78,CS78,CW78,DA78,DE78,DI78,DM78,DQ78,DU78),"") | EC78: =IFERROR(AVERAGE(DW78:EB78),"")
A79: Uniform | B79: 10 | F79: =IFERROR(AVERAGE(C79:E79),"") | J79: =IFERROR(AVERAGE(G79:I79),"") | N79: =IFERROR(AVERAGE(K79:M79),"") | R79: =IFERROR(AVERAGE(O79:Q79),"") | V79: =IFERROR(AVERAGE(S79:U79),"") | Z79: =IFERROR(AVERAGE(W79:Y79),"") | AD79: =IFERROR(AVERAGE(AA79:AC79),"") | AH79: =IFERROR(AVERAGE(AE79:AG79),"") | AL79: =IFERROR(AVERAGE(AI79:AK79),"") | AP79: =IFERROR(AVERAGE(AM79:AO79),"") | AT79: =IFERROR(AVERAGE(AQ79:AS79),"") | AX79: =IFERROR(AVERAGE(AU79:AW79),"") | BB79: =IFERROR(AVERAGE(AY79:BA79),"") | BF79: =IFERROR(AVERAGE(BC79:BE79),"") | BJ79: =IFERROR(AVERAGE(BG79:BI79),"") | BN79: =IFERROR(AVERAGE(BK79:BM79),"") | BR79: =IFERROR(AVERAGE(BO79:BQ79),"") | BV79: =IFERROR(AVERAGE(BS79:BU79),"") | BZ79: =IFERROR(AVERAGE(BW79:BY79),"") | CD79: =IFERROR(AVERAGE(CA79:CC79),"") | CH79: =IFERROR(AVERAGE(CE79:CG79),"") | CL79: =IFERROR(AVERAGE(CI79:CK79),"") | CP79: =IFERROR(AVERAGE(CM79:CO79),"") | CT79: =IFERROR(AVERAGE(CQ79:CS79),"") | CX79: =IFERROR(AVERAGE(CU79:CW79),"") | DB79: =IFERROR(AVERAGE(CY79:DA79),"") | DF79: =IFERROR(AVERAGE(DC79:DE79),"") | DJ79: =IFERROR(AVERAGE(DG79:DI79),"") | DN79: =IFERROR(AVERAGE(DK79:DM79),"") | DR79: =IFERROR(AVERAGE(DO79:DQ79),"") | DV79: =IFERROR(AVERAGE(DS79:DU79),"") | EA79: =IFERROR(AVERAGE(D79,H79,L79,P79,T79,X79,AB79,AF79,AJ79,AN79,AR79,AV79,AZ79,BD79,BH79,BL79,BP79,BT79,BX79,CB79,CF79,CJ79,CN79,CR79,CV79,CZ79,DD79,DH79,DL79,DP79,DT79),"") | EB79: =IFERROR(AVERAGE(E79,I79,M79,Q79,U79,Y79,AC79,AG79,AK79,AO79,AS79,AW79,BA79,BE79,BI79,BM79,BQ79,BU79,BY79,CC79,CG79,CK79,CO79,CS79,CW79,DA79,DE79,DI79,DM79,DQ79,DU79),"") | EC79: =IFERROR(AVERAGE(DW79:EB79),"")
A80: Total | B80: 100 | C80: =IFERROR(SUM(C73:C79),"") | D80: =IFERROR(SUM(D73:D79),"") | E80: =IFERROR(SUM(E73:E79),"") | F80: =IFERROR(SUM(F73:F79),"") | G80: =IFERROR(SUM(G73:G79),"") | H80: =IFERROR(SUM(H73:H79),"") | I80: =IFERROR(SUM(I73:I79),"") | J80: =IFERROR(SUM(J73:J79),"") | ... DV80: =IFERROR(SUM(DV73:DV79),"") | EA80: =IFERROR(SUM(EA73:EA79),"") | EB80: =IFERROR(SUM(EB73:EB79),"") | EC80: =IFERROR(SUM(EC73:EC79),"")
A82: [Person_1] | B82: % | C82: =C$2 | D82: =D$2 | E82: =E$2 | F82: Avg | G82: =G$2 | H82: =H$2 | I82: =I$2 | J82: Avg | K82: =K$2 | L82: =L$2 | M82: =M$2 | N82: Avg | O82: =O$2 | P82: =P$2 | Q82: =Q$2 | R82: Avg | S82: =S$2 | T82: =T$2 | U82: =U$2 | V82: Avg | W82: =W$2 | X82: =X$2 | Y82: =Y$2 | Z82: Avg | AA82: =AA$2 | AB82: =AB$2 | AC82: =AC$2 | AD82: Avg | AE82: =AE$2 | AF82: =AF$2 | AG82: =AG$2 | AH82: Avg | AI82: =AI$2 | AJ82: =AJ$2 | AK82: =AK$2 | AL82: Avg | AM82: =AM$2 | AN82: =AN$2 | AO82: =AO$2 | AP82: Avg | AQ82: =AQ$2 | AR82: =AR$2 | AS82: =AS$2 | AT82: Avg | AU82: =AU$2 | AV82: =AV$2 | AW82: =AW$2 | AX82: Avg | AY82: =AY$2 | AZ82: =AZ$2 | BA82: =BA$2 | BB82: Avg | BC82: =BC$2 | BD82: =BD$2 | BE82: =BE$2 | BF82: Avg | BG82: =BG$2 | BH82: =BH$2 | BI82: =BI$2 | BJ82: Avg | BK82: =BK$2 | BL82: =BL$2 | BM82: =BM$2 | BN82: Avg | BO82: =BO$2 | BP82: =BP$2 | BQ82: =BQ$2 | BR82: Avg | BS82: =BS$2 | BT82: =BT$2 | BU82: =BU$2 | BV82: Avg | BW82: =BW$2 | BX82: =BX$2 | BY82: =BY$2 | BZ82: Avg | CA82: =CA$2 | CB82: =CB$2 | CC82: =CC$2 | CD82: Avg | CE82: =CE$2 | CF82: =CF$2 | CG82: =CG$2 | CH82: Avg | CI82: =CI$2 | CJ82: =CJ$2 | CK82: =CK$2 | CL82: Avg | CM82: =CM$2 | CN82: =CN$2 | CO82: =CO$2 | CP82: Avg | CQ82: =CQ$2 | CR82: =CR$2 | CS82: =CS$2 | CT82: Avg | CU82: =CU$2 | CV82: =CV$2 | CW82: =CW$2 | CX82: Avg | CY82: =CY$2 | CZ82: =CZ$2 | DA82: =DA$2 | DB82: Avg | DC82: =DC$2 | DD82: =DD$2 | DE82: =DE$2 | DF82: Avg | DG82: =DG$2 | DH82: =DH$2 | DI82: =DI$2 | DJ82: Avg | DK82: =DK$2 | DL82: =DL$2 | DM82: =DM$2 | DN82: Avg | DO82: =DO$2 | DP82: =DP$2 | DQ82: =DQ$2 | DR82: Avg | DS82: =DS$2 | DT82: =DT$2 | DU82: =DU$2 | DV82: Avg | DW82: K | DX82: M | DY82: G | DZ82: J | EA82: Y | EB82: C | EC82: Avg
A83: [Person_2] | B83: 20 | F83: =IFERROR(AVERAGE(C83:E83),"") | J83: =IFERROR(AVERAGE(G83:I83),"") | N83: =IFERROR(AVERAGE(K83:M83),"") | R83: =IFERROR(AVERAGE(O83:Q83),"") | V83: =IFERROR(AVERAGE(S83:U83),"") | Z83: =IFERROR(AVERAGE(W83:Y83),"") | AD83: =IFERROR(AVERAGE(AA83:AC83),"") | AH83: =IFERROR(AVERAGE(AE83:AG83),"") | AL83: =IFERROR(AVERAGE(AI83:AK83),"") | AP83: =IFERROR(AVERAGE(AM83:AO83),"") | AT83: =IFERROR(AVERAGE(AQ83:AS83),"") | AX83: =IFERROR(AVERAGE(AU83:AW83),"") | BB83: =IFERROR(AVERAGE(AY83:BA83),"") | BF83: =IFERROR(AVERAGE(BC83:BE83),"") | BJ83: =IFERROR(AVERAGE(BG83:BI83),"") | BN83: =IFERROR(AVERAGE(BK83:BM83),"") | BR83: =IFERROR(AVERAGE(BO83:BQ83),"") | BV83: =IFERROR(AVERAGE(BS83:BU83),"") | BZ83: =IFERROR(AVERAGE(BW83:BY83),"") | CD83: =IFERROR(AVERAGE(CA83:CC83),"") | CH83: =IFERROR(AVERAGE(CE83:CG83),"") | CL83: =IFERROR(AVERAGE(CI83:CK83),"") | CP83: =IFERROR(AVERAGE(CM83:CO83),"") | CT83: =IFERROR(AVERAGE(CQ83:CS83),"") | CX83: =IFERROR(AVERAGE(CU83:CW83),"") | DB83: =IFERROR(AVERAGE(CY83:DA83),"") | DF83: =IFERROR(AVERAGE(DC83:DE83),"") | DJ83: =IFERROR(AVERAGE(DG83:DI83),"") | DN83: =IFERROR(AVERAGE(DK83:DM83),"") | DR83: =IFERROR(AVERAGE(DO83:DQ83),"") | DV83: =IFERROR(AVERAGE(DS83:DU83),"") | EA83: =IFERROR(AVERAGE(D83,H83,L83,P83,T83,X83,AB83,AF83,AJ83,AN83,AR83,AV83,AZ83,BD83,BH83,BL83,BP83,BT83,BX83,CB83,CF83,CJ83,CN83,CR83,CV83,CZ83,DD83,DH83,DL83,DP83,DT83),"") | EB83: =IFERROR(AVERAGE(E83,I83,M83,Q83,U83,Y83,AC83,AG83,AK83,AO83,AS83,AW83,BA83,BE83,BI83,BM83,BQ83,BU83,BY83,CC83,CG83,CK83,CO83,CS83,CW83,DA83,DE83,DI83,DM83,DQ83,DU83),"") | EC83: =IFERROR(AVERAGE(DW83:EB83),"")
A84: Assist Guests VIP/Lift | B84: 10 | F84: =IFERROR(AVERAGE(C84:E84),"") | J84: =IFERROR(AVERAGE(G84:I84),"") | N84: =IFERROR(AVERAGE(K84:M84),"") | R84: =IFERROR(AVERAGE(O84:Q84),"") | V84: =IFERROR(AVERAGE(S84:U84),"") | Z84: =IFERROR(AVERAGE(W84:Y84),"") | AD84: =IFERROR(AVERAGE(AA84:AC84),"") | AH84: =IFERROR(AVERAGE(AE84:AG84),"") | AL84: =IFERROR(AVERAGE(AI84:AK84),"") | AP84: =IFERROR(AVERAGE(AM84:AO84),"") | AT84: =IFERROR(AVERAGE(AQ84:AS84),"") | AX84: =IFERROR(AVERAGE(AU84:AW84),"") | BB84: =IFERROR(AVERAGE(AY84:BA84),"") | BF84: =IFERROR(AVERAGE(BC84:BE84),"") | BJ84: =IFERROR(AVERAGE(BG84:BI84),"") | BN84: =IFERROR(AVERAGE(BK84:BM84),"") | BR84: =IFERROR(AVERAGE(BO84:BQ84),"") | BV84: =IFERROR(AVERAGE(BS84:BU84),"") | BZ84: =IFERROR(AVERAGE(BW84:BY84),"") | CD84: =IFERROR(AVERAGE(CA84:CC84),"") | CH84: =IFERROR(AVERAGE(CE84:CG84),"") | CL84: =IFERROR(AVERAGE(CI84:CK84),"") | CP84: =IFERROR(AVERAGE(CM84:CO84),"") | CT84: =IFERROR(AVERAGE(CQ84:CS84),"") | CX84: =IFERROR(AVERAGE(CU84:CW84),"") | DB84: =IFERROR(AVERAGE(CY84:DA84),"") | DF84: =IFERROR(AVERAGE(DC84:DE84),"") | DJ84: =IFERROR(AVERAGE(DG84:DI84),"") | DN84: =IFERROR(AVERAGE(DK84:DM84),"") | DR84: =IFERROR(AVERAGE(DO84:DQ84),"") | DV84: =IFERROR(AVERAGE(DS84:DU84),"") | EA84: =IFERROR(AVERAGE(D84,H84,L84,P84,T84,X84,AB84,AF84,AJ84,AN84,AR84,AV84,AZ84,BD84,BH84,BL84,BP84,BT84,BX84,CB84,CF84,CJ84,CN84,CR84,CV84,CZ84,DD84,DH84,DL84,DP84,DT84),"") | EB84: =IFERROR(AVERAGE(E84,I84,M84,Q84,U84,Y84,AC84,AG84,AK84,AO84,AS84,AW84,BA84,BE84,BI84,BM84,BQ84,BU84,BY84,CC84,CG84,CK84,CO84,CS84,CW84,DA84,DE84,DI84,DM84,DQ84,DU84),"") | EC84: =IFERROR(AVERAGE(DW84:EB84),"")
A85: Posture & Body Language | B85: 10 | F85: =IFERROR(AVERAGE(C85:E85),"") | J85: =IFERROR(AVERAGE(G85:I85),"") | N85: =IFERROR(AVERAGE(K85:M85),"") | R85: =IFERROR(AVERAGE(O85:Q85),"") | V85: =IFERROR(AVERAGE(S85:U85),"") | Z85: =IFERROR(AVERAGE(W85:Y85),"") | AD85: =IFERROR(AVERAGE(AA85:AC85),"") | AH85: =IFERROR(AVERAGE(AE85:AG85),"") | AL85: =IFERROR(AVERAGE(AI85:AK85),"") | AP85: =IFERROR(AVERAGE(AM85:AO85),"") | AT85: =IFERROR(AVERAGE(AQ85:AS85),"") | AX85: =IFERROR(AVERAGE(AU85:AW85),"") | BB85: =IFERROR(AVERAGE(AY85:BA85),"") | BF85: =IFERROR(AVERAGE(BC85:BE85),"") | BJ85: =IFERROR(AVERAGE(BG85:BI85),"") | BN85: =IFERROR(AVERAGE(BK85:BM85),"") | BR85: =IFERROR(AVERAGE(BO85:BQ85),"") | BV85: =IFERROR(AVERAGE(BS85:BU85),"") | BZ85: =IFERROR(AVERAGE(BW85:BY85),"") | CD85: =IFERROR(AVERAGE(CA85:CC85),"") | CH85: =IFERROR(AVERAGE(CE85:CG85),"") | CL85: =IFERROR(AVERAGE(CI85:CK85),"") | CP85: =IFERROR(AVERAGE(CM85:CO85),"") | CT85: =IFERROR(AVERAGE(CQ85:CS85),"") | CX85: =IFERROR(AVERAGE(CU85:CW85),"") | DB85: =IFERROR(AVERAGE(CY85:DA85),"") | DF85: =IFERROR(AVERAGE(DC85:DE85),"") | DJ85: =IFERROR(AVERAGE(DG85:DI85),"") | DN85: =IFERROR(AVERAGE(DK85:DM85),"") | DR85: =IFERROR(AVERAGE(DO85:DQ85),"") | DV85: =IFERROR(AVERAGE(DS85:DU85),"") | EA85: =IFERROR(AVERAGE(D85,H85,L85,P85,T85,X85,AB85,AF85,AJ85,AN85,AR85,AV85,AZ85,BD85,BH85,BL85,BP85,BT85,BX85,CB85,CF85,CJ85,CN85,CR85,CV85,CZ85,DD85,DH85,DL85,DP85,DT85),"") | EB85: =IFERROR(AVERAGE(E85,I85,M85,Q85,U85,Y85,AC85,AG85,AK85,AO85,AS85,AW85,BA85,BE85,BI85,BM85,BQ85,BU85,BY85,CC85,CG85,CK85,CO85,CS85,CW85,DA85,DE85,DI85,DM85,DQ85,DU85),"") | EC85: =IFERROR(AVERAGE(DW85:EB85),"")
A86: Knowledge of Hotel & Events | B86: 20 | F86: =IFERROR(AVERAGE(C86:E86),"") | J86: =IFERROR(AVERAGE(G86:I86),"") | N86: =IFERROR(AVERAGE(K86:M86),"") | R86: =IFERROR(AVERAGE(O86:Q86),"") | V86: =IFERROR(AVERAGE(S86:U86),"") | Z86: =IFERROR(AVERAGE(W86:Y86),"") | AD86: =IFERROR(AVERAGE(AA86:AC86),"") | AH86: =IFERROR(AVERAGE(AE86:AG86),"") | AL86: =IFERROR(AVERAGE(AI86:AK86),"") | AP86: =IFERROR(AVERAGE(AM86:AO86),"") | AT86: =IFERROR(AVERAGE(AQ86:AS86),"") | AX86: =IFERROR(AVERAGE(AU86:AW86),"") | BB86: =IFERROR(AVERAGE(AY86:BA86),"") | BF86: =IFERROR(AVERAGE(BC86:BE86),"") | BJ86: =IFERROR(AVERAGE(BG86:BI86),"") | BN86: =IFERROR(AVERAGE(BK86:BM86),"") | BR86: =IFERROR(AVERAGE(BO86:BQ86),"") | BV86: =IFERROR(AVERAGE(BS86:BU86),"") | BZ86: =IFERROR(AVERAGE(BW86:BY86),"") | CD86: =IFERROR(AVERAGE(CA86:CC86),"") | CH86: =IFERROR(AVERAGE(CE86:CG86),"") | CL86: =IFERROR(AVERAGE(CI86:CK86),"") | CP86: =IFERROR(AVERAGE(CM86:CO86),"") | CT86: =IFERROR(AVERAGE(CQ86:CS86),"") | CX86: =IFERROR(AVERAGE(CU86:CW86),"") | DB86: =IFERROR(AVERAGE(CY86:DA86),"") | DF86: =IFERROR(AVERAGE(DC86:DE86),"") | DJ86: =IFERROR(AVERAGE(DG86:DI86),"") | DN86: =IFERROR(AVERAGE(DK86:DM86),"") | DR86: =IFERROR(AVERAGE(DO86:DQ86),"") | DV86: =IFERROR(AVERAGE(DS86:DU86),"") | EA86: =IFERROR(AVERAGE(D86,H86,L86,P86,T86,X86,AB86,AF86,AJ86,AN86,AR86,AV86,AZ86,BD86,BH86,BL86,BP86,BT86,BX86,CB86,CF86,CJ86,CN86,CR86,CV86,CZ86,DD86,DH86,DL86,DP86,DT86),"") | EB86: =IFERROR(AVERAGE(E86,I86,M86,Q86,U86,Y86,AC86,AG86,AK86,AO86,AS86,AW86,BA86,BE86,BI86,BM86,BQ86,BU86,BY86,CC86,CG86,CK86,CO86,CS86,CW86,DA86,DE86,DI86,DM86,DQ86,DU86),"") | EC86: =IFERROR(AVERAGE(DW86:EB86),"")
A87: Hair | B87: 15 | F87: =IFERROR(AVERAGE(C87:E87),"") | J87: =IFERROR(AVERAGE(G87:I87),"") | N87: =IFERROR(AVERAGE(K87:M87),"") | R87: =IFERROR(AVERAGE(O87:Q87),"") | V87: =IFERROR(AVERAGE(S87:U87),"") | Z87: =IFERROR(AVERAGE(W87:Y87),"") | AD87: =IFERROR(AVERAGE(AA87:AC87),"") | AH87: =IFERROR(AVERAGE(AE87:AG87),"") | AL87: =IFERROR(AVERAGE(AI87:AK87),"") | AP87: =IFERROR(AVERAGE(AM87:AO87),"") | AT87: =IFERROR(AVERAGE(AQ87:AS87),"") | AX87: =IFERROR(AVERAGE(AU87:AW87),"") | BB87: =IFERROR(AVERAGE(AY87:BA87),"") | BF87: =IFERROR(AVERAGE(BC87:BE87),"") | BJ87: =IFERROR(AVERAGE(BG87:BI87),"") | BN87: =IFERROR(AVERAGE(BK87:BM87),"") | BR87: =IFERROR(AVERAGE(BO87:BQ87),"") | BV87: =IFERROR(AVERAGE(BS87:BU87),"") | BZ87: =IFERROR(AVERAGE(BW87:BY87),"") | CD87: =IFERROR(AVERAGE(CA87:CC87),"") | CH87: =IFERROR(AVERAGE(CE87:CG87),"") | CL87: =IFERROR(AVERAGE(CI87:CK87),"") | CP87: =IFERROR(AVERAGE(CM87:CO87),"") | CT87: =IFERROR(AVERAGE(CQ87:CS87),"") | CX87: =IFERROR(AVERAGE(CU87:CW87),"") | DB87: =IFERROR(AVERAGE(CY87:DA87),"") | DF87: =IFERROR(AVERAGE(DC87:DE87),"") | DJ87: =IFERROR(AVERAGE(DG87:DI87),"") | DN87: =IFERROR(AVERAGE(DK87:DM87),"") | DR87: =IFERROR(AVERAGE(DO87:DQ87),"") | DV87: =IFERROR(AVERAGE(DS87:DU87),"") | EA87: =IFERROR(AVERAGE(D87,H87,L87,P87,T87,X87,AB87,AF87,AJ87,AN87,AR87,AV87,AZ87,BD87,BH87,BL87,BP87,BT87,BX87,CB87,CF87,CJ87,CN87,CR87,CV87,CZ87,DD87,DH87,DL87,DP87,DT87),"") | EB87: =IFERROR(AVERAGE(E87,I87,M87,Q87,U87,Y87,AC87,AG87,AK87,AO87,AS87,AW87,BA87,BE87,BI87,BM87,BQ87,BU87,BY87,CC87,CG87,CK87,CO87,CS87,CW87,DA87,DE87,DI87,DM87,DQ87,DU87),"") | EC87: =IFERROR(AVERAGE(DW87:EB87),"")
A88: Makeup | B88: 15 | F88: =IFERROR(AVERAGE(C88:E88),"") | J88: =IFERROR(AVERAGE(G88:I88),"") | N88: =IFERROR(AVERAGE(K88:M88),"") | R88: =IFERROR(AVERAGE(O88:Q88),"") | V88: =IFERROR(AVERAGE(S88:U88),"") | Z88: =IFERROR(AVERAGE(W88:Y88),"") | AD88: =IFERROR(AVERAGE(AA88:AC88),"") | AH88: =IFERROR(AVERAGE(AE88:AG88),"") | AL88: =IFERROR(AVERAGE(AI88:AK88),"") | AP88: =IFERROR(AVERAGE(AM88:AO88),"") | AT88: =IFERROR(AVERAGE(AQ88:AS88),"") | AX88: =IFERROR(AVERAGE(AU88:AW88),"") | BB88: =IFERROR(AVERAGE(AY88:BA88),"") | BF88: =IFERROR(AVERAGE(BC88:BE88),"") | BJ88: =IFERROR(AVERAGE(BG88:BI88),"") | BN88: =IFERROR(AVERAGE(BK88:BM88),"") | BR88: =IFERROR(AVERAGE(BO88:BQ88),"") | BV88: =IFERROR(AVERAGE(BS88:BU88),"") | BZ88: =IFERROR(AVERAGE(BW88:BY88),"") | CD88: =IFERROR(AVERAGE(CA88:CC88),"") | CH88: =IFERROR(AVERAGE(CE88:CG88),"") | CL88: =IFERROR(AVERAGE(CI88:CK88),"") | CP88: =IFERROR(AVERAGE(CM88:CO88),"") | CT88: =IFERROR(AVERAGE(CQ88:CS88),"") | CX88: =IFERROR(AVERAGE(CU88:CW88),"") | DB88: =IFERROR(AVERAGE(CY88:DA88),"") | DF88: =IFERROR(AVERAGE(DC88:DE88),"") | DJ88: =IFERROR(AVERAGE(DG88:DI88),"") | DN88: =IFERROR(AVERAGE(DK88:DM88),"") | DR88: =IFERROR(AVERAGE(DO88:DQ88),"") | DV88: =IFERROR(AVERAGE(DS88:DU88),"") | EA88: =IFERROR(AVERAGE(D88,H88,L88,P88,T88,X88,AB88,AF88,AJ88,AN88,AR88,AV88,AZ88,BD88,BH88,BL88,BP88,BT88,BX88,CB88,CF88,CJ88,CN88,CR88,CV88,CZ88,DD88,DH88,DL88,DP88,DT88),"") | EB88: =IFERROR(AVERAGE(E88,I88,M88,Q88,U88,Y88,AC88,AG88,AK88,AO88,AS88,AW88,BA88,BE88,BI88,BM88,BQ88,BU88,BY88,CC88,CG88,CK88,CO88,CS88,CW88,DA88,DE88,DI88,DM88,DQ88,DU88),"") | EC88: =IFERROR(AVERAGE(DW88:EB88),"")
A89: Uniform | B89: 10 | F89: =IFERROR(AVERAGE(C89:E89),"") | J89: =IFERROR(AVERAGE(G89:I89),"") | N89: =IFERROR(AVERAGE(K89:M89),"") | R89: =IFERROR(AVERAGE(O89:Q89),"") | V89: =IFERROR(AVERAGE(S89:U89),"") | Z89: =IFERROR(AVERAGE(W89:Y89),"") | AD89: =IFERROR(AVERAGE(AA89:AC89),"") | AH89: =IFERROR(AVERAGE(AE89:AG89),"") | AL89: =IFERROR(AVERAGE(AI89:AK89),"") | AP89: =IFERROR(AVERAGE(AM89:AO89),"") | AT89: =IFERROR(AVERAGE(AQ89:AS89),"") | AX89: =IFERROR(AVERAGE(AU89:AW89),"") | BB89: =IFERROR(AVERAGE(AY89:BA89),"") | BF89: =IFERROR(AVERAGE(BC89:BE89),"") | BJ89: =IFERROR(AVERAGE(BG89:BI89),"") | BN89: =IFERROR(AVERAGE(BK89:BM89),"") | BR89: =IFERROR(AVERAGE(BO89:BQ89),"") | BV89: =IFERROR(AVERAGE(BS89:BU89),"") | BZ89: =IFERROR(AVERAGE(BW89:BY89),"") | CD89: =IFERROR(AVERAGE(CA89:CC89),"") | CH89: =IFERROR(AVERAGE(CE89:CG89),"") | CL89: =IFERROR(AVERAGE(CI89:CK89),"") | CP89: =IFERROR(AVERAGE(CM89:CO89),"") | CT89: =IFERROR(AVERAGE(CQ89:CS89),"") | CX89: =IFERROR(AVERAGE(CU89:CW89),"") | DB89: =IFERROR(AVERAGE(CY89:DA89),"") | DF89: =IFERROR(AVERAGE(DC89:DE89),"") | DJ89: =IFERROR(AVERAGE(DG89:DI89),"") | DN89: =IFERROR(AVERAGE(DK89:DM89),"") | DR89: =IFERROR(AVERAGE(DO89:DQ89),"") | DV89: =IFERROR(AVERAGE(DS89:DU89),"") | EA89: =IFERROR(AVERAGE(D89,H89,L89,P89,T89,X89,AB89,AF89,AJ89,AN89,AR89,AV89,AZ89,BD89,BH89,BL89,BP89,BT89,BX89,CB89,CF89,CJ89,CN89,CR89,CV89,CZ89,DD89,DH89,DL89,DP89,DT89),"") | EB89: =IFERROR(AVERAGE(E89,I89,M89,Q89,U89,Y89,AC89,AG89,AK89,AO89,AS89,AW89,BA89,BE89,BI89,BM89,BQ89,BU89,BY89,CC89,CG89,CK89,CO89,CS89,CW89,DA89,DE89,DI89,DM89,DQ89,DU89),"") | EC89: =IFERROR(AVERAGE(DW89:EB89),"")
A90: Total | B90: 100 | C90: =IFERROR(SUM(C83:C89),"") | D90: =IFERROR(SUM(D83:D89),"") | E90: =IFERROR(SUM(E83:E89),"") | F90: =IFERROR(SUM(F83:F89),"") | G90: =IFERROR(SUM(G83:G89),"") | H90: =IFERROR(SUM(H83:H89),"") | I90: =IFERROR(SUM(I83:I89),"") | J90: =IFERROR(SUM(J83:J89),"") | ... DV90: =IFERROR(SUM(DV83:DV89),"") | EA90: =IFERROR(SUM(EA83:EA89),"") | EB90: =IFERROR(SUM(EB83:EB89),"") | EC90: =IFERROR(SUM(EC83:EC89),"")
A92: [Person_4] | B92: % | C92: =C$2 | D92: =D$2 | E92: =E$2 | F92: Avg | G92: =G$2 | H92: =H$2 | I92: =I$2 | J92: Avg | K92: =K$2 | L92: =L$2 | M92: =M$2 | N92: Avg | O92: =O$2 | P92: =P$2 | Q92: =Q$2 | R92: Avg | S92: =S$2 | T92: =T$2 | U92: =U$2 | V92: Avg | W92: =W$2 | X92: =X$2 | Y92: =Y$2 | Z92: Avg | AA92: =AA$2 | AB92: =AB$2 | AC92: =AC$2 | AD92: Avg | AE92: =AE$2 | AF92: =AF$2 | AG92: =AG$2 | AH92: Avg | AI92: =AI$2 | AJ92: =AJ$2 | AK92: =AK$2 | AL92: Avg | AM92: =AM$2 | AN92: =AN$2 | AO92: =AO$2 | AP92: Avg | AQ92: =AQ$2 | AR92: =AR$2 | AS92: =AS$2 | AT92: Avg | AU92: =AU$2 | AV92: =AV$2 | AW92: =AW$2 | AX92: Avg | AY92: =AY$2 | AZ92: =AZ$2 | BA92: =BA$2 | BB92: Avg | BC92: =BC$2 | BD92: =BD$2 | BE92: =BE$2 | BF92: Avg | BG92: =BG$2 | BH92: =BH$2 | BI92: =BI$2 | BJ92: Avg | BK92: =BK$2 | BL92: =BL$2 | BM92: =BM$2 | BN92: Avg | BO92: =BO$2 | BP92: =BP$2 | BQ92: =BQ$2 | BR92: Avg | BS92: =BS$2 | BT92: =BT$2 | BU92: =BU$2 | BV92: Avg | BW92: =BW$2 | BX92: =BX$2 | BY92: =BY$2 | BZ92: Avg | CA92: =CA$2 | CB92: =CB$2 | CC92: =CC$2 | CD92: Avg | CE92: =CE$2 | CF92: =CF$2 | CG92: =CG$2 | CH92: Avg | CI92: =CI$2 | CJ92: =CJ$2 | CK92: =CK$2 | CL92: Avg | CM92: =CM$2 | CN92: =CN$2 | CO92: =CO$2 | CP92: Avg | CQ92: =CQ$2 | CR92: =CR$2 | CS92: =CS$2 | CT92: Avg | CU92: =CU$2 | CV92: =CV$2 | CW92: =CW$2 | CX92: Avg | CY92: =CY$2 | CZ92: =CZ$2 | DA92: =DA$2 | DB92: Avg | DC92: =DC$2 | DD92: =DD$2 | DE92: =DE$2 | DF92: Avg | DG92: =DG$2 | DH92: =DH$2 | DI92: =DI$2 | DJ92: Avg | DK92: =DK$2 | DL92: =DL$2 | DM92: =DM$2 | DN92: Avg | DO92: =DO$2 | DP92: =DP$2 | DQ92: =DQ$2 | DR92: Avg | DS92: =DS$2 | DT92: =DT$2 | DU92: =DU$2 | DV92: Avg | DW92: K | DX92: M | DY92: G | DZ92: J | EA92: Y | EB92: C | EC92: Avg
A93: [Person_2] | B93: 20 | F93: =IFERROR(AVERAGE(C93:E93),"") | J93: =IFERROR(AVERAGE(G93:I93),"") | N93: =IFERROR(AVERAGE(K93:M93),"") | R93: =IFERROR(AVERAGE(O93:Q93),"") | V93: =IFERROR(AVERAGE(S93:U93),"") | Z93: =IFERROR(AVERAGE(W93:Y93),"") | AD93: =IFERROR(AVERAGE(AA93:AC93),"") | AH93: =IFERROR(AVERAGE(AE93:AG93),"") | AL93: =IFERROR(AVERAGE(AI93:AK93),"") | AP93: =IFERROR(AVERAGE(AM93:AO93),"") | AT93: =IFERROR(AVERAGE(AQ93:AS93),"") | AX93: =IFERROR(AVERAGE(AU93:AW93),"") | BB93: =IFERROR(AVERAGE(AY93:BA93),"") | BF93: =IFERROR(AVERAGE(BC93:BE93),"") | BJ93: =IFERROR(AVERAGE(BG93:BI93),"") | BN93: =IFERROR(AVERAGE(BK93:BM93),"") | BR93: =IFERROR(AVERAGE(BO93:BQ93),"") | BV93: =IFERROR(AVERAGE(BS93:BU93),"") | BZ93: =IFERROR(AVERAGE(BW93:BY93),"") | CD93: =IFERROR(AVERAGE(CA93:CC93),"") | CH93: =IFERROR(AVERAGE(CE93:CG93),"") | CL93: =IFERROR(AVERAGE(CI93:CK93),"") | CP93: =IFERROR(AVERAGE(CM93:CO93),"") | CT93: =IFERROR(AVERAGE(CQ93:CS93),"") | CX93: =IFERROR(AVERAGE(CU93:CW93),"") | DB93: =IFERROR(AVERAGE(CY93:DA93),"") | DF93: =IFERROR(AVERAGE(DC93:DE93),"") | DJ93: =IFERROR(AVERAGE(DG93:DI93),"") | DN93: =IFERROR(AVERAGE(DK93:DM93),"") | DR93: =IFERROR(AVERAGE(DO93:DQ93),"") | DV93: =IFERROR(AVERAGE(DS93:DU93),"") | EA93: =IFERROR(AVERAGE(D93,H93,L93,P93,T93,X93,AB93,AF93,AJ93,AN93,AR93,AV93,AZ93,BD93,BH93,BL93,BP93,BT93,BX93,CB93,CF93,CJ93,CN93,CR93,CV93,CZ93,DD93,DH93,DL93,DP93,DT93),"") | EB93: =IFERROR(AVERAGE(E93,I93,M93,Q93,U93,Y93,AC93,AG93,AK93,AO93,AS93,AW93,BA93,BE93,BI93,BM93,BQ93,BU93,BY93,CC93,CG93,CK93,CO93,CS93,CW93,DA93,DE93,DI93,DM93,DQ93,DU93),"") | EC93: =IFERROR(AVERAGE(DW93:EB93),"")
A94: Assist Guests VIP/Lift | B94: 10 | F94: =IFERROR(AVERAGE(C94:E94),"") | J94: =IFERROR(AVERAGE(G94:I94),"") | N94: =IFERROR(AVERAGE(K94:M94),"") | R94: =IFERROR(AVERAGE(O94:Q94),"") | V94: =IFERROR(AVERAGE(S94:U94),"") | Z94: =IFERROR(AVERAGE(W94:Y94),"") | AD94: =IFERROR(AVERAGE(AA94:AC94),"") | AH94: =IFERROR(AVERAGE(AE94:AG94),"") | AL94: =IFERROR(AVERAGE(AI94:AK94),"") | AP94: =IFERROR(AVERAGE(AM94:AO94),"") | AT94: =IFERROR(AVERAGE(AQ94:AS94),"") | AX94: =IFERROR(AVERAGE(AU94:AW94),"") | BB94: =IFERROR(AVERAGE(AY94:BA94),"") | BF94: =IFERROR(AVERAGE(BC94:BE94),"") | BJ94: =IFERROR(AVERAGE(BG94:BI94),"") | BN94: =IFERROR(AVERAGE(BK94:BM94),"") | BR94: =IFERROR(AVERAGE(BO94:BQ94),"") | BV94: =IFERROR(AVERAGE(BS94:BU94),"") | BZ94: =IFERROR(AVERAGE(BW94:BY94),"") | CD94: =IFERROR(AVERAGE(CA94:CC94),"") | CH94: =IFERROR(AVERAGE(CE94:CG94),"") | CL94: =IFERROR(AVERAGE(CI94:CK94),"") | CP94: =IFERROR(AVERAGE(CM94:CO94),"") | CT94: =IFERROR(AVERAGE(CQ94:CS94),"") | CX94: =IFERROR(AVERAGE(CU94:CW94),"") | DB94: =IFERROR(AVERAGE(CY94:DA94),"") | DF94: =IFERROR(AVERAGE(DC94:DE94),"") | DJ94: =IFERROR(AVERAGE(DG94:DI94),"") | DN94: =IFERROR(AVERAGE(DK94:DM94),"") | DR94: =IFERROR(AVERAGE(DO94:DQ94),"") | DV94: =IFERROR(AVERAGE(DS94:DU94),"") | EA94: =IFERROR(AVERAGE(D94,H94,L94,P94,T94,X94,AB94,AF94,AJ94,AN94,AR94,AV94,AZ94,BD94,BH94,BL94,BP94,BT94,BX94,CB94,CF94,CJ94,CN94,CR94,CV94,CZ94,DD94,DH94,DL94,DP94,DT94),"") | EB94: =IFERROR(AVERAGE(E94,I94,M94,Q94,U94,Y94,AC94,AG94,AK94,AO94,AS94,AW94,BA94,BE94,BI94,BM94,BQ94,BU94,BY94,CC94,CG94,CK94,CO94,CS94,CW94,DA94,DE94,DI94,DM94,DQ94,DU94),"") | EC94: =IFERROR(AVERAGE(DW94:EB94),"")
A95: Posture & Body Language | B95: 10 | F95: =IFERROR(AVERAGE(C95:E95),"") | J95: =IFERROR(AVERAGE(G95:I95),"") | N95: =IFERROR(AVERAGE(K95:M95),"") | R95: =IFERROR(AVERAGE(O95:Q95),"") | V95: =IFERROR(AVERAGE(S95:U95),"") | Z95: =IFERROR(AVERAGE(W95:Y95),"") | AD95: =IFERROR(AVERAGE(AA95:AC95),"") | AH95: =IFERROR(AVERAGE(AE95:AG95),"") | AL95: =IFERROR(AVERAGE(AI95:AK95),"") | AP95: =IFERROR(AVERAGE(AM95:AO95),"") | AT95: =IFERROR(AVERAGE(AQ95:AS95),"") | AX95: =IFERROR(AVERAGE(AU95:AW95),"") | BB95: =IFERROR(AVERAGE(AY95:BA95),"") | BF95: =IFERROR(AVERAGE(BC95:BE95),"") | BJ95: =IFERROR(AVERAGE(BG95:BI95),"") | BN95: =IFERROR(AVERAGE(BK95:BM95),"") | BR95: =IFERROR(AVERAGE(BO95:BQ95),"") | BV95: =IFERROR(AVERAGE(BS95:BU95),"") | BZ95: =IFERROR(AVERAGE(BW95:BY95),"") | CD95: =IFERROR(AVERAGE(CA95:CC95),"") | CH95: =IFERROR(AVERAGE(CE95:CG95),"") | CL95: =IFERROR(AVERAGE(CI95:CK95),"") | CP95: =IFERROR(AVERAGE(CM95:CO95),"") | CT95: =IFERROR(AVERAGE(CQ95:CS95),"") | CX95: =IFERROR(AVERAGE(CU95:CW95),"") | DB95: =IFERROR(AVERAGE(CY95:DA95),"") | DF95: =IFERROR(AVERAGE(DC95:DE95),"") | DJ95: =IFERROR(AVERAGE(DG95:DI95),"") | DN95: =IFERROR(AVERAGE(DK95:DM95),"") | DR95: =IFERROR(AVERAGE(DO95:DQ95),"") | DV95: =IFERROR(AVERAGE(DS95:DU95),"") | EA95: =IFERROR(AVERAGE(D95,H95,L95,P95,T95,X95,AB95,AF95,AJ95,AN95,AR95,AV95,AZ95,BD95,BH95,BL95,BP95,BT95,BX95,CB95,CF95,CJ95,CN95,CR95,CV95,CZ95,DD95,DH95,DL95,DP95,DT95),"") | EB95: =IFERROR(AVERAGE(E95,I95,M95,Q95,U95,Y95,AC95,AG95,AK95,AO95,AS95,AW95,BA95,BE95,BI95,BM95,BQ95,BU95,BY95,CC95,CG95,CK95,CO95,CS95,CW95,DA95,DE95,DI95,DM95,DQ95,DU95),"") | EC95: =IFERROR(AVERAGE(DW95:EB95),"")
A96: Knowledge of Hotel & Events | B96: 20 | F96: =IFERROR(AVERAGE(C96:E96),"") | J96: =IFERROR(AVERAGE(G96:I96),"") | N96: =IFERROR(AVERAGE(K96:M96),"") | R96: =IFERROR(AVERAGE(O96:Q96),"") | V96: =IFERROR(AVERAGE(S96:U96),"") | Z96: =IFERROR(AVERAGE(W96:Y96),"") | AD96: =IFERROR(AVERAGE(AA96:AC96),"") | AH96: =IFERROR(AVERAGE(AE96:AG96),"") | AL96: =IFERROR(AVERAGE(AI96:AK96),"") | AP96: =IFERROR(AVERAGE(AM96:AO96),"") | AT96: =IFERROR(AVERAGE(AQ96:AS96),"") | AX96: =IFERROR(AVERAGE(AU96:AW96),"") | BB96: =IFERROR(AVERAGE(AY96:BA96),"") | BF96: =IFERROR(AVERAGE(BC96:BE96),"") | BJ96: =IFERROR(AVERAGE(BG96:BI96),"") | BN96: =IFERROR(AVERAGE(BK96:BM96),"") | BR96: =IFERROR(AVERAGE(BO96:BQ96),"") | BV96: =IFERROR(AVERAGE(BS96:BU96),"") | BZ96: =IFERROR(AVERAGE(BW96:BY96),"") | CD96: =IFERROR(AVERAGE(CA96:CC96),"") | CH96: =IFERROR(AVERAGE(CE96:CG96),"") | CL96: =IFERROR(AVERAGE(CI96:CK96),"") | CP96: =IFERROR(AVERAGE(CM96:CO96),"") | CT96: =IFERROR(AVERAGE(CQ96:CS96),"") | CX96: =IFERROR(AVERAGE(CU96:CW96),"") | DB96: =IFERROR(AVERAGE(CY96:DA96),"") | DF96: =IFERROR(AVERAGE(DC96:DE96),"") | DJ96: =IFERROR(AVERAGE(DG96:DI96),"") | DN96: =IFERROR(AVERAGE(DK96:DM96),"") | DR96: =IFERROR(AVERAGE(DO96:DQ96),"") | DV96: =IFERROR(AVERAGE(DS96:DU96),"") | EA96: =IFERROR(AVERAGE(D96,H96,L96,P96,T96,X96,AB96,AF96,AJ96,AN96,AR96,AV96,AZ96,BD96,BH96,BL96,BP96,BT96,BX96,CB96,CF96,CJ96,CN96,CR96,CV96,CZ96,DD96,DH96,DL96,DP96,DT96),"") | EB96: =IFERROR(AVERAGE(E96,I96,M96,Q96,U96,Y96,AC96,AG96,AK96,AO96,AS96,AW96,BA96,BE96,BI96,BM96,BQ96,BU96,BY96,CC96,CG96,CK96,CO96,CS96,CW96,DA96,DE96,DI96,DM96,DQ96,DU96),"") | EC96: =IFERROR(AVERAGE(DW96:EB96),"")
A97: Hair | B97: 15 | F97: =IFERROR(AVERAGE(C97:E97),"") | J97: =IFERROR(AVERAGE(G97:I97),"") | N97: =IFERROR(AVERAGE(K97:M97),"") | R97: =IFERROR(AVERAGE(O97:Q97),"") | V97: =IFERROR(AVERAGE(S97:U97),"") | Z97: =IFERROR(AVERAGE(W97:Y97),"") | AD97: =IFERROR(AVERAGE(AA97:AC97),"") | AH97: =IFERROR(AVERAGE(AE97:AG97),"") | AL97: =IFERROR(AVERAGE(AI97:AK97),"") | AP97: =IFERROR(AVERAGE(AM97:AO97),"") | AT97: =IFERROR(AVERAGE(AQ97:AS97),"") | AX97: =IFERROR(AVERAGE(AU97:AW97),"") | BB97: =IFERROR(AVERAGE(AY97:BA97),"") | BF97: =IFERROR(AVERAGE(BC97:BE97),"") | BJ97: =IFERROR(AVERAGE(BG97:BI97),"") | BN97: =IFERROR(AVERAGE(BK97:BM97),"") | BR97: =IFERROR(AVERAGE(BO97:BQ97),"") | BV97: =IFERROR(AVERAGE(BS97:BU97),"") | BZ97: =IFERROR(AVERAGE(BW97:BY97),"") | CD97: =IFERROR(AVERAGE(CA97:CC97),"") | CH97: =IFERROR(AVERAGE(CE97:CG97),"") | CL97: =IFERROR(AVERAGE(CI97:CK97),"") | CP97: =IFERROR(AVERAGE(CM97:CO97),"") | CT97: =IFERROR(AVERAGE(CQ97:CS97),"") | CX97: =IFERROR(AVERAGE(CU97:CW97),"") | DB97: =IFERROR(AVERAGE(CY97:DA97),"") | DF97: =IFERROR(AVERAGE(DC97:DE97),"") | DJ97: =IFERROR(AVERAGE(DG97:DI97),"") | DN97: =IFERROR(AVERAGE(DK97:DM97),"") | DR97: =IFERROR(AVERAGE(DO97:DQ97),"") | DV97: =IFERROR(AVERAGE(DS97:DU97),"") | EA97: =IFERROR(AVERAGE(D97,H97,L97,P97,T97,X97,AB97,AF97,AJ97,AN97,AR97,AV97,AZ97,BD97,BH97,BL97,BP97,BT97,BX97,CB97,CF97,CJ97,CN97,CR97,CV97,CZ97,DD97,DH97,DL97,DP97,DT97),"") | EB97: =IFERROR(AVERAGE(E97,I97,M97,Q97,U97,Y97,AC97,AG97,AK97,AO97,AS97,AW97,BA97,BE97,BI97,BM97,BQ97,BU97,BY97,CC97,CG97,CK97,CO97,CS97,CW97,DA97,DE97,DI97,DM97,DQ97,DU97),"") | EC97: =IFERROR(AVERAGE(DW97:EB97),"")
A98: Makeup | B98: 15 | F98: =IFERROR(AVERAGE(C98:E98),"") | J98: =IFERROR(AVERAGE(G98:I98),"") | N98: =IFERROR(AVERAGE(K98:M98),"") | R98: =IFERROR(AVERAGE(O98:Q98),"") | V98: =IFERROR(AVERAGE(S98:U98),"") | Z98: =IFERROR(AVERAGE(W98:Y98),"") | AD98: =IFERROR(AVERAGE(AA98:AC98),"") | AH98: =IFERROR(AVERAGE(AE98:AG98),"") | AL98: =IFERROR(AVERAGE(AI98:AK98),"") | AP98: =IFERROR(AVERAGE(AM98:AO98),"") | AT98: =IFERROR(AVERAGE(AQ98:AS98),"") | AX98: =IFERROR(AVERAGE(AU98:AW98),"") | BB98: =IFERROR(AVERAGE(AY98:BA98),"") | BF98: =IFERROR(AVERAGE(BC98:BE98),"") | BJ98: =IFERROR(AVERAGE(BG98:BI98),"") | BN98: =IFERROR(AVERAGE(BK98:BM98),"") | BR98: =IFERROR(AVERAGE(BO98:BQ98),"") | BV98: =IFERROR(AVERAGE(BS98:BU98),"") | BZ98: =IFERROR(AVERAGE(BW98:BY98),"") | CD98: =IFERROR(AVERAGE(CA98:CC98),"") | CH98: =IFERROR(AVERAGE(CE98:CG98),"") | CL98: =IFERROR(AVERAGE(CI98:CK98),"") | CP98: =IFERROR(AVERAGE(CM98:CO98),"") | CT98: =IFERROR(AVERAGE(CQ98:CS98),"") | CX98: =IFERROR(AVERAGE(CU98:CW98),"") | DB98: =IFERROR(AVERAGE(CY98:DA98),"") | DF98: =IFERROR(AVERAGE(DC98:DE98),"") | DJ98: =IFERROR(AVERAGE(DG98:DI98),"") | DN98: =IFERROR(AVERAGE(DK98:DM98),"") | DR98: =IFERROR(AVERAGE(DO98:DQ98),"") | DV98: =IFERROR(AVERAGE(DS98:DU98),"") | EA98: =IFERROR(AVERAGE(D98,H98,L98,P98,T98,X98,AB98,AF98,AJ98,AN98,AR98,AV98,AZ98,BD98,BH98,BL98,BP98,BT98,BX98,CB98,CF98,CJ98,CN98,CR98,CV98,CZ98,DD98,DH98,DL98,DP98,DT98),"") | EB98: =IFERROR(AVERAGE(E98,I98,M98,Q98,U98,Y98,AC98,AG98,AK98,AO98,AS98,AW98,BA98,BE98,BI98,BM98,BQ98,BU98,BY98,CC98,CG98,CK98,CO98,CS98,CW98,DA98,DE98,DI98,DM98,DQ98,DU98),"") | EC98: =IFERROR(AVERAGE(DW98:EB98),"")
A99: Uniform | B99: 10 | F99: =IFERROR(AVERAGE(C99:E99),"") | J99: =IFERROR(AVERAGE(G99:I99),"") | N99: =IFERROR(AVERAGE(K99:M99),"") | R99: =IFERROR(AVERAGE(O99:Q99),"") | V99: =IFERROR(AVERAGE(S99:U99),"") | Z99: =IFERROR(AVERAGE(W99:Y99),"") | AD99: =IFERROR(AVERAGE(AA99:AC99),"") | AH99: =IFERROR(AVERAGE(AE99:AG99),"") | AL99: =IFERROR(AVERAGE(AI99:AK99),"") | AP99: =IFERROR(AVERAGE(AM99:AO99),"") | AT99: =IFERROR(AVERAGE(AQ99:AS99),"") | AX99: =IFERROR(AVERAGE(AU99:AW99),"") | BB99: =IFERROR(AVERAGE(AY99:BA99),"") | BF99: =IFERROR(AVERAGE(BC99:BE99),"") | BJ99: =IFERROR(AVERAGE(BG99:BI99),"") | BN99: =IFERROR(AVERAGE(BK99:BM99),"") | BR99: =IFERROR(AVERAGE(BO99:BQ99),"") | BV99: =IFERROR(AVERAGE(BS99:BU99),"") | BZ99: =IFERROR(AVERAGE(BW99:BY99),"") | CD99: =IFERROR(AVERAGE(CA99:CC99),"") | CH99: =IFERROR(AVERAGE(CE99:CG99),"") | CL99: =IFERROR(AVERAGE(CI99:CK99),"") | CP99: =IFERROR(AVERAGE(CM99:CO99),"") | CT99: =IFERROR(AVERAGE(CQ99:CS99),"") | CX99: =IFERROR(AVERAGE(CU99:CW99),"") | DB99: =IFERROR(AVERAGE(CY99:DA99),"") | DF99: =IFERROR(AVERAGE(DC99:DE99),"") | DJ99: =IFERROR(AVERAGE(DG99:DI99),"") | DN99: =IFERROR(AVERAGE(DK99:DM99),"") | DR99: =IFERROR(AVERAGE(DO99:DQ99),"") | DV99: =IFERROR(AVERAGE(DS99:DU99),"") | EA99: =IFERROR(AVERAGE(D99,H99,L99,P99,T99,X99,AB99,AF99,AJ99,AN99,AR99,AV99,AZ99,BD99,BH99,BL99,BP99,BT99,BX99,CB99,CF99,CJ99,CN99,CR99,CV99,CZ99,DD99,DH99,DL99,DP99,DT99),"") | EB99: =IFERROR(AVERAGE(E99,I99,M99,Q99,U99,Y99,AC99,AG99,AK99,AO99,AS99,AW99,BA99,BE99,BI99,BM99,BQ99,BU99,BY99,CC99,CG99,CK99,CO99,CS99,CW99,DA99,DE99,DI99,DM99,DQ99,DU99),"") | EC99: =IFERROR(AVERAGE(DW99:EB99),"")
A100: Total | B100: 100 | C100: =IFERROR(SUM(C93:C99),"") | D100: =IFERROR(SUM(D93:D99),"") | E100: =IFERROR(SUM(E93:E99),"") | F100: =IFERROR(SUM(F93:F99),"") | G100: =IFERROR(SUM(G93:G99),"") | H100: =IFERROR(SUM(H93:H99),"") | I100: =IFERROR(SUM(I93:I99),"") | J100: =IFERROR(SUM(J93:J99),"") | ... DV100: =IFERROR(SUM(DV93:DV99),"") | EA100: =IFERROR(SUM(EA93:EA99),"") | EB100: =IFERROR(SUM(EB93:EB99),"") | EC100: =IFERROR(SUM(EC93:EC99),"")
A102: [Person_5] | B102: % | C102: =C$2 | D102: =D$2 | E102: =E$2 | F102: Avg | G102: =G$2 | H102: =H$2 | I102: =I$2 | J102: Avg | K102: =K$2 | L102: =L$2 | M102: =M$2 | N102: Avg | O102: =O$2 | P102: =P$2 | Q102: =Q$2 | R102: Avg | S102: =S$2 | T102: =T$2 | U102: =U$2 | V102: Avg | W102: =W$2 | X102: =X$2 | Y102: =Y$2 | Z102: Avg | AA102: =AA$2 | AB102: =AB$2 | AC102: =AC$2 | AD102: Avg | AE102: =AE$2 | AF102: =AF$2 | AG102: =AG$2 | AH102: Avg | AI102: =AI$2 | AJ102: =AJ$2 | AK102: =AK$2 | AL102: Avg | AM102: =AM$2 | AN102: =AN$2 | AO102: =AO$2 | AP102: Avg | AQ102: =AQ$2 | AR102: =AR$2 | AS102: =AS$2 | AT102: Avg | AU102: =AU$2 | AV102: =AV$2 | AW102: =AW$2 | AX102: Avg | AY102: =AY$2 | AZ102: =AZ$2 | BA102: =BA$2 | BB102: Avg | BC102: =BC$2 | BD102: =BD$2 | BE102: =BE$2 | BF102: Avg | BG102: =BG$2 | BH102: =BH$2 | BI102: =BI$2 | BJ102: Avg | BK102: =BK$2 | BL102: =BL$2 | BM102: =BM$2 | BN102: Avg | BO102: =BO$2 | BP102: =BP$2 | BQ102: =BQ$2 | BR102: Avg | BS102: =BS$2 | BT102: =BT$2 | BU102: =BU$2 | BV102: Avg | BW102: =BW$2 | BX102: =BX$2 | BY102: =BY$2 | BZ102: Avg | CA102: =CA$2 | CB102: =CB$2 | CC102: =CC$2 | CD102: Avg | CE102: =CE$2 | CF102: =CF$2 | CG102: =CG$2 | CH102: Avg | CI102: =CI$2 | CJ102: =CJ$2 | CK102: =CK$2 | CL102: Avg | CM102: =CM$2 | CN102: =CN$2 | CO102: =CO$2 | CP102: Avg | CQ102: =CQ$2 | CR102: =CR$2 | CS102: =CS$2 | CT102: Avg | CU102: =CU$2 | CV102: =CV$2 | CW102: =CW$2 | CX102: Avg | CY102: =CY$2 | CZ102: =CZ$2 | DA102: =DA$2 | DB102: Avg | DC102: =DC$2 | DD102: =DD$2 | DE102: =DE$2 | DF102: Avg | DG102: =DG$2 | DH102: =DH$2 | DI102: =DI$2 | DJ102: Avg | DK102: =DK$2 | DL102: =DL$2 | DM102: =DM$2 | DN102: Avg | DO102: =DO$2 | DP102: =DP$2 | DQ102: =DQ$2 | DR102: Avg | DS102: =DS$2 | DT102: =DT$2 | DU102: =DU$2 | DV102: Avg | DW102: K | DX102: M | DY102: G | DZ102: J | EA102: Y | EB102: C | EC102: Avg
A103: [Person_2] | B103: 20 | F103: =IFERROR(AVERAGE(C103:E103),"") | J103: =IFERROR(AVERAGE(G103:I103),"") | N103: =IFERROR(AVERAGE(K103:M103),"") | R103: =IFERROR(AVERAGE(O103:Q103),"") | V103: =IFERROR(AVERAGE(S103:U103),"") | Z103: =IFERROR(AVERAGE(W103:Y103),"") | AD103: =IFERROR(AVERAGE(AA103:AC103),"") | AH103: =IFERROR(AVERAGE(AE103:AG103),"") | AL103: =IFERROR(AVERAGE(AI103:AK103),"") | AP103: =IFERROR(AVERAGE(AM103:AO103),"") | AT103: =IFERROR(AVERAGE(AQ103:AS103),"") | AX103: =IFERROR(AVERAGE(AU103:AW103),"") | BB103: =IFERROR(AVERAGE(AY103:BA103),"") | BF103: =IFERROR(AVERAGE(BC103:BE103),"") | BJ103: =IFERROR(AVERAGE(BG103:BI103),"") | BN103: =IFERROR(AVERAGE(BK103:BM103),"") | BR103: =IFERROR(AVERAGE(BO103:BQ103),"") | BV103: =IFERROR(AVERAGE(BS103:BU103),"") | BZ103: =IFERROR(AVERAGE(BW103:BY103),"") | CD103: =IFERROR(AVERAGE(CA103:CC103),"") | CH103: =IFERROR(AVERAGE(CE103:CG103),"") | CL103: =IFERROR(AVERAGE(CI103:CK103),"") | CP103: =IFERROR(AVERAGE(CM103:CO103),"") | CT103: =IFERROR(AVERAGE(CQ103:CS103),"") | CX103: =IFERROR(AVERAGE(CU103:CW103),"") | DB103: =IFERROR(AVERAGE(CY103:DA103),"") | DF103: =IFERROR(AVERAGE(DC103:DE103),"") | DJ103: =IFERROR(AVERAGE(DG103:DI103),"") | DN103: =IFERROR(AVERAGE(DK103:DM103),"") | DR103: =IFERROR(AVERAGE(DO103:DQ103),"") | DV103: =IFERROR(AVERAGE(DS103:DU103),"") | EA103: =IFERROR(AVERAGE(D103,H103,L103,P103,T103,X103,AB103,AF103,AJ103,AN103,AR103,AV103,AZ103,BD103,BH103,BL103,BP103,BT103,BX103,CB103,CF103,CJ103,CN103,CR103,CV103,CZ103,DD103,DH103,DL103,DP103,DT103),"") | EB103: =IFERROR(AVERAGE(E103,I103,M103,Q103,U103,Y103,AC103,AG103,AK103,AO103,AS103,AW103,BA103,BE103,BI103,BM103,BQ103,BU103,BY103,CC103,CG103,CK103,CO103,CS103,CW103,DA103,DE103,DI103,DM103,DQ103,DU103),"") | EC103: =IFERROR(AVERAGE(DW103:EB103),"")
A104: Assist Guests VIP/Lift | B104: 10 | F104: =IFERROR(AVERAGE(C104:E104),"") | J104: =IFERROR(AVERAGE(G104:I104),"") | N104: =IFERROR(AVERAGE(K104:M104),"") | R104: =IFERROR(AVERAGE(O104:Q104),"") | V104: =IFERROR(AVERAGE(S104:U104),"") | Z104: =IFERROR(AVERAGE(W104:Y104),"") | AD104: =IFERROR(AVERAGE(AA104:AC104),"") | AH104: =IFERROR(AVERAGE(AE104:AG104),"") | AL104: =IFERROR(AVERAGE(AI104:AK104),"") | AP104: =IFERROR(AVERAGE(AM104:AO104),"") | AT104: =IFERROR(AVERAGE(AQ104:AS104),"") | AX104: =IFERROR(AVERAGE(AU104:AW104),"") | BB104: =IFERROR(AVERAGE(AY104:BA104),"") | BF104: =IFERROR(AVERAGE(BC104:BE104),"") | BJ104: =IFERROR(AVERAGE(BG104:BI104),"") | BN104: =IFERROR(AVERAGE(BK104:BM104),"") | BR104: =IFERROR(AVERAGE(BO104:BQ104),"") | BV104: =IFERROR(AVERAGE(BS104:BU104),"") | BZ104: =IFERROR(AVERAGE(BW104:BY104),"") | CD104: =IFERROR(AVERAGE(CA104:CC104),"") | CH104: =IFERROR(AVERAGE(CE104:CG104),"") | CL104: =IFERROR(AVERAGE(CI104:CK104),"") | CP104: =IFERROR(AVERAGE(CM104:CO104),"") | CT104: =IFERROR(AVERAGE(CQ104:CS104),"") | CX104: =IFERROR(AVERAGE(CU104:CW104),"") | DB104: =IFERROR(AVERAGE(CY104:DA104),"") | DF104: =IFERROR(AVERAGE(DC104:DE104),"") | DJ104: =IFERROR(AVERAGE(DG104:DI104),"") | DN104: =IFERROR(AVERAGE(DK104:DM104),"") | DR104: =IFERROR(AVERAGE(DO104:DQ104),"") | DV104: =IFERROR(AVERAGE(DS104:DU104),"") | EA104: =IFERROR(AVERAGE(D104,H104,L104,P104,T104,X104,AB104,AF104,AJ104,AN104,AR104,AV104,AZ104,BD104,BH104,BL104,BP104,BT104,BX104,CB104,CF104,CJ104,CN104,CR104,CV104,CZ104,DD104,DH104,DL104,DP104,DT104),"") | EB104: =IFERROR(AVERAGE(E104,I104,M104,Q104,U104,Y104,AC104,AG104,AK104,AO104,AS104,AW104,BA104,BE104,BI104,BM104,BQ104,BU104,BY104,CC104,CG104,CK104,CO104,CS104,CW104,DA104,DE104,DI104,DM104,DQ104,DU104),"") | EC104: =IFERROR(AVERAGE(DW104:EB104),"")
A105: Posture & Body Language | B105: 10 | F105: =IFERROR(AVERAGE(C105:E105),"") | J105: =IFERROR(AVERAGE(G105:I105),"") | N105: =IFERROR(AVERAGE(K105:M105),"") | R105: =IFERROR(AVERAGE(O105:Q105),"") | V105: =IFERROR(AVERAGE(S105:U105),"") | Z105: =IFERROR(AVERAGE(W105:Y105),"") | AD105: =IFERROR(AVERAGE(AA105:AC105),"") | AH105: =IFERROR(AVERAGE(AE105:AG105),"") | AL105: =IFERROR(AVERAGE(AI105:AK105),"") | AP105: =IFERROR(AVERAGE(AM105:AO105),"") | AT105: =IFERROR(AVERAGE(AQ105:AS105),"") | AX105: =IFERROR(AVERAGE(AU105:AW105),"") | BB105: =IFERROR(AVERAGE(AY105:BA105),"") | BF105: =IFERROR(AVERAGE(BC105:BE105),"") | BJ105: =IFERROR(AVERAGE(BG105:BI105),"") | BN105: =IFERROR(AVERAGE(BK105:BM105),"") | BR105: =IFERROR(AVERAGE(BO105:BQ105),"") | BV105: =IFERROR(AVERAGE(BS105:BU105),"") | BZ105: =IFERROR(AVERAGE(BW105:BY105),"") | CD105: =IFERROR(AVERAGE(CA105:CC105),"") | CH105: =IFERROR(AVERAGE(CE105:CG105),"") | CL105: =IFERROR(AVERAGE(CI105:CK105),"") | CP105: =IFERROR(AVERAGE(CM105:CO105),"") | CT105: =IFERROR(AVERAGE(CQ105:CS105),"") | CX105: =IFERROR(AVERAGE(CU105:CW105),"") | DB105: =IFERROR(AVERAGE(CY105:DA105),"") | DF105: =IFERROR(AVERAGE(DC105:DE105),"") | DJ105: =IFERROR(AVERAGE(DG105:DI105),"") | DN105: =IFERROR(AVERAGE(DK105:DM105),"") | DR105: =IFERROR(AVERAGE(DO105:DQ105),"") | DV105: =IFERROR(AVERAGE(DS105:DU105),"") | EA105: =IFERROR(AVERAGE(D105,H105,L105,P105,T105,X105,AB105,AF105,AJ105,AN105,AR105,AV105,AZ105,BD105,BH105,BL105,BP105,BT105,BX105,CB105,CF105,CJ105,CN105,CR105,CV105,CZ105,DD105,DH105,DL105,DP105,DT105),"") | EB105: =IFERROR(AVERAGE(E105,I105,M105,Q105,U105,Y105,AC105,AG105,AK105,AO105,AS105,AW105,BA105,BE105,BI105,BM105,BQ105,BU105,BY105,CC105,CG105,CK105,CO105,CS105,CW105,DA105,DE105,DI105,DM105,DQ105,DU105),"") | EC105: =IFERROR(AVERAGE(DW105:EB105),"")
A106: Knowledge of Hotel & Events | B106: 20 | F106: =IFERROR(AVERAGE(C106:E106),"") | J106: =IFERROR(AVERAGE(G106:I106),"") | N106: =IFERROR(AVERAGE(K106:M106),"") | R106: =IFERROR(AVERAGE(O106:Q106),"") | V106: =IFERROR(AVERAGE(S106:U106),"") | Z106: =IFERROR(AVERAGE(W106:Y106),"") | AD106: =IFERROR(AVERAGE(AA106:AC106),"") | AH106: =IFERROR(AVERAGE(AE106:AG106),"") | AL106: =IFERROR(AVERAGE(AI106:AK106),"") | AP106: =IFERROR(AVERAGE(AM106:AO106),"") | AT106: =IFERROR(AVERAGE(AQ106:AS106),"") | AX106: =IFERROR(AVERAGE(AU106:AW106),"") | BB106: =IFERROR(AVERAGE(AY106:BA106),"") | BF106: =IFERROR(AVERAGE(BC106:BE106),"") | BJ106: =IFERROR(AVERAGE(BG106:BI106),"") | BN106: =IFERROR(AVERAGE(BK106:BM106),"") | BR106: =IFERROR(AVERAGE(BO106:BQ106),"") | BV106: =IFERROR(AVERAGE(BS106:BU106),"") | BZ106: =IFERROR(AVERAGE(BW106:BY106),"") | CD106: =IFERROR(AVERAGE(CA106:CC106),"") | CH106: =IFERROR(AVERAGE(CE106:CG106),"") | CL106: =IFERROR(AVERAGE(CI106:CK106),"") | CP106: =IFERROR(AVERAGE(CM106:CO106),"") | CT106: =IFERROR(AVERAGE(CQ106:CS106),"") | CX106: =IFERROR(AVERAGE(CU106:CW106),"") | DB106: =IFERROR(AVERAGE(CY106:DA106),"") | DF106: =IFERROR(AVERAGE(DC106:DE106),"") | DJ106: =IFERROR(AVERAGE(DG106:DI106),"") | DN106: =IFERROR(AVERAGE(DK106:DM106),"") | DR106: =IFERROR(AVERAGE(DO106:DQ106),"") | DV106: =IFERROR(AVERAGE(DS106:DU106),"") | EA106: =IFERROR(AVERAGE(D106,H106,L106,P106,T106,X106,AB106,AF106,AJ106,AN106,AR106,AV106,AZ106,BD106,BH106,BL106,BP106,BT106,BX106,CB106,CF106,CJ106,CN106,CR106,CV106,CZ106,DD106,DH106,DL106,DP106,DT106),"") | EB106: =IFERROR(AVERAGE(E106,I106,M106,Q106,U106,Y106,AC106,AG106,AK106,AO106,AS106,AW106,BA106,BE106,BI106,BM106,BQ106,BU106,BY106,CC106,CG106,CK106,CO106,CS106,CW106,DA106,DE106,DI106,DM106,DQ106,DU106),"") | EC106: =IFERROR(AVERAGE(DW106:EB106),"")
A107: Hair | B107: 15 | F107: =IFERROR(AVERAGE(C107:E107),"") | J107: =IFERROR(AVERAGE(G107:I107),"") | N107: =IFERROR(AVERAGE(K107:M107),"") | R107: =IFERROR(AVERAGE(O107:Q107),"") | V107: =IFERROR(AVERAGE(S107:U107),"") | Z107: =IFERROR(AVERAGE(W107:Y107),"") | AD107: =IFERROR(AVERAGE(AA107:AC107),"") | AH107: =IFERROR(AVERAGE(AE107:AG107),"") | AL107: =IFERROR(AVERAGE(AI107:AK107),"") | AP107: =IFERROR(AVERAGE(AM107:AO107),"") | AT107: =IFERROR(AVERAGE(AQ107:AS107),"") | AX107: =IFERROR(AVERAGE(AU107:AW107),"") | BB107: =IFERROR(AVERAGE(AY107:BA107),"") | BF107: =IFERROR(AVERAGE(BC107:BE107),"") | BJ107: =IFERROR(AVERAGE(BG107:BI107),"") | BN107: =IFERROR(AVERAGE(BK107:BM107),"") | BR107: =IFERROR(AVERAGE(BO107:BQ107),"") | BV107: =IFERROR(AVERAGE(BS107:BU107),"") | BZ107: =IFERROR(AVERAGE(BW107:BY107),"") | CD107: =IFERROR(AVERAGE(CA107:CC107),"") | CH107: =IFERROR(AVERAGE(CE107:CG107),"") | CL107: =IFERROR(AVERAGE(CI107:CK107),"") | CP107: =IFERROR(AVERAGE(CM107:CO107),"") | CT107: =IFERROR(AVERAGE(CQ107:CS107),"") | CX107: =IFERROR(AVERAGE(CU107:CW107),"") | DB107: =IFERROR(AVERAGE(CY107:DA107),"") | DF107: =IFERROR(AVERAGE(DC107:DE107),"") | DJ107: =IFERROR(AVERAGE(DG107:DI107),"") | DN107: =IFERROR(AVERAGE(DK107:DM107),"") | DR107: =IFERROR(AVERAGE(DO107:DQ107),"") | DV107: =IFERROR(AVERAGE(DS107:DU107),"") | EA107: =IFERROR(AVERAGE(D107,H107,L107,P107,T107,X107,AB107,AF107,AJ107,AN107,AR107,AV107,AZ107,BD107,BH107,BL107,BP107,BT107,BX107,CB107,CF107,CJ107,CN107,CR107,CV107,CZ107,DD107,DH107,DL107,DP107,DT107),"") | EB107: =IFERROR(AVERAGE(E107,I107,M107,Q107,U107,Y107,AC107,AG107,AK107,AO107,AS107,AW107,BA107,BE107,BI107,BM107,BQ107,BU107,BY107,CC107,CG107,CK107,CO107,CS107,CW107,DA107,DE107,DI107,DM107,DQ107,DU107),"") | EC107: =IFERROR(AVERAGE(DW107:EB107),"")
A108: Makeup | B108: 15 | F108: =IFERROR(AVERAGE(C108:E108),"") | J108: =IFERROR(AVERAGE(G108:I108),"") | N108: =IFERROR(AVERAGE(K108:M108),"") | R108: =IFERROR(AVERAGE(O108:Q108),"") | V108: =IFERROR(AVERAGE(S108:U108),"") | Z108: =IFERROR(AVERAGE(W108:Y108),"") | AD108: =IFERROR(AVERAGE(AA108:AC108),"") | AH108: =IFERROR(AVERAGE(AE108:AG108),"") | AL108: =IFERROR(AVERAGE(AI108:AK108),"") | AP108: =IFERROR(AVERAGE(AM108:AO108),"") | AT108: =IFERROR(AVERAGE(AQ108:AS108),"") | AX108: =IFERROR(AVERAGE(AU108:AW108),"") | BB108: =IFERROR(AVERAGE(AY108:BA108),"") | BF108: =IFERROR(AVERAGE(BC108:BE108),"") | BJ108: =IFERROR(AVERAGE(BG108:BI108),"") | BN108: =IFERROR(AVERAGE(BK108:BM108),"") | BR108: =IFERROR(AVERAGE(BO108:BQ108),"") | BV108: =IFERROR(AVERAGE(BS108:BU108),"") | BZ108: =IFERROR(AVERAGE(BW108:BY108),"") | CD108: =IFERROR(AVERAGE(CA108:CC108),"") | CH108: =IFERROR(AVERAGE(CE108:CG108),"") | CL108: =IFERROR(AVERAGE(CI108:CK108),"") | CP108: =IFERROR(AVERAGE(CM108:CO108),"") | CT108: =IFERROR(AVERAGE(CQ108:CS108),"") | CX108: =IFERROR(AVERAGE(CU108:CW108),"") | DB108: =IFERROR(AVERAGE(CY108:DA108),"") | DF108: =IFERROR(AVERAGE(DC108:DE108),"") | DJ108: =IFERROR(AVERAGE(DG108:DI108),"") | DN108: =IFERROR(AVERAGE(DK108:DM108),"") | DR108: =IFERROR(AVERAGE(DO108:DQ108),"") | DV108: =IFERROR(AVERAGE(DS108:DU108),"") | EA108: =IFERROR(AVERAGE(D108,H108,L108,P108,T108,X108,AB108,AF108,AJ108,AN108,AR108,AV108,AZ108,BD108,BH108,BL108,BP108,BT108,BX108,CB108,CF108,CJ108,CN108,CR108,CV108,CZ108,DD108,DH108,DL108,DP108,DT108),"") | EB108: =IFERROR(AVERAGE(E108,I108,M108,Q108,U108,Y108,AC108,AG108,AK108,AO108,AS108,AW108,BA108,BE108,BI108,BM108,BQ108,BU108,BY108,CC108,CG108,CK108,CO108,CS108,CW108,DA108,DE108,DI108,DM108,DQ108,DU108),"") | EC108: =IFERROR(AVERAGE(DW108:EB108),"")
A109: Uniform | B109: 10 | F109: =IFERROR(AVERAGE(C109:E109),"") | J109: =IFERROR(AVERAGE(G109:I109),"") | N109: =IFERROR(AVERAGE(K109:M109),"") | R109: =IFERROR(AVERAGE(O109:Q109),"") | V109: =IFERROR(AVERAGE(S109:U109),"") | Z109: =IFERROR(AVERAGE(W109:Y109),"") | AD109: =IFERROR(AVERAGE(AA109:AC109),"") | AH109: =IFERROR(AVERAGE(AE109:AG109),"") | AL109: =IFERROR(AVERAGE(AI109:AK109),"") | AP109: =IFERROR(AVERAGE(AM109:AO109),"") | AT109: =IFERROR(AVERAGE(AQ109:AS109),"") | AX109: =IFERROR(AVERAGE(AU109:AW109),"") | BB109: =IFERROR(AVERAGE(AY109:BA109),"") | BF109: =IFERROR(AVERAGE(BC109:BE109),"") | BJ109: =IFERROR(AVERAGE(BG109:BI109),"") | BN109: =IFERROR(AVERAGE(BK109:BM109),"") | BR109: =IFERROR(AVERAGE(BO109:BQ109),"") | BV109: =IFERROR(AVERAGE(BS109:BU109),"") | BZ109: =IFERROR(AVERAGE(BW109:BY109),"") | CD109: =IFERROR(AVERAGE(CA109:CC109),"") | CH109: =IFERROR(AVERAGE(CE109:CG109),"") | CL109: =IFERROR(AVERAGE(CI109:CK109),"") | CP109: =IFERROR(AVERAGE(CM109:CO109),"") | CT109: =IFERROR(AVERAGE(CQ109:CS109),"") | CX109: =IFERROR(AVERAGE(CU109:CW109),"") | DB109: =IFERROR(AVERAGE(CY109:DA109),"") | DF109: =IFERROR(AVERAGE(DC109:DE109),"") | DJ109: =IFERROR(AVERAGE(DG109:DI109),"") | DN109: =IFERROR(AVERAGE(DK109:DM109),"") | DR109: =IFERROR(AVERAGE(DO109:DQ109),"") | DV109: =IFERROR(AVERAGE(DS109:DU109),"") | EA109: =IFERROR(AVERAGE(D109,H109,L109,P109,T109,X109,AB109,AF109,AJ109,AN109,AR109,AV109,AZ109,BD109,BH109,BL109,BP109,BT109,BX109,CB109,CF109,CJ109,CN109,CR109,CV109,CZ109,DD109,DH109,DL109,DP109,DT109),"") | EB109: =IFERROR(AVERAGE(E109,I109,M109,Q109,U109,Y109,AC109,AG109,AK109,AO109,AS109,AW109,BA109,BE109,BI109,BM109,BQ109,BU109,BY109,CC109,CG109,CK109,CO109,CS109,CW109,DA109,DE109,DI109,DM109,DQ109,DU109),"") | EC109: =IFERROR(AVERAGE(DW109:EB109),"")
A110: Total | B110: 100 | C110: =IFERROR(SUM(C103:C109),"") | D110: =IFERROR(SUM(D103:D109),"") | E110: =IFERROR(SUM(E103:E109),"") | F110: =IFERROR(SUM(F103:F109),"") | G110: =IFERROR(SUM(G103:G109),"") | H110: =IFERROR(SUM(H103:H109),"") | I110: =IFERROR(SUM(I103:I109),"") | J110: =IFERROR(SUM(J103:J109),"") | ... DV110: =IFERROR(SUM(DV103:DV109),"") | EA110: =IFERROR(SUM(EA103:EA109),"") | EB110: =IFERROR(SUM(EB103:EB109),"") | EC110: =IFERROR(SUM(EC103:EC109),"")
...

Sheet September
A1: September | C1: 1 | H1: =C1+1 | M1: =H1+1 | R1: =M1+1 | W1: =R1+1 | AB1: =W1+1 | AG1: =AB1+1 | AL1: =AG1+1 | AQ1: =AL1+1 | AV1: =AQ1+1 | BA1: =AV1+1 | BF1: =BA1+1 | BK1: =BF1+1 | BP1: =BK1+1 | BU1: =BP1+1 | BZ1: =BU1+1 | CE1: =BZ1+1 | CJ1: =CE1+1 | CO1: =CJ1+1 | CT1: =CO1+1 | CY1: =CT1+1 | DD1: =CY1+1 | DI1: =DD1+1 | DN1: =DI1+1 | DS1: =DN1+1 | DX1: =DS1+1 | EC1: =DX1+1 | EH1: =EC1+1 | EM1: =EH1+1 | ER1: =EM1+1 | EW1: =ER1+1 | FB1: Monthly Average | FG1: Last Month Comparison
A2: [Person_1] | B2: % | C2: K | D2: G | E2: M | F2: J | G2: Avg | H2: K | I2: G | J2: M | K2: J | L2: Avg | M2: K | N2: G | O2: M | P2: J | Q2: Avg | R2: K | S2: G | T2: M | U2: J | V2: Avg | W2: K | X2: G | Y2: M | Z2: J | AA2: Avg | AB2: K | AC2: G | AD2: M | AE2: J | AF2: Avg | AG2: K | AH2: G | AI2: M | AJ2: J | AK2: Avg | AL2: K | AM2: G | AN2: M | AO2: J | AP2: Avg | AQ2: K | AR2: G | AS2: M | AT2: J | AU2: Avg | AV2: K | AW2: G | AX2: M | AY2: J | AZ2: Avg | BA2: K | BB2: G | BC2: M | BD2: J | BE2: Avg | BF2: K | BG2: G | BH2: M | BI2: J | BJ2: Avg | BK2: K | BL2: G | BM2: M | BN2: J | BO2: Avg | BP2: K | BQ2: G | BR2: M | BS2: J | BT2: Avg | BU2: K | BV2: G | BW2: M | BX2: J | BY2: Avg | BZ2: K | CA2: G | CB2: M | CC2: J | CD2: Avg | CE2: K | CF2: G | CG2: M | CH2: J | CI2: Avg | CJ2: K | CK2: G | CL2: M | CM2: J | CN2: Avg | CO2: K | CP2: G | CQ2: M | CR2: J | CS2: Avg | CT2: K | CU2: G | CV2: M | CW2: J | CX2: Avg | CY2: K | CZ2: G | DA2: M | DB2: J | DC2: Avg | DD2: K | DE2: G | DF2: M | DG2: J | DH2: Avg | DI2: K | DJ2: G | DK2: M | DL2: J | DM2: Avg | DN2: K | DO2: G | DP2: M | DQ2: J | DR2: Avg | DS2: K | DT2: G | DU2: M | DV2: J | DW2: Avg | DX2: K | DY2: G | DZ2: M | EA2: J | EB2: Avg | EC2: K | ED2: G | EE2: M | EF2: J | EG2: Avg | EH2: K | EI2: G | EJ2: M | EK2: J | EL2: Avg | EM2: K | EN2: G | EO2: M | EP2: J | EQ2: Avg | ER2: K | ES2: G | ET2: M | EU2: J | EV2: Avg | EW2: K | EX2: G | EY2: M | EZ2: J | FA2: Avg | FB2: K | FC2: G | FD2: M | FE2: J | FF2: Avg | FG2: K | FH2: G | FI2: M | FJ2: J | FK2: Avg
A3: [Person_2] | B3: 20 | G3: =IFERROR(AVERAGE(C3:F3),"") | L3: =IFERROR(AVERAGE(H3:K3),"") | Q3: =IFERROR(AVERAGE(M3:P3),"") | V3: =IFERROR(AVERAGE(R3:U3),"") | AA3: =IFERROR(AVERAGE(W3:Z3),"") | AF3: =IFERROR(AVERAGE(AB3:AE3),"") | AK3: =IFERROR(AVERAGE(AG3:AJ3),"") | AP3: =IFERROR(AVERAGE(AL3:AO3),"") | AU3: =IFERROR(AVERAGE(AQ3:AT3),"") | AZ3: =IFERROR(AVERAGE(AV3:AY3),"") | BE3: =IFERROR(AVERAGE(BA3:BD3),"") | BJ3: =IFERROR(AVERAGE(BF3:BI3),"") | BO3: =IFERROR(AVERAGE(BK3:BN3),"") | BT3: =IFERROR(AVERAGE(BP3:BS3),"") | BY3: =IFERROR(AVERAGE(BU3:BX3),"") | CD3: =IFERROR(AVERAGE(BZ3:CC3),"") | CI3: =IFERROR(AVERAGE(CE3:CH3),"") | CN3: =IFERROR(AVERAGE(CJ3:CM3),"") | CS3: =IFERROR(AVERAGE(CO3:CR3),"") | CX3: =IFERROR(AVERAGE(CT3:CW3),"") | DC3: =IFERROR(AVERAGE(CY3:DB3),"") | DH3: =IFERROR(AVERAGE(DD3:DG3),"") | DM3: =IFERROR(AVERAGE(DI3:DL3),"") | DR3: =IFERROR(AVERAGE(DN3:DQ3),"") | DW3: =IFERROR(AVERAGE(DS3:DV3),"") | EB3: =IFERROR(AVERAGE(DX3:EA3),"") | EG3: =IFERROR(AVERAGE(EC3:EF3),"") | EL3: =IFERROR(AVERAGE(EH3:EK3),"") | EQ3: =IFERROR(AVERAGE(EM3:EP3),"") | EV3: =IFERROR(AVERAGE(ER3:EU3),"") | EW3: 13 | EX3: 12 | EY3: 20 | EZ3: 8 | FA3: =IFERROR(AVERAGE(EW3:EZ3),"") | FB3: =IFERROR(AVERAGE(C3,H3,M3,R3,W3,AB3,AG3,AL3,AQ3,AV3,BA3,BF3,BK3,BP3,BU3,BZ3,CE3,CJ3,CO3,CT3,CY3,DD3,DI3,DN3,DS3,DX3,EC3,EH3,EM3,ER3,EW3),"") | FC3: =IFERROR(AVERAGE(D3,I3,N3,S3,X3,AC3,AH3,AM3,AR3,AW3,BB3,BG3,BL3,BQ3,BV3,CA3,CF3,CK3,CP3,CU3,CZ3,DE3,DJ3,DO3,DT3,DY3,ED3,EI3,EN3,ES3,EX3),"") | FD3: =IFERROR(AVERAGE(E3,J3,O3,T3,Y3,AD3,AI3,AN3,AS3,AX3,BC3,BH3,BM3,BR3,BW3,CB3,CG3,CL3,CQ3,CV3,DA3,DF3,DK3,DP3,DU3,DZ3,EE3,EJ3,EO3,ET3,EY3),"") | FE3: =IFERROR(AVERAGE(F3,K3,P3,U3,Z3,AE3,AJ3,AO3,AT3,AY3,BD3,BI3,BN3,BS3,BX3,CC3,CH3,CM3,CR3,CW3,DB3,DG3,DL3,DQ3,DV3,EA3,EF3,EK3,EP3,EU3,EZ3),"") | FF3: =IFERROR(AVERAGE(FB3:FE3),"") | FG3: =IFERROR(IF(FB3-August!DW3,FB3-August!DW3,"0%"),"") | FH3: =IFERROR(IF(FC3-August!EA3,FC3-August!EA3,"0%"),"") | FI3: =IFERROR(IF(FD3-August!#REF!,FD3-August!#REF!,"0%"),"") | FJ3: =IFERROR(IF(FE3-August!EB3,FE3-August!EB3,"0%"),"") | FK3: =IFERROR(IF(FF3-August!EC3,FF3-August!EC3,"0%"),"")
A4: Assist Guests VIP/Lift | B4: 10 | G4: =IFERROR(AVERAGE(C4:F4),"") | L4: =IFERROR(AVERAGE(H4:K4),"") | Q4: =IFERROR(AVERAGE(M4:P4),"") | V4: =IFERROR(AVERAGE(R4:U4),"") | AA4: =IFERROR(AVERAGE(W4:Z4),"") | AF4: =IFERROR(AVERAGE(AB4:AE4),"") | AK4: =IFERROR(AVERAGE(AG4:AJ4),"") | AP4: =IFERROR(AVERAGE(AL4:AO4),"") | AU4: =IFERROR(AVERAGE(AQ4:AT4),"") | AZ4: =IFERROR(AVERAGE(AV4:AY4),"") | BE4: =IFERROR(AVERAGE(BA4:BD4),"") | BJ4: =IFERROR(AVERAGE(BF4:BI4),"") | BO4: =IFERROR(AVERAGE(BK4:BN4),"") | BT4: =IFERROR(AVERAGE(BP4:BS4),"") | BY4: =IFERROR(AVERAGE(BU4:BX4),"") | CD4: =IFERROR(AVERAGE(BZ4:CC4),"") | CI4: =IFERROR(AVERAGE(CE4:CH4),"") | CN4: =IFERROR(AVERAGE(CJ4:CM4),"") | CS4: =IFERROR(AVERAGE(CO4:CR4),"") | CX4: =IFERROR(AVERAGE(CT4:CW4),"") | DC4: =IFERROR(AVERAGE(CY4:DB4),"") | DH4: =IFERROR(AVERAGE(DD4:DG4),"") | DM4: =IFERROR(AVERAGE(DI4:DL4),"") | DR4: =IFERROR(AVERAGE(DN4:DQ4),"") | DW4: =IFERROR(AVERAGE(DS4:DV4),"") | EB4: =IFERROR(AVERAGE(DX4:EA4),"") | EG4: =IFERROR(AVERAGE(EC4:EF4),"") | EL4: =IFERROR(AVERAGE(EH4:EK4),"") | EQ4: =IFERROR(AVERAGE(EM4:EP4),"") | EV4: =IFERROR(AVERAGE(ER4:EU4),"") | EW4: 8 | EX4: 10 | EY4: 8 | EZ4: 5 | FA4: =IFERROR(AVERAGE(EW4:EZ4),"") | FB4: =IFERROR(AVERAGE(C4,H4,M4,R4,W4,AB4,AG4,AL4,AQ4,AV4,BA4,BF4,BK4,BP4,BU4,BZ4,CE4,CJ4,CO4,CT4,CY4,DD4,DI4,DN4,DS4,DX4,EC4,EH4,EM4,ER4,EW4),"") | FC4: =IFERROR(AVERAGE(D4,I4,N4,S4,X4,AC4,AH4,AM4,AR4,AW4,BB4,BG4,BL4,BQ4,BV4,CA4,CF4,CK4,CP4,CU4,CZ4,DE4,DJ4,DO4,DT4,DY4,ED4,EI4,EN4,ES4,EX4),"") | FD4: =IFERROR(AVERAGE(E4,J4,O4,T4,Y4,AD4,AI4,AN4,AS4,AX4,BC4,BH4,BM4,BR4,BW4,CB4,CG4,CL4,CQ4,CV4,DA4,DF4,DK4,DP4,DU4,DZ4,EE4,EJ4,EO4,ET4,EY4),"") | FE4: =IFERROR(AVERAGE(F4,K4,P4,U4,Z4,AE4,AJ4,AO4,AT4,AY4,BD4,BI4,BN4,BS4,BX4,CC4,CH4,CM4,CR4,CW4,DB4,DG4,DL4,DQ4,DV4,EA4,EF4,EK4,EP4,EU4,EZ4),"") | FF4: =IFERROR(AVERAGE(FB4:FE4),"") | FG4: =IFERROR(IF(FB4-August!DW4,FB4-August!DW4,"0%"),"") | FH4: =IFERROR(IF(FC4-August!EA4,FC4-August!EA4,"0%"),"") | FI4: =IFERROR(IF(FD4-August!#REF!,FD4-August!#REF!,"0%"),"") | FJ4: =IFERROR(IF(FE4-August!EB4,FE4-August!EB4,"0%"),"") | FK4: =IFERROR(IF(FF4-August!EC4,FF4-August!EC4,"0%"),"")
A5: Posture & Body Language | B5: 10 | G5: =IFERROR(AVERAGE(C5:F5),"") | L5: =IFERROR(AVERAGE(H5:K5),"") | Q5: =IFERROR(AVERAGE(M5:P5),"") | V5: =IFERROR(AVERAGE(R5:U5),"") | AA5: =IFERROR(AVERAGE(W5:Z5),"") | AF5: =IFERROR(AVERAGE(AB5:AE5),"") | AK5: =IFERROR(AVERAGE(AG5:AJ5),"") | AP5: =IFERROR(AVERAGE(AL5:AO5),"") | AU5: =IFERROR(AVERAGE(AQ5:AT5),"") | AZ5: =IFERROR(AVERAGE(AV5:AY5),"") | BE5: =IFERROR(AVERAGE(BA5:BD5),"") | BJ5: =IFERROR(AVERAGE(BF5:BI5),"") | BO5: =IFERROR(AVERAGE(BK5:BN5),"") | BT5: =IFERROR(AVERAGE(BP5:BS5),"") | BY5: =IFERROR(AVERAGE(BU5:BX5),"") | CD5: =IFERROR(AVERAGE(BZ5:CC5),"") | CI5: =IFERROR(AVERAGE(CE5:CH5),"") | CN5: =IFERROR(AVERAGE(CJ5:CM5),"") | CS5: =IFERROR(AVERAGE(CO5:CR5),"") | CX5: =IFERROR(AVERAGE(CT5:CW5),"") | DC5: =IFERROR(AVERAGE(CY5:DB5),"") | DH5: =IFERROR(AVERAGE(DD5:DG5),"") | DM5: =IFERROR(AVERAGE(DI5:DL5),"") | DR5: =IFERROR(AVERAGE(DN5:DQ5),"") | DW5: =IFERROR(AVERAGE(DS5:DV5),"") | EB5: =IFERROR(AVERAGE(DX5:EA5),"") | EG5: =IFERROR(AVERAGE(EC5:EF5),"") | EL5: =IFERROR(AVERAGE(EH5:EK5),"") | EQ5: =IFERROR(AVERAGE(EM5:EP5),"") | EV5: =IFERROR(AVERAGE(ER5:EU5),"") | EW5: 7 | EX5: 6 | EY5: 7 | EZ5: 9 | FA5: =IFERROR(AVERAGE(EW5:EZ5),"") | FB5: =IFERROR(AVERAGE(C5,H5,M5,R5,W5,AB5,AG5,AL5,AQ5,AV5,BA5,BF5,BK5,BP5,BU5,BZ5,CE5,CJ5,CO5,CT5,CY5,DD5,DI5,DN5,DS5,DX5,EC5,EH5,EM5,ER5,EW5),"") | FC5: =IFERROR(AVERAGE(D5,I5,N5,S5,X5,AC5,AH5,AM5,AR5,AW5,BB5,BG5,BL5,BQ5,BV5,CA5,CF5,CK5,CP5,CU5,CZ5,DE5,DJ5,DO5,DT5,DY5,ED5,EI5,EN5,ES5,EX5),"") | FD5: =IFERROR(AVERAGE(E5,J5,O5,T5,Y5,AD5,AI5,AN5,AS5,AX5,BC5,BH5,BM5,BR5,BW5,CB5,CG5,CL5,CQ5,CV5,DA5,DF5,DK5,DP5,DU5,DZ5,EE5,EJ5,EO5,ET5,EY5),"") | FE5: =IFERROR(AVERAGE(F5,K5,P5,U5,Z5,AE5,AJ5,AO5,AT5,AY5,BD5,BI5,BN5,BS5,BX5,CC5,CH5,CM5,CR5,CW5,DB5,DG5,DL5,DQ5,DV5,EA5,EF5,EK5,EP5,EU5,EZ5),"") | FF5: =IFERROR(AVERAGE(FB5:FE5),"") | FG5: =IFERROR(IF(FB5-August!DW5,FB5-August!DW5,"0%"),"") | FH5: =IFERROR(IF(FC5-August!EA5,FC5-August!EA5,"0%"),"") | FI5: =IFERROR(IF(FD5-August!#REF!,FD5-August!#REF!,"0%"),"") | FJ5: =IFERROR(IF(FE5-August!EB5,FE5-August!EB5,"0%"),"") | FK5: =IFERROR(IF(FF5-August!EC5,FF5-August!EC5,"0%"),"")
A6: Knowledge of Hotel & Events | B6: 20 | G6: =IFERROR(AVERAGE(C6:F6),"") | L6: =IFERROR(AVERAGE(H6:K6),"") | Q6: =IFERROR(AVERAGE(M6:P6),"") | V6: =IFERROR(AVERAGE(R6:U6),"") | AA6: =IFERROR(AVERAGE(W6:Z6),"") | AF6: =IFERROR(AVERAGE(AB6:AE6),"") | AK6: =IFERROR(AVERAGE(AG6:AJ6),"") | AP6: =IFERROR(AVERAGE(AL6:AO6),"") | AU6: =IFERROR(AVERAGE(AQ6:AT6),"") | AZ6: =IFERROR(AVERAGE(AV6:AY6),"") | BE6: =IFERROR(AVERAGE(BA6:BD6),"") | BJ6: =IFERROR(AVERAGE(BF6:BI6),"") | BO6: =IFERROR(AVERAGE(BK6:BN6),"") | BT6: =IFERROR(AVERAGE(BP6:BS6),"") | BY6: =IFERROR(AVERAGE(BU6:BX6),"") | CD6: =IFERROR(AVERAGE(BZ6:CC6),"") | CI6: =IFERROR(AVERAGE(CE6:CH6),"") | CN6: =IFERROR(AVERAGE(CJ6:CM6),"") | CS6: =IFERROR(AVERAGE(CO6:CR6),"") | CX6: =IFERROR(AVERAGE(CT6:CW6),"") | DC6: =IFERROR(AVERAGE(CY6:DB6),"") | DH6: =IFERROR(AVERAGE(DD6:DG6),"") | DM6: =IFERROR(AVERAGE(DI6:DL6),"") | DR6: =IFERROR(AVERAGE(DN6:DQ6),"") | DW6: =IFERROR(AVERAGE(DS6:DV6),"") | EB6: =IFERROR(AVERAGE(DX6:EA6),"") | EG6: =IFERROR(AVERAGE(EC6:EF6),"") | EL6: =IFERROR(AVERAGE(EH6:EK6),"") | EQ6: =IFERROR(AVERAGE(EM6:EP6),"") | EV6: =IFERROR(AVERAGE(ER6:EU6),"") | EW6: 11 | EX6: 12 | EY6: 18 | EZ6: 13 | FA6: =IFERROR(AVERAGE(EW6:EZ6),"") | FB6: =IFERROR(AVERAGE(C6,H6,M6,R6,W6,AB6,AG6,AL6,AQ6,AV6,BA6,BF6,BK6,BP6,BU6,BZ6,CE6,CJ6,CO6,CT6,CY6,DD6,DI6,DN6,DS6,DX6,EC6,EH6,EM6,ER6,EW6),"") | FC6: =IFERROR(AVERAGE(D6,I6,N6,S6,X6,AC6,AH6,AM6,AR6,AW6,BB6,BG6,BL6,BQ6,BV6,CA6,CF6,CK6,CP6,CU6,CZ6,DE6,DJ6,DO6,DT6,DY6,ED6,EI6,EN6,ES6,EX6),"") | FD6: =IFERROR(AVERAGE(E6,J6,O6,T6,Y6,AD6,AI6,AN6,AS6,AX6,BC6,BH6,BM6,BR6,BW6,CB6,CG6,CL6,CQ6,CV6,DA6,DF6,DK6,DP6,DU6,DZ6,EE6,EJ6,EO6,ET6,EY6),"") | FE6: =IFERROR(AVERAGE(F6,K6,P6,U6,Z6,AE6,AJ6,AO6,AT6,AY6,BD6,BI6,BN6,BS6,BX6,CC6,CH6,CM6,CR6,CW6,DB6,DG6,DL6,DQ6,DV6,EA6,EF6,EK6,EP6,EU6,EZ6),"") | FF6: =IFERROR(AVERAGE(FB6:FE6),"") | FG6: =IFERROR(IF(FB6-August!DW6,FB6-August!DW6,"0%"),"") | FH6: =IFERROR(IF(FC6-August!EA6,FC6-August!EA6,"0%"),"") | FI6: =IFERROR(IF(FD6-August!#REF!,FD6-August!#REF!,"0%"),"") | FJ6: =IFERROR(IF(FE6-August!EB6,FE6-August!EB6,"0%"),"") | FK6: =IFERROR(IF(FF6-August!EC6,FF6-August!EC6,"0%"),"")
A7: Hair | B7: 15 | G7: =IFERROR(AVERAGE(C7:F7),"") | L7: =IFERROR(AVERAGE(H7:K7),"") | Q7: =IFERROR(AVERAGE(M7:P7),"") | V7: =IFERROR(AVERAGE(R7:U7),"") | AA7: =IFERROR(AVERAGE(W7:Z7),"") | AF7: =IFERROR(AVERAGE(AB7:AE7),"") | AK7: =IFERROR(AVERAGE(AG7:AJ7),"") | AP7: =IFERROR(AVERAGE(AL7:AO7),"") | AU7: =IFERROR(AVERAGE(AQ7:AT7),"") | AZ7: =IFERROR(AVERAGE(AV7:AY7),"") | BE7: =IFERROR(AVERAGE(BA7:BD7),"") | BJ7: =IFERROR(AVERAGE(BF7:BI7),"") | BO7: =IFERROR(AVERAGE(BK7:BN7),"") | BT7: =IFERROR(AVERAGE(BP7:BS7),"") | BY7: =IFERROR(AVERAGE(BU7:BX7),"") | CD7: =IFERROR(AVERAGE(BZ7:CC7),"") | CI7: =IFERROR(AVERAGE(CE7:CH7),"") | CN7: =IFERROR(AVERAGE(CJ7:CM7),"") | CS7: =IFERROR(AVERAGE(CO7:CR7),"") | CX7: =IFERROR(AVERAGE(CT7:CW7),"") | DC7: =IFERROR(AVERAGE(CY7:DB7),"") | DH7: =IFERROR(AVERAGE(DD7:DG7),"") | DM7: =IFERROR(AVERAGE(DI7:DL7),"") | DR7: =IFERROR(AVERAGE(DN7:DQ7),"") | DW7: =IFERROR(AVERAGE(DS7:DV7),"") | EB7: =IFERROR(AVERAGE(DX7:EA7),"") | EG7: =IFERROR(AVERAGE(EC7:EF7),"") | EL7: =IFERROR(AVERAGE(EH7:EK7),"") | EQ7: =IFERROR(AVERAGE(EM7:EP7),"") | EV7: =IFERROR(AVERAGE(ER7:EU7),"") | EW7: 11 | EX7: 8 | EY7: 13 | EZ7: 7 | FA7: =IFERROR(AVERAGE(EW7:EZ7),"") | FB7: =IFERROR(AVERAGE(C7,H7,M7,R7,W7,AB7,AG7,AL7,AQ7,AV7,BA7,BF7,BK7,BP7,BU7,BZ7,CE7,CJ7,CO7,CT7,CY7,DD7,DI7,DN7,DS7,DX7,EC7,EH7,EM7,ER7,EW7),"") | FC7: =IFERROR(AVERAGE(D7,I7,N7,S7,X7,AC7,AH7,AM7,AR7,AW7,BB7,BG7,BL7,BQ7,BV7,CA7,CF7,CK7,CP7,CU7,CZ7,DE7,DJ7,DO7,DT7,DY7,ED7,EI7,EN7,ES7,EX7),"") | FD7: =IFERROR(AVERAGE(E7,J7,O7,T7,Y7,AD7,AI7,AN7,AS7,AX7,BC7,BH7,BM7,BR7,BW7,CB7,CG7,CL7,CQ7,CV7,DA7,DF7,DK7,DP7,DU7,DZ7,EE7,EJ7,EO7,ET7,EY7),"") | FE7: =IFERROR(AVERAGE(F7,K7,P7,U7,Z7,AE7,AJ7,AO7,AT7,AY7,BD7,BI7,BN7,BS7,BX7,CC7,CH7,CM7,CR7,CW7,DB7,DG7,DL7,DQ7,DV7,EA7,EF7,EK7,EP7,EU7,EZ7),"") | FF7: =IFERROR(AVERAGE(FB7:FE7),"") | FG7: =IFERROR(IF(FB7-August!DW7,FB7-August!DW7,"0%"),"") | FH7: =IFERROR(IF(FC7-August!EA7,FC7-August!EA7,"0%"),"") | FI7: =IFERROR(IF(FD7-August!#REF!,FD7-August!#REF!,"0%"),"") | FJ7: =IFERROR(IF(FE7-August!EB7,FE7-August!EB7,"0%"),"") | FK7: =IFERROR(IF(FF7-August!EC7,FF7-August!EC7,"0%"),"")
A8: Makeup | B8: 15 | G8: =IFERROR(AVERAGE(C8:F8),"") | L8: =IFERROR(AVERAGE(H8:K8),"") | Q8: =IFERROR(AVERAGE(M8:P8),"") | V8: =IFERROR(AVERAGE(R8:U8),"") | AA8: =IFERROR(AVERAGE(W8:Z8),"") | AF8: =IFERROR(AVERAGE(AB8:AE8),"") | AK8: =IFERROR(AVERAGE(AG8:AJ8),"") | AP8: =IFERROR(AVERAGE(AL8:AO8),"") | AU8: =IFERROR(AVERAGE(AQ8:AT8),"") | AZ8: =IFERROR(AVERAGE(AV8:AY8),"") | BE8: =IFERROR(AVERAGE(BA8:BD8),"") | BJ8: =IFERROR(AVERAGE(BF8:BI8),"") | BO8: =IFERROR(AVERAGE(BK8:BN8),"") | BT8: =IFERROR(AVERAGE(BP8:BS8),"") | BY8: =IFERROR(AVERAGE(BU8:BX8),"") | CD8: =IFERROR(AVERAGE(BZ8:CC8),"") | CI8: =IFERROR(AVERAGE(CE8:CH8),"") | CN8: =IFERROR(AVERAGE(CJ8:CM8),"") | CS8: =IFERROR(AVERAGE(CO8:CR8),"") | CX8: =IFERROR(AVERAGE(CT8:CW8),"") | DC8: =IFERROR(AVERAGE(CY8:DB8),"") | DH8: =IFERROR(AVERAGE(DD8:DG8),"") | DM8: =IFERROR(AVERAGE(DI8:DL8),"") | DR8: =IFERROR(AVERAGE(DN8:DQ8),"") | DW8: =IFERROR(AVERAGE(DS8:DV8),"") | EB8: =IFERROR(AVERAGE(DX8:EA8),"") | EG8: =IFERROR(AVERAGE(EC8:EF8),"") | EL8: =IFERROR(AVERAGE(EH8:EK8),"") | EQ8: =IFERROR(AVERAGE(EM8:EP8),"") | EV8: =IFERROR(AVERAGE(ER8:EU8),"") | EW8: 9 | EX8: 6 | EY8: 10 | EZ8: 7 | FA8: =IFERROR(AVERAGE(EW8:EZ8),"") | FB8: =IFERROR(AVERAGE(C8,H8,M8,R8,W8,AB8,AG8,AL8,AQ8,AV8,BA8,BF8,BK8,BP8,BU8,BZ8,CE8,CJ8,CO8,CT8,CY8,DD8,DI8,DN8,DS8,DX8,EC8,EH8,EM8,ER8,EW8),"") | FC8: =IFERROR(AVERAGE(D8,I8,N8,S8,X8,AC8,AH8,AM8,AR8,AW8,BB8,BG8,BL8,BQ8,BV8,CA8,CF8,CK8,CP8,CU8,CZ8,DE8,DJ8,DO8,DT8,DY8,ED8,EI8,EN8,ES8,EX8),"") | FD8: =IFERROR(AVERAGE(E8,J8,O8,T8,Y8,AD8,AI8,AN8,AS8,AX8,BC8,BH8,BM8,BR8,BW8,CB8,CG8,CL8,CQ8,CV8,DA8,DF8,DK8,DP8,DU8,DZ8,EE8,EJ8,EO8,ET8,EY8),"") | FE8: =IFERROR(AVERAGE(F8,K8,P8,U8,Z8,AE8,AJ8,AO8,AT8,AY8,BD8,BI8,BN8,BS8,BX8,CC8,CH8,CM8,CR8,CW8,DB8,DG8,DL8,DQ8,DV8,EA8,EF8,EK8,EP8,EU8,EZ8),"") | FF8: =IFERROR(AVERAGE(FB8:FE8),"") | FG8: =IFERROR(IF(FB8-August!DW8,FB8-August!DW8,"0%"),"") | FH8: =IFERROR(IF(FC8-August!EA8,FC8-August!EA8,"0%"),"") | FI8: =IFERROR(IF(FD8-August!#REF!,FD8-August!#REF!,"0%"),"") | FJ8: =IFERROR(IF(FE8-August!EB8,FE8-August!EB8,"0%"),"") | FK8: =IFERROR(IF(FF8-August!EC8,FF8-August!EC8,"0%"),"")
A9: Uniform | B9: 10 | G9: =IFERROR(AVERAGE(C9:F9),"") | L9: =IFERROR(AVERAGE(H9:K9),"") | Q9: =IFERROR(AVERAGE(M9:P9),"") | V9: =IFERROR(AVERAGE(R9:U9),"") | AA9: =IFERROR(AVERAGE(W9:Z9),"") | AF9: =IFERROR(AVERAGE(AB9:AE9),"") | AK9: =IFERROR(AVERAGE(AG9:AJ9),"") | AP9: =IFERROR(AVERAGE(AL9:AO9),"") | AU9: =IFERROR(AVERAGE(AQ9:AT9),"") | AZ9: =IFERROR(AVERAGE(AV9:AY9),"") | BE9: =IFERROR(AVERAGE(BA9:BD9),"") | BJ9: =IFERROR(AVERAGE(BF9:BI9),"") | BO9: =IFERROR(AVERAGE(BK9:BN9),"") | BT9: =IFERROR(AVERAGE(BP9:BS9),"") | BY9: =IFERROR(AVERAGE(BU9:BX9),"") | CD9: =IFERROR(AVERAGE(BZ9:CC9),"") | CI9: =IFERROR(AVERAGE(CE9:CH9),"") | CN9: =IFERROR(AVERAGE(CJ9:CM9),"") | CS9: =IFERROR(AVERAGE(CO9:CR9),"") | CX9: =IFERROR(AVERAGE(CT9:CW9),"") | DC9: =IFERROR(AVERAGE(CY9:DB9),"") | DH9: =IFERROR(AVERAGE(DD9:DG9),"") | DM9: =IFERROR(AVERAGE(DI9:DL9),"") | DR9: =IFERROR(AVERAGE(DN9:DQ9),"") | DW9: =IFERROR(AVERAGE(DS9:DV9),"") | EB9: =IFERROR(AVERAGE(DX9:EA9),"") | EG9: =IFERROR(AVERAGE(EC9:EF9),"") | EL9: =IFERROR(AVERAGE(EH9:EK9),"") | EQ9: =IFERROR(AVERAGE(EM9:EP9),"") | EV9: =IFERROR(AVERAGE(ER9:EU9),"") | EW9: 6 | EX9: 10 | EY9: 8 | EZ9: 7 | FA9: =IFERROR(AVERAGE(EW9:EZ9),"") | FB9: =IFERROR(AVERAGE(C9,H9,M9,R9,W9,AB9,AG9,AL9,AQ9,AV9,BA9,BF9,BK9,BP9,BU9,BZ9,CE9,CJ9,CO9,CT9,CY9,DD9,DI9,DN9,DS9,DX9,EC9,EH9,EM9,ER9,EW9),"") | FC9: =IFERROR(AVERAGE(D9,I9,N9,S9,X9,AC9,AH9,AM9,AR9,AW9,BB9,BG9,BL9,BQ9,BV9,CA9,CF9,CK9,CP9,CU9,CZ9,DE9,DJ9,DO9,DT9,DY9,ED9,EI9,EN9,ES9,EX9),"") | FD9: =IFERROR(AVERAGE(E9,J9,O9,T9,Y9,AD9,AI9,AN9,AS9,AX9,BC9,BH9,BM9,BR9,BW9,CB9,CG9,CL9,CQ9,CV9,DA9,DF9,DK9,DP9,DU9,DZ9,EE9,EJ9,EO9,ET9,EY9),"") | FE9: =IFERROR(AVERAGE(F9,K9,P9,U9,Z9,AE9,AJ9,AO9,AT9,AY9,BD9,BI9,BN9,BS9,BX9,CC9,CH9,CM9,CR9,CW9,DB9,DG9,DL9,DQ9,DV9,EA9,EF9,EK9,EP9,EU9,EZ9),"") | FF9: =IFERROR(AVERAGE(FB9:FE9),"") | FG9: =IFERROR(IF(FB9-August!DW9,FB9-August!DW9,"0%"),"") | FH9: =IFERROR(IF(FC9-August!EA9,FC9-August!EA9,"0%"),"") | FI9: =IFERROR(IF(FD9-August!#REF!,FD9-August!#REF!,"0%"),"") | FJ9: =IFERROR(IF(FE9-August!EB9,FE9-August!EB9,"0%"),"") | FK9: =IFERROR(IF(FF9-August!EC9,FF9-August!EC9,"0%"),"")
A10: Total | B10: 100 | C10: =IFERROR(SUM(C3:C9),"") | D10: =IFERROR(SUM(D3:D9),"") | E10: =IFERROR(SUM(E3:E9),"") | F10: =IFERROR(SUM(F3:F9),"") | G10: =IFERROR(SUM(G3:G9),"") | H10: =IFERROR(SUM(H3:H9),"") | I10: =IFERROR(SUM(I3:I9),"") | J10: =IFERROR(SUM(J3:J9),"") | ... FF10: =IFERROR(SUM(FF3:FF9),"") | FG10: =IFERROR(IF(FB10-August!DW10,FB10-August!DW10,"0%"),"") | FH10: =IFERROR(IF(FC10-August!EA10,FC10-August!EA10,"0%"),"") | FI10: =IFERROR(IF(FD10-August!#REF!,FD10-August!#REF!,"0%"),"") | FJ10: =IFERROR(IF(FE10-August!EB10,FE10-August!EB10,"0%"),"") | FK10: =IFERROR(IF(FF10-August!EC10,FF10-August!EC10,"0%"),"")
A12: Jyra | B12: % | C12: K | D12: G | E12: M | F12: J | G12: Avg | H12: K | I12: G | J12: M | K12: J | L12: Avg | M12: K | N12: G | O12: M | P12: J | Q12: Avg | R12: K | S12: G | T12: M | U12: J | V12: Avg | W12: K | X12: G | Y12: M | Z12: J | AA12: Avg | AB12: K | AC12: G | AD12: M | AE12: J | AF12: Avg | AG12: K | AH12: G | AI12: M | AJ12: J | AK12: Avg | AL12: K | AM12: G | AN12: M | AO12: J | AP12: Avg | AQ12: K | AR12: G | AS12: M | AT12: J | AU12: Avg | AV12: K | AW12: G | AX12: M | AY12: J | AZ12: Avg | BA12: K | BB12: G | BC12: M | BD12: J | BE12: Avg | BF12: K | BG12: G | BH12: M | BI12: J | BJ12: Avg | BK12: K | BL12: G | BM12: M | BN12: J | BO12: Avg | BP12: K | BQ12: G | BR12: M | BS12: J | BT12: Avg | BU12: K | BV12: G | BW12: M | BX12: J | BY12: Avg | BZ12: K | CA12: G | CB12: M | CC12: J | CD12: Avg | CE12: K | CF12: G | CG12: M | CH12: J | CI12: Avg | CJ12: K | CK12: G | CL12: M | CM12: J | CN12: Avg | CO12: K | CP12: G | CQ12: M | CR12: J | CS12: Avg | CT12: K | CU12: G | CV12: M | CW12: J | CX12: Avg | CY12: K | CZ12: G | DA12: M | DB12: J | DC12: Avg | DD12: K | DE12: G | DF12: M | DG12: J | DH12: Avg | DI12: K | DJ12: G | DK12: M | DL12: J | DM12: Avg | DN12: K | DO12: G | DP12: M | DQ12: J | DR12: Avg | DS12: K | DT12: G | DU12: M | DV12: J | DW12: Avg | DX12: K | DY12: G | DZ12: M | EA12: J | EB12: Avg | EC12: K | ED12: G | EE12: M | EF12: J | EG12: Avg | EH12: K | EI12: G | EJ12: M | EK12: J | EL12: Avg | EM12: K | EN12: G | EO12: M | EP12: J | EQ12: Avg | ER12: K | ES12: G | ET12: M | EU12: J | EV12: Avg | EW12: K | EX12: G | EY12: M | EZ12: J | FA12: Avg | FB12: K | FC12: G | FD12: M | FE12: J | FF12: Avg | FG12: K | FH12: G | FI12: M | FJ12: J | FK12: Avg
A13: [Person_2] | B13: 20 | G13: =IFERROR(AVERAGE(C13:F13),"") | L13: =IFERROR(AVERAGE(H13:K13),"") | Q13: =IFERROR(AVERAGE(M13:P13),"") | V13: =IFERROR(AVERAGE(R13:U13),"") | AA13: =IFERROR(AVERAGE(W13:Z13),"") | AF13: =IFERROR(AVERAGE(AB13:AE13),"") | AK13: =IFERROR(AVERAGE(AG13:AJ13),"") | AP13: =IFERROR(AVERAGE(AL13:AO13),"") | AU13: =IFERROR(AVERAGE(AQ13:AT13),"") | AZ13: =IFERROR(AVERAGE(AV13:AY13),"") | BE13: =IFERROR(AVERAGE(BA13:BD13),"") | BJ13: =IFERROR(AVERAGE(BF13:BI13),"") | BO13: =IFERROR(AVERAGE(BK13:BN13),"") | BT13: =IFERROR(AVERAGE(BP13:BS13),"") | BY13: =IFERROR(AVERAGE(BU13:BX13),"") | CD13: =IFERROR(AVERAGE(BZ13:CC13),"") | CI13: =IFERROR(AVERAGE(CE13:CH13),"") | CN13: =IFERROR(AVERAGE(CJ13:CM13),"") | CS13: =IFERROR(AVERAGE(CO13:CR13),"") | CX13: =IFERROR(AVERAGE(CT13:CW13),"") | DC13: =IFERROR(AVERAGE(CY13:DB13),"") | DH13: =IFERROR(AVERAGE(DD13:DG13),"") | DM13: =IFERROR(AVERAGE(DI13:DL13),"") | DR13: =IFERROR(AVERAGE(DN13:DQ13),"") | DW13: =IFERROR(AVERAGE(DS13:DV13),"") | EB13: =IFERROR(AVERAGE(DX13:EA13),"") | EG13: =IFERROR(AVERAGE(EC13:EF13),"") | EL13: =IFERROR(AVERAGE(EH13:EK13),"") | EQ13: =IFERROR(AVERAGE(EM13:EP13),"") | EV13: =IFERROR(AVERAGE(ER13:EU13),"") | FA13: =IFERROR(AVERAGE(EW13:EZ13),"") | FB13: =IFERROR(AVERAGE(C13,H13,M13,R13,W13,AB13,AG13,AL13,AQ13,AV13,BA13,BF13,BK13,BP13,BU13,BZ13,CE13,CJ13,CO13,CT13,CY13,DD13,DI13,DN13,DS13,DX13,EC13,EH13,EM13,ER13,EW13),"") | FC13: =IFERROR(AVERAGE(D13,I13,N13,S13,X13,AC13,AH13,AM13,AR13,AW13,BB13,BG13,BL13,BQ13,BV13,CA13,CF13,CK13,CP13,CU13,CZ13,DE13,DJ13,DO13,DT13,DY13,ED13,EI13,EN13,ES13,EX13),"") | FD13: =IFERROR(AVERAGE(E13,J13,O13,T13,Y13,AD13,AI13,AN13,AS13,AX13,BC13,BH13,BM13,BR13,BW13,CB13,CG13,CL13,CQ13,CV13,DA13,DF13,DK13,DP13,DU13,DZ13,EE13,EJ13,EO13,ET13,EY13),"") | FE13: =IFERROR(AVERAGE(F13,K13,P13,U13,Z13,AE13,AJ13,AO13,AT13,AY13,BD13,BI13,BN13,BS13,BX13,CC13,CH13,CM13,CR13,CW13,DB13,DG13,DL13,DQ13,DV13,EA13,EF13,EK13,EP13,EU13,EZ13),"") | FF13: =IFERROR(AVERAGE(FB13:FE13),"") | FG13: =IFERROR(IF(FB13-August!DW13,FB13-August!DW13,"0%"),"") | FH13: =IFERROR(IF(FC13-August!EA13,FC13-August!EA13,"0%"),"") | FI13: =IFERROR(IF(FD13-August!#REF!,FD13-August!#REF!,"0%"),"") | FJ13: =IFERROR(IF(FE13-August!EB13,FE13-August!EB13,"0%"),"") | FK13: =IFERROR(IF(FF13-August!EC13,FF13-August!EC13,"0%"),"")
A14: Assist Guests VIP/Lift | B14: 10 | G14: =IFERROR(AVERAGE(C14:F14),"") | L14: =IFERROR(AVERAGE(H14:K14),"") | Q14: =IFERROR(AVERAGE(M14:P14),"") | V14: =IFERROR(AVERAGE(R14:U14),"") | AA14: =IFERROR(AVERAGE(W14:Z14),"") | AF14: =IFERROR(AVERAGE(AB14:AE14),"") | AK14: =IFERROR(AVERAGE(AG14:AJ14),"") | AP14: =IFERROR(AVERAGE(AL14:AO14),"") | AU14: =IFERROR(AVERAGE(AQ14:AT14),"") | AZ14: =IFERROR(AVERAGE(AV14:AY14),"") | BE14: =IFERROR(AVERAGE(BA14:BD14),"") | BJ14: =IFERROR(AVERAGE(BF14:BI14),"") | BO14: =IFERROR(AVERAGE(BK14:BN14),"") | BT14: =IFERROR(AVERAGE(BP14:BS14),"") | BY14: =IFERROR(AVERAGE(BU14:BX14),"") | CD14: =IFERROR(AVERAGE(BZ14:CC14),"") | CI14: =IFERROR(AVERAGE(CE14:CH14),"") | CN14: =IFERROR(AVERAGE(CJ14:CM14),"") | CS14: =IFERROR(AVERAGE(CO14:CR14),"") | CX14: =IFERROR(AVERAGE(CT14:CW14),"") | DC14: =IFERROR(AVERAGE(CY14:DB14),"") | DH14: =IFERROR(AVERAGE(DD14:DG14),"") | DM14: =IFERROR(AVERAGE(DI14:DL14),"") | DR14: =IFERROR(AVERAGE(DN14:DQ14),"") | DW14: =IFERROR(AVERAGE(DS14:DV14),"") | EB14: =IFERROR(AVERAGE(DX14:EA14),"") | EG14: =IFERROR(AVERAGE(EC14:EF14),"") | EL14: =IFERROR(AVERAGE(EH14:EK14),"") | EQ14: =IFERROR(AVERAGE(EM14:EP14),"") | EV14: =IFERROR(AVERAGE(ER14:EU14),"") | FA14: =IFERROR(AVERAGE(EW14:EZ14),"") | FB14: =IFERROR(AVERAGE(C14,H14,M14,R14,W14,AB14,AG14,AL14,AQ14,AV14,BA14,BF14,BK14,BP14,BU14,BZ14,CE14,CJ14,CO14,CT14,CY14,DD14,DI14,DN14,DS14,DX14,EC14,EH14,EM14,ER14,EW14),"") | FC14: =IFERROR(AVERAGE(D14,I14,N14,S14,X14,AC14,AH14,AM14,AR14,AW14,BB14,BG14,BL14,BQ14,BV14,CA14,CF14,CK14,CP14,CU14,CZ14,DE14,DJ14,DO14,DT14,DY14,ED14,EI14,EN14,ES14,EX14),"") | FD14: =IFERROR(AVERAGE(E14,J14,O14,T14,Y14,AD14,AI14,AN14,AS14,AX14,BC14,BH14,BM14,BR14,BW14,CB14,CG14,CL14,CQ14,CV14,DA14,DF14,DK14,DP14,DU14,DZ14,EE14,EJ14,EO14,ET14,EY14),"") | FE14: =IFERROR(AVERAGE(F14,K14,P14,U14,Z14,AE14,AJ14,AO14,AT14,AY14,BD14,BI14,BN14,BS14,BX14,CC14,CH14,CM14,CR14,CW14,DB14,DG14,DL14,DQ14,DV14,EA14,EF14,EK14,EP14,EU14,EZ14),"") | FF14: =IFERROR(AVERAGE(FB14:FE14),"") | FG14: =IFERROR(IF(FB14-August!DW14,FB14-August!DW14,"0%"),"") | FH14: =IFERROR(IF(FC14-August!EA14,FC14-August!EA14,"0%"),"") | FI14: =IFERROR(IF(FD14-August!#REF!,FD14-August!#REF!,"0%"),"") | FJ14: =IFERROR(IF(FE14-August!EB14,FE14-August!EB14,"0%"),"") | FK14: =IFERROR(IF(FF14-August!EC14,FF14-August!EC14,"0%"),"")
A15: Posture & Body Language | B15: 10 | G15: =IFERROR(AVERAGE(C15:F15),"") | L15: =IFERROR(AVERAGE(H15:K15),"") | Q15: =IFERROR(AVERAGE(M15:P15),"") | V15: =IFERROR(AVERAGE(R15:U15),"") | AA15: =IFERROR(AVERAGE(W15:Z15),"") | AF15: =IFERROR(AVERAGE(AB15:AE15),"") | AK15: =IFERROR(AVERAGE(AG15:AJ15),"") | AP15: =IFERROR(AVERAGE(AL15:AO15),"") | AU15: =IFERROR(AVERAGE(AQ15:AT15),"") | AZ15: =IFERROR(AVERAGE(AV15:AY15),"") | BE15: =IFERROR(AVERAGE(BA15:BD15),"") | BJ15: =IFERROR(AVERAGE(BF15:BI15),"") | BO15: =IFERROR(AVERAGE(BK15:BN15),"") | BT15: =IFERROR(AVERAGE(BP15:BS15),"") | BY15: =IFERROR(AVERAGE(BU15:BX15),"") | CD15: =IFERROR(AVERAGE(BZ15:CC15),"") | CI15: =IFERROR(AVERAGE(CE15:CH15),"") | CN15: =IFERROR(AVERAGE(CJ15:CM15),"") | CS15: =IFERROR(AVERAGE(CO15:CR15),"") | CX15: =IFERROR(AVERAGE(CT15:CW15),"") | DC15: =IFERROR(AVERAGE(CY15:DB15),"") | DH15: =IFERROR(AVERAGE(DD15:DG15),"") | DM15: =IFERROR(AVERAGE(DI15:DL15),"") | DR15: =IFERROR(AVERAGE(DN15:DQ15),"") | DW15: =IFERROR(AVERAGE(DS15:DV15),"") | EB15: =IFERROR(AVERAGE(DX15:EA15),"") | EG15: =IFERROR(AVERAGE(EC15:EF15),"") | EL15: =IFERROR(AVERAGE(EH15:EK15),"") | EQ15: =IFERROR(AVERAGE(EM15:EP15),"") | EV15: =IFERROR(AVERAGE(ER15:EU15),"") | FA15: =IFERROR(AVERAGE(EW15:EZ15),"") | FB15: =IFERROR(AVERAGE(C15,H15,M15,R15,W15,AB15,AG15,AL15,AQ15,AV15,BA15,BF15,BK15,BP15,BU15,BZ15,CE15,CJ15,CO15,CT15,CY15,DD15,DI15,DN15,DS15,DX15,EC15,EH15,EM15,ER15,EW15),"") | FC15: =IFERROR(AVERAGE(D15,I15,N15,S15,X15,AC15,AH15,AM15,AR15,AW15,BB15,BG15,BL15,BQ15,BV15,CA15,CF15,CK15,CP15,CU15,CZ15,DE15,DJ15,DO15,DT15,DY15,ED15,EI15,EN15,ES15,EX15),"") | FD15: =IFERROR(AVERAGE(E15,J15,O15,T15,Y15,AD15,AI15,AN15,AS15,AX15,BC15,BH15,BM15,BR15,BW15,CB15,CG15,CL15,CQ15,CV15,DA15,DF15,DK15,DP15,DU15,DZ15,EE15,EJ15,EO15,ET15,EY15),"") | FE15: =IFERROR(AVERAGE(F15,K15,P15,U15,Z15,AE15,AJ15,AO15,AT15,AY15,BD15,BI15,BN15,BS15,BX15,CC15,CH15,CM15,CR15,CW15,DB15,DG15,DL15,DQ15,DV15,EA15,EF15,EK15,EP15,EU15,EZ15),"") | FF15: =IFERROR(AVERAGE(FB15:FE15),"") | FG15: =IFERROR(IF(FB15-August!DW15,FB15-August!DW15,"0%"),"") | FH15: =IFERROR(IF(FC15-August!EA15,FC15-August!EA15,"0%"),"") | FI15: =IFERROR(IF(FD15-August!#REF!,FD15-August!#REF!,"0%"),"") | FJ15: =IFERROR(IF(FE15-August!EB15,FE15-August!EB15,"0%"),"") | FK15: =IFERROR(IF(FF15-August!EC15,FF15-August!EC15,"0%"),"")
A16: Knowledge of Hotel & Events | B16: 20 | G16: =IFERROR(AVERAGE(C16:F16),"") | L16: =IFERROR(AVERAGE(H16:K16),"") | Q16: =IFERROR(AVERAGE(M16:P16),"") | V16: =IFERROR(AVERAGE(R16:U16),"") | AA16: =IFERROR(AVERAGE(W16:Z16),"") | AF16: =IFERROR(AVERAGE(AB16:AE16),"") | AK16: =IFERROR(AVERAGE(AG16:AJ16),"") | AP16: =IFERROR(AVERAGE(AL16:AO16),"") | AU16: =IFERROR(AVERAGE(AQ16:AT16),"") | AZ16: =IFERROR(AVERAGE(AV16:AY16),"") | BE16: =IFERROR(AVERAGE(BA16:BD16),"") | BJ16: =IFERROR(AVERAGE(BF16:BI16),"") | BO16: =IFERROR(AVERAGE(BK16:BN16),"") | BT16: =IFERROR(AVERAGE(BP16:BS16),"") | BY16: =IFERROR(AVERAGE(BU16:BX16),"") | CD16: =IFERROR(AVERAGE(BZ16:CC16),"") | CI16: =IFERROR(AVERAGE(CE16:CH16),"") | CN16: =IFERROR(AVERAGE(CJ16:CM16),"") | CS16: =IFERROR(AVERAGE(CO16:CR16),"") | CX16: =IFERROR(AVERAGE(CT16:CW16),"") | DC16: =IFERROR(AVERAGE(CY16:DB16),"") | DH16: =IFERROR(AVERAGE(DD16:DG16),"") | DM16: =IFERROR(AVERAGE(DI16:DL16),"") | DR16: =IFERROR(AVERAGE(DN16:DQ16),"") | DW16: =IFERROR(AVERAGE(DS16:DV16),"") | EB16: =IFERROR(AVERAGE(DX16:EA16),"") | EG16: =IFERROR(AVERAGE(EC16:EF16),"") | EL16: =IFERROR(AVERAGE(EH16:EK16),"") | EQ16: =IFERROR(AVERAGE(EM16:EP16),"") | EV16: =IFERROR(AVERAGE(ER16:EU16),"") | FA16: =IFERROR(AVERAGE(EW16:EZ16),"") | FB16: =IFERROR(AVERAGE(C16,H16,M16,R16,W16,AB16,AG16,AL16,AQ16,AV16,BA16,BF16,BK16,BP16,BU16,BZ16,CE16,CJ16,CO16,CT16,CY16,DD16,DI16,DN16,DS16,DX16,EC16,EH16,EM16,ER16,EW16),"") | FC16: =IFERROR(AVERAGE(D16,I16,N16,S16,X16,AC16,AH16,AM16,AR16,AW16,BB16,BG16,BL16,BQ16,BV16,CA16,CF16,CK16,CP16,CU16,CZ16,DE16,DJ16,DO16,DT16,DY16,ED16,EI16,EN16,ES16,EX16),"") | FD16: =IFERROR(AVERAGE(E16,J16,O16,T16,Y16,AD16,AI16,AN16,AS16,AX16,BC16,BH16,BM16,BR16,BW16,CB16,CG16,CL16,CQ16,CV16,DA16,DF16,DK16,DP16,DU16,DZ16,EE16,EJ16,EO16,ET16,EY16),"") | FE16: =IFERROR(AVERAGE(F16,K16,P16,U16,Z16,AE16,AJ16,AO16,AT16,AY16,BD16,BI16,BN16,BS16,BX16,CC16,CH16,CM16,CR16,CW16,DB16,DG16,DL16,DQ16,DV16,EA16,EF16,EK16,EP16,EU16,EZ16),"") | FF16: =IFERROR(AVERAGE(FB16:FE16),"") | FG16: =IFERROR(IF(FB16-August!DW16,FB16-August!DW16,"0%"),"") | FH16: =IFERROR(IF(FC16-August!EA16,FC16-August!EA16,"0%"),"") | FI16: =IFERROR(IF(FD16-August!#REF!,FD16-August!#REF!,"0%"),"") | FJ16: =IFERROR(IF(FE16-August!EB16,FE16-August!EB16,"0%"),"") | FK16: =IFERROR(IF(FF16-August!EC16,FF16-August!EC16,"0%"),"")
A17: Hair | B17: 15 | G17: =IFERROR(AVERAGE(C17:F17),"") | L17: =IFERROR(AVERAGE(H17:K17),"") | Q17: =IFERROR(AVERAGE(M17:P17),"") | V17: =IFERROR(AVERAGE(R17:U17),"") | AA17: =IFERROR(AVERAGE(W17:Z17),"") | AF17: =IFERROR(AVERAGE(AB17:AE17),"") | AK17: =IFERROR(AVERAGE(AG17:AJ17),"") | AP17: =IFERROR(AVERAGE(AL17:AO17),"") | AU17: =IFERROR(AVERAGE(AQ17:AT17),"") | AZ17: =IFERROR(AVERAGE(AV17:AY17),"") | BE17: =IFERROR(AVERAGE(BA17:BD17),"") | BJ17: =IFERROR(AVERAGE(BF17:BI17),"") | BO17: =IFERROR(AVERAGE(BK17:BN17),"") | BT17: =IFERROR(AVERAGE(BP17:BS17),"") | BY17: =IFERROR(AVERAGE(BU17:BX17),"") | CD17: =IFERROR(AVERAGE(BZ17:CC17),"") | CI17: =IFERROR(AVERAGE(CE17:CH17),"") | CN17: =IFERROR(AVERAGE(CJ17:CM17),"") | CS17: =IFERROR(AVERAGE(CO17:CR17),"") | CX17: =IFERROR(AVERAGE(CT17:CW17),"") | DC17: =IFERROR(AVERAGE(CY17:DB17),"") | DH17: =IFERROR(AVERAGE(DD17:DG17),"") | DM17: =IFERROR(AVERAGE(DI17:DL17),"") | DR17: =IFERROR(AVERAGE(DN17:DQ17),"") | DW17: =IFERROR(AVERAGE(DS17:DV17),"") | EB17: =IFERROR(AVERAGE(DX17:EA17),"") | EG17: =IFERROR(AVERAGE(EC17:EF17),"") | EL17: =IFERROR(AVERAGE(EH17:EK17),"") | EQ17: =IFERROR(AVERAGE(EM17:EP17),"") | EV17: =IFERROR(AVERAGE(ER17:EU17),"") | FA17: =IFERROR(AVERAGE(EW17:EZ17),"") | FB17: =IFERROR(AVERAGE(C17,H17,M17,R17,W17,AB17,AG17,AL17,AQ17,AV17,BA17,BF17,BK17,BP17,BU17,BZ17,CE17,CJ17,CO17,CT17,CY17,DD17,DI17,DN17,DS17,DX17,EC17,EH17,EM17,ER17,EW17),"") | FC17: =IFERROR(AVERAGE(D17,I17,N17,S17,X17,AC17,AH17,AM17,AR17,AW17,BB17,BG17,BL17,BQ17,BV17,CA17,CF17,CK17,CP17,CU17,CZ17,DE17,DJ17,DO17,DT17,DY17,ED17,EI17,EN17,ES17,EX17),"") | FD17: =IFERROR(AVERAGE(E17,J17,O17,T17,Y17,AD17,AI17,AN17,AS17,AX17,BC17,BH17,BM17,BR17,BW17,CB17,CG17,CL17,CQ17,CV17,DA17,DF17,DK17,DP17,DU17,DZ17,EE17,EJ17,EO17,ET17,EY17),"") | FE17: =IFERROR(AVERAGE(F17,K17,P17,U17,Z17,AE17,AJ17,AO17,AT17,AY17,BD17,BI17,BN17,BS17,BX17,CC17,CH17,CM17,CR17,CW17,DB17,DG17,DL17,DQ17,DV17,EA17,EF17,EK17,EP17,EU17,EZ17),"") | FF17: =IFERROR(AVERAGE(FB17:FE17),"") | FG17: =IFERROR(IF(FB17-August!DW17,FB17-August!DW17,"0%"),"") | FH17: =IFERROR(IF(FC17-August!EA17,FC17-August!EA17,"0%"),"") | FI17: =IFERROR(IF(FD17-August!#REF!,FD17-August!#REF!,"0%"),"") | FJ17: =IFERROR(IF(FE17-August!EB17,FE17-August!EB17,"0%"),"") | FK17: =IFERROR(IF(FF17-August!EC17,FF17-August!EC17,"0%"),"")
A18: Makeup | B18: 15 | G18: =IFERROR(AVERAGE(C18:F18),"") | L18: =IFERROR(AVERAGE(H18:K18),"") | Q18: =IFERROR(AVERAGE(M18:P18),"") | V18: =IFERROR(AVERAGE(R18:U18),"") | AA18: =IFERROR(AVERAGE(W18:Z18),"") | AF18: =IFERROR(AVERAGE(AB18:AE18),"") | AK18: =IFERROR(AVERAGE(AG18:AJ18),"") | AP18: =IFERROR(AVERAGE(AL18:AO18),"") | AU18: =IFERROR(AVERAGE(AQ18:AT18),"") | AZ18: =IFERROR(AVERAGE(AV18:AY18),"") | BE18: =IFERROR(AVERAGE(BA18:BD18),"") | BJ18: =IFERROR(AVERAGE(BF18:BI18),"") | BO18: =IFERROR(AVERAGE(BK18:BN18),"") | BT18: =IFERROR(AVERAGE(BP18:BS18),"") | BY18: =IFERROR(AVERAGE(BU18:BX18),"") | CD18: =IFERROR(AVERAGE(BZ18:CC18),"") | CI18: =IFERROR(AVERAGE(CE18:CH18),"") | CN18: =IFERROR(AVERAGE(CJ18:CM18),"") | CS18: =IFERROR(AVERAGE(CO18:CR18),"") | CX18: =IFERROR(AVERAGE(CT18:CW18),"") | DC18: =IFERROR(AVERAGE(CY18:DB18),"") | DH18: =IFERROR(AVERAGE(DD18:DG18),"") | DM18: =IFERROR(AVERAGE(DI18:DL18),"") | DR18: =IFERROR(AVERAGE(DN18:DQ18),"") | DW18: =IFERROR(AVERAGE(DS18:DV18),"") | EB18: =IFERROR(AVERAGE(DX18:EA18),"") | EG18: =IFERROR(AVERAGE(EC18:EF18),"") | EL18: =IFERROR(AVERAGE(EH18:EK18),"") | EQ18: =IFERROR(AVERAGE(EM18:EP18),"") | EV18: =IFERROR(AVERAGE(ER18:EU18),"") | FA18: =IFERROR(AVERAGE(EW18:EZ18),"") | FB18: =IFERROR(AVERAGE(C18,H18,M18,R18,W18,AB18,AG18,AL18,AQ18,AV18,BA18,BF18,BK18,BP18,BU18,BZ18,CE18,CJ18,CO18,CT18,CY18,DD18,DI18,DN18,DS18,DX18,EC18,EH18,EM18,ER18,EW18),"") | FC18: =IFERROR(AVERAGE(D18,I18,N18,S18,X18,AC18,AH18,AM18,AR18,AW18,BB18,BG18,BL18,BQ18,BV18,CA18,CF18,CK18,CP18,CU18,CZ18,DE18,DJ18,DO18,DT18,DY18,ED18,EI18,EN18,ES18,EX18),"") | FD18: =IFERROR(AVERAGE(E18,J18,O18,T18,Y18,AD18,AI18,AN18,AS18,AX18,BC18,BH18,BM18,BR18,BW18,CB18,CG18,CL18,CQ18,CV18,DA18,DF18,DK18,DP18,DU18,DZ18,EE18,EJ18,EO18,ET18,EY18),"") | FE18: =IFERROR(AVERAGE(F18,K18,P18,U18,Z18,AE18,AJ18,AO18,AT18,AY18,BD18,BI18,BN18,BS18,BX18,CC18,CH18,CM18,CR18,CW18,DB18,DG18,DL18,DQ18,DV18,EA18,EF18,EK18,EP18,EU18,EZ18),"") | FF18: =IFERROR(AVERAGE(FB18:FE18),"") | FG18: =IFERROR(IF(FB18-August!DW18,FB18-August!DW18,"0%"),"") | FH18: =IFERROR(IF(FC18-August!EA18,FC18-August!EA18,"0%"),"") | FI18: =IFERROR(IF(FD18-August!#REF!,FD18-August!#REF!,"0%"),"") | FJ18: =IFERROR(IF(FE18-August!EB18,FE18-August!EB18,"0%"),"") | FK18: =IFERROR(IF(FF18-August!EC18,FF18-August!EC18,"0%"),"")
A19: Uniform | B19: 10 | G19: =IFERROR(AVERAGE(C19:F19),"") | L19: =IFERROR(AVERAGE(H19:K19),"") | Q19: =IFERROR(AVERAGE(M19:P19),"") | V19: =IFERROR(AVERAGE(R19:U19),"") | AA19: =IFERROR(AVERAGE(W19:Z19),"") | AF19: =IFERROR(AVERAGE(AB19:AE19),"") | AK19: =IFERROR(AVERAGE(AG19:AJ19),"") | AP19: =IFERROR(AVERAGE(AL19:AO19),"") | AU19: =IFERROR(AVERAGE(AQ19:AT19),"") | AZ19: =IFERROR(AVERAGE(AV19:AY19),"") | BE19: =IFERROR(AVERAGE(BA19:BD19),"") | BJ19: =IFERROR(AVERAGE(BF19:BI19),"") | BO19: =IFERROR(AVERAGE(BK19:BN19),"") | BT19: =IFERROR(AVERAGE(BP19:BS19),"") | BY19: =IFERROR(AVERAGE(BU19:BX19),"") | CD19: =IFERROR(AVERAGE(BZ19:CC19),"") | CI19: =IFERROR(AVERAGE(CE19:CH19),"") | CN19: =IFERROR(AVERAGE(CJ19:CM19),"") | CS19: =IFERROR(AVERAGE(CO19:CR19),"") | CX19: =IFERROR(AVERAGE(CT19:CW19),"") | DC19: =IFERROR(AVERAGE(CY19:DB19),"") | DH19: =IFERROR(AVERAGE(DD19:DG19),"") | DM19: =IFERROR(AVERAGE(DI19:DL19),"") | DR19: =IFERROR(AVERAGE(DN19:DQ19),"") | DW19: =IFERROR(AVERAGE(DS19:DV19),"") | EB19: =IFERROR(AVERAGE(DX19:EA19),"") | EG19: =IFERROR(AVERAGE(EC19:EF19),"") | EL19: =IFERROR(AVERAGE(EH19:EK19),"") | EQ19: =IFERROR(AVERAGE(EM19:EP19),"") | EV19: =IFERROR(AVERAGE(ER19:EU19),"") | FA19: =IFERROR(AVERAGE(EW19:EZ19),"") | FB19: =IFERROR(AVERAGE(C19,H19,M19,R19,W19,AB19,AG19,AL19,AQ19,AV19,BA19,BF19,BK19,BP19,BU19,BZ19,CE19,CJ19,CO19,CT19,CY19,DD19,DI19,DN19,DS19,DX19,EC19,EH19,EM19,ER19,EW19),"") | FC19: =IFERROR(AVERAGE(D19,I19,N19,S19,X19,AC19,AH19,AM19,AR19,AW19,BB19,BG19,BL19,BQ19,BV19,CA19,CF19,CK19,CP19,CU19,CZ19,DE19,DJ19,DO19,DT19,DY19,ED19,EI19,EN19,ES19,EX19),"") | FD19: =IFERROR(AVERAGE(E19,J19,O19,T19,Y19,AD19,AI19,AN19,AS19,AX19,BC19,BH19,BM19,BR19,BW19,CB19,CG19,CL19,CQ19,CV19,DA19,DF19,DK19,DP19,DU19,DZ19,EE19,EJ19,EO19,ET19,EY19),"") | FE19: =IFERROR(AVERAGE(F19,K19,P19,U19,Z19,AE19,AJ19,AO19,AT19,AY19,BD19,BI19,BN19,BS19,BX19,CC19,CH19,CM19,CR19,CW19,DB19,DG19,DL19,DQ19,DV19,EA19,EF19,EK19,EP19,EU19,EZ19),"") | FF19: =IFERROR(AVERAGE(FB19:FE19),"") | FG19: =IFERROR(IF(FB19-August!DW19,FB19-August!DW19,"0%"),"") | FH19: =IFERROR(IF(FC19-August!EA19,FC19-August!EA19,"0%"),"") | FI19: =IFERROR(IF(FD19-August!#REF!,FD19-August!#REF!,"0%"),"") | FJ19: =IFERROR(IF(FE19-August!EB19,FE19-August!EB19,"0%"),"") | FK19: =IFERROR(IF(FF19-August!EC19,FF19-August!EC19,"0%"),"")
A20: Total | B20: 100 | C20: =IFERROR(SUM(C13:C19),"") | D20: =IFERROR(SUM(D13:D19),"") | E20: =IFERROR(SUM(E13:E19),"") | F20: =IFERROR(SUM(F13:F19),"") | G20: =IFERROR(SUM(G13:G19),"") | H20: =IFERROR(SUM(H13:H19),"") | I20: =IFERROR(SUM(I13:I19),"") | J20: =IFERROR(SUM(J13:J19),"") | ... FF20: =IFERROR(SUM(FF13:FF19),"") | FG20: =IFERROR(IF(FB20-August!DW20,FB20-August!DW20,"0%"),"") | FH20: =IFERROR(IF(FC20-August!EA20,FC20-August!EA20,"0%"),"") | FI20: =IFERROR(IF(FD20-August!#REF!,FD20-August!#REF!,"0%"),"") | FJ20: =IFERROR(IF(FE20-August!EB20,FE20-August!EB20,"0%"),"") | FK20: =IFERROR(IF(FF20-August!EC20,FF20-August!EC20,"0%"),"")
A22: Mandy | B22: % | C22: K | D22: G | E22: M | F22: J | G22: Avg | H22: K | I22: G | J22: M | K22: J | L22: Avg | M22: K | N22: G | O22: M | P22: J | Q22: Avg | R22: K | S22: G | T22: M | U22: J | V22: Avg | W22: K | X22: G | Y22: M | Z22: J | AA22: Avg | AB22: K | AC22: G | AD22: M | AE22: J | AF22: Avg | AG22: K | AH22: G | AI22: M | AJ22: J | AK22: Avg | AL22: K | AM22: G | AN22: M | AO22: J | AP22: Avg | AQ22: K | AR22: G | AS22: M | AT22: J | AU22: Avg | AV22: K | AW22: G | AX22: M | AY22: J | AZ22: Avg | BA22: K | BB22: G | BC22: M | BD22: J | BE22: Avg | BF22: K | BG22: G | BH22: M | BI22: J | BJ22: Avg | BK22: K | BL22: G | BM22: M | BN22: J | BO22: Avg | BP22: K | BQ22: G | BR22: M | BS22: J | BT22: Avg | BU22: K | BV22: G | BW22: M | BX22: J | BY22: Avg | BZ22: K | CA22: G | CB22: M | CC22: J | CD22: Avg | CE22: K | CF22: G | CG22: M | CH22: J | CI22: Avg | CJ22: K | CK22: G | CL22: M | CM22: J | CN22: Avg | CO22: K | CP22: G | CQ22: M | CR22: J | CS22: Avg | CT22: K | CU22: G | CV22: M | CW22: J | CX22: Avg | CY22: K | CZ22: G | DA22: M | DB22: J | DC22: Avg | DD22: K | DE22: G | DF22: M | DG22: J | DH22: Avg | DI22: K | DJ22: G | DK22: M | DL22: J | DM22: Avg | DN22: K | DO22: G | DP22: M | DQ22: J | DR22: Avg | DS22: K | DT22: G | DU22: M | DV22: J | DW22: Avg | DX22: K | DY22: G | DZ22: M | EA22: J | EB22: Avg | EC22: K | ED22: G | EE22: M | EF22: J | EG22: Avg | EH22: K | EI22: G | EJ22: M | EK22: J | EL22: Avg | EM22: K | EN22: G | EO22: M | EP22: J | EQ22: Avg | ER22: K | ES22: G | ET22: M | EU22: J | EV22: Avg | EW22: K | EX22: G | EY22: M | EZ22: J | FA22: Avg | FB22: K | FC22: G | FD22: M | FE22: J | FF22: Avg | FG22: K | FH22: G | FI22: M | FJ22: J | FK22: Avg
A23: [Person_2] | B23: 20 | G23: =IFERROR(AVERAGE(C23:F23),"") | L23: =IFERROR(AVERAGE(H23:K23),"") | Q23: =IFERROR(AVERAGE(M23:P23),"") | V23: =IFERROR(AVERAGE(R23:U23),"") | AA23: =IFERROR(AVERAGE(W23:Z23),"") | AF23: =IFERROR(AVERAGE(AB23:AE23),"") | AK23: =IFERROR(AVERAGE(AG23:AJ23),"") | AP23: =IFERROR(AVERAGE(AL23:AO23),"") | AU23: =IFERROR(AVERAGE(AQ23:AT23),"") | AZ23: =IFERROR(AVERAGE(AV23:AY23),"") | BE23: =IFERROR(AVERAGE(BA23:BD23),"") | BJ23: =IFERROR(AVERAGE(BF23:BI23),"") | BO23: =IFERROR(AVERAGE(BK23:BN23),"") | BT23: =IFERROR(AVERAGE(BP23:BS23),"") | BY23: =IFERROR(AVERAGE(BU23:BX23),"") | CD23: =IFERROR(AVERAGE(BZ23:CC23),"") | CI23: =IFERROR(AVERAGE(CE23:CH23),"") | CN23: =IFERROR(AVERAGE(CJ23:CM23),"") | CS23: =IFERROR(AVERAGE(CO23:CR23),"") | CX23: =IFERROR(AVERAGE(CT23:CW23),"") | DC23: =IFERROR(AVERAGE(CY23:DB23),"") | DH23: =IFERROR(AVERAGE(DD23:DG23),"") | DM23: =IFERROR(AVERAGE(DI23:DL23),"") | DR23: =IFERROR(AVERAGE(DN23:DQ23),"") | DW23: =IFERROR(AVERAGE(DS23:DV23),"") | EB23: =IFERROR(AVERAGE(DX23:EA23),"") | EG23: =IFERROR(AVERAGE(EC23:EF23),"") | EL23: =IFERROR(AVERAGE(EH23:EK23),"") | EQ23: =IFERROR(AVERAGE(EM23:EP23),"") | EV23: =IFERROR(AVERAGE(ER23:EU23),"") | FA23: =IFERROR(AVERAGE(EW23:EZ23),"") | FB23: =IFERROR(AVERAGE(C23,H23,M23,R23,W23,AB23,AG23,AL23,AQ23,AV23,BA23,BF23,BK23,BP23,BU23,BZ23,CE23,CJ23,CO23,CT23,CY23,DD23,DI23,DN23,DS23,DX23,EC23,EH23,EM23,ER23,EW23),"") | FC23: =IFERROR(AVERAGE(D23,I23,N23,S23,X23,AC23,AH23,AM23,AR23,AW23,BB23,BG23,BL23,BQ23,BV23,CA23,CF23,CK23,CP23,CU23,CZ23,DE23,DJ23,DO23,DT23,DY23,ED23,EI23,EN23,ES23,EX23),"") | FD23: =IFERROR(AVERAGE(E23,J23,O23,T23,Y23,AD23,AI23,AN23,AS23,AX23,BC23,BH23,BM23,BR23,BW23,CB23,CG23,CL23,CQ23,CV23,DA23,DF23,DK23,DP23,DU23,DZ23,EE23,EJ23,EO23,ET23,EY23),"") | FE23: =IFERROR(AVERAGE(F23,K23,P23,U23,Z23,AE23,AJ23,AO23,AT23,AY23,BD23,BI23,BN23,BS23,BX23,CC23,CH23,CM23,CR23,CW23,DB23,DG23,DL23,DQ23,DV23,EA23,EF23,EK23,EP23,EU23,EZ23),"") | FF23: =IFERROR(AVERAGE(FB23:FE23),"") | FG23: =IFERROR(IF(FB23-August!DW23,FB23-August!DW23,"0%"),"") | FH23: =IFERROR(IF(FC23-August!EA23,FC23-August!EA23,"0%"),"") | FI23: =IFERROR(IF(FD23-August!#REF!,FD23-August!#REF!,"0%"),"") | FJ23: =IFERROR(IF(FE23-August!EB23,FE23-August!EB23,"0%"),"") | FK23: =IFERROR(IF(FF23-August!EC23,FF23-August!EC23,"0%"),"")
A24: Assist Guests VIP/Lift | B24: 10 | G24: =IFERROR(AVERAGE(C24:F24),"") | L24: =IFERROR(AVERAGE(H24:K24),"") | Q24: =IFERROR(AVERAGE(M24:P24),"") | V24: =IFERROR(AVERAGE(R24:U24),"") | AA24: =IFERROR(AVERAGE(W24:Z24),"") | AF24: =IFERROR(AVERAGE(AB24:AE24),"") | AK24: =IFERROR(AVERAGE(AG24:AJ24),"") | AP24: =IFERROR(AVERAGE(AL24:AO24),"") | AU24: =IFERROR(AVERAGE(AQ24:AT24),"") | AZ24: =IFERROR(AVERAGE(AV24:AY24),"") | BE24: =IFERROR(AVERAGE(BA24:BD24),"") | BJ24: =IFERROR(AVERAGE(BF24:BI24),"") | BO24: =IFERROR(AVERAGE(BK24:BN24),"") | BT24: =IFERROR(AVERAGE(BP24:BS24),"") | BY24: =IFERROR(AVERAGE(BU24:BX24),"") | CD24: =IFERROR(AVERAGE(BZ24:CC24),"") | CI24: =IFERROR(AVERAGE(CE24:CH24),"") | CN24: =IFERROR(AVERAGE(CJ24:CM24),"") | CS24: =IFERROR(AVERAGE(CO24:CR24),"") | CX24: =IFERROR(AVERAGE(CT24:CW24),"") | DC24: =IFERROR(AVERAGE(CY24:DB24),"") | DH24: =IFERROR(AVERAGE(DD24:DG24),"") | DM24: =IFERROR(AVERAGE(DI24:DL24),"") | DR24: =IFERROR(AVERAGE(DN24:DQ24),"") | DW24: =IFERROR(AVERAGE(DS24:DV24),"") | EB24: =IFERROR(AVERAGE(DX24:EA24),"") | EG24: =IFERROR(AVERAGE(EC24:EF24),"") | EL24: =IFERROR(AVERAGE(EH24:EK24),"") | EQ24: =IFERROR(AVERAGE(EM24:EP24),"") | EV24: =IFERROR(AVERAGE(ER24:EU24),"") | FA24: =IFERROR(AVERAGE(EW24:EZ24),"") | FB24: =IFERROR(AVERAGE(C24,H24,M24,R24,W24,AB24,AG24,AL24,AQ24,AV24,BA24,BF24,BK24,BP24,BU24,BZ24,CE24,CJ24,CO24,CT24,CY24,DD24,DI24,DN24,DS24,DX24,EC24,EH24,EM24,ER24,EW24),"") | FC24: =IFERROR(AVERAGE(D24,I24,N24,S24,X24,AC24,AH24,AM24,AR24,AW24,BB24,BG24,BL24,BQ24,BV24,CA24,CF24,CK24,CP24,CU24,CZ24,DE24,DJ24,DO24,DT24,DY24,ED24,EI24,EN24,ES24,EX24),"") | FD24: =IFERROR(AVERAGE(E24,J24,O24,T24,Y24,AD24,AI24,AN24,AS24,AX24,BC24,BH24,BM24,BR24,BW24,CB24,CG24,CL24,CQ24,CV24,DA24,DF24,DK24,DP24,DU24,DZ24,EE24,EJ24,EO24,ET24,EY24),"") | FE24: =IFERROR(AVERAGE(F24,K24,P24,U24,Z24,AE24,AJ24,AO24,AT24,AY24,BD24,BI24,BN24,BS24,BX24,CC24,CH24,CM24,CR24,CW24,DB24,DG24,DL24,DQ24,DV24,EA24,EF24,EK24,EP24,EU24,EZ24),"") | FF24: =IFERROR(AVERAGE(FB24:FE24),"") | FG24: =IFERROR(IF(FB24-August!DW24,FB24-August!DW24,"0%"),"") | FH24: =IFERROR(IF(FC24-August!EA24,FC24-August!EA24,"0%"),"") | FI24: =IFERROR(IF(FD24-August!#REF!,FD24-August!#REF!,"0%"),"") | FJ24: =IFERROR(IF(FE24-August!EB24,FE24-August!EB24,"0%"),"") | FK24: =IFERROR(IF(FF24-August!EC24,FF24-August!EC24,"0%"),"")
A25: Posture & Body Language | B25: 10 | G25: =IFERROR(AVERAGE(C25:F25),"") | L25: =IFERROR(AVERAGE(H25:K25),"") | Q25: =IFERROR(AVERAGE(M25:P25),"") | V25: =IFERROR(AVERAGE(R25:U25),"") | AA25: =IFERROR(AVERAGE(W25:Z25),"") | AF25: =IFERROR(AVERAGE(AB25:AE25),"") | AK25: =IFERROR(AVERAGE(AG25:AJ25),"") | AP25: =IFERROR(AVERAGE(AL25:AO25),"") | AU25: =IFERROR(AVERAGE(AQ25:AT25),"") | AZ25: =IFERROR(AVERAGE(AV25:AY25),"") | BE25: =IFERROR(AVERAGE(BA25:BD25),"") | BJ25: =IFERROR(AVERAGE(BF25:BI25),"") | BO25: =IFERROR(AVERAGE(BK25:BN25),"") | BT25: =IFERROR(AVERAGE(BP25:BS25),"") | BY25: =IFERROR(AVERAGE(BU25:BX25),"") | CD25: =IFERROR(AVERAGE(BZ25:CC25),"") | CI25: =IFERROR(AVERAGE(CE25:CH25),"") | CN25: =IFERROR(AVERAGE(CJ25:CM25),"") | CS25: =IFERROR(AVERAGE(CO25:CR25),"") | CX25: =IFERROR(AVERAGE(CT25:CW25),"") | DC25: =IFERROR(AVERAGE(CY25:DB25),"") | DH25: =IFERROR(AVERAGE(DD25:DG25),"") | DM25: =IFERROR(AVERAGE(DI25:DL25),"") | DR25: =IFERROR(AVERAGE(DN25:DQ25),"") | DW25: =IFERROR(AVERAGE(DS25:DV25),"") | EB25: =IFERROR(AVERAGE(DX25:EA25),"") | EG25: =IFERROR(AVERAGE(EC25:EF25),"") | EL25: =IFERROR(AVERAGE(EH25:EK25),"") | EQ25: =IFERROR(AVERAGE(EM25:EP25),"") | EV25: =IFERROR(AVERAGE(ER25:EU25),"") | FA25: =IFERROR(AVERAGE(EW25:EZ25),"") | FB25: =IFERROR(AVERAGE(C25,H25,M25,R25,W25,AB25,AG25,AL25,AQ25,AV25,BA25,BF25,BK25,BP25,BU25,BZ25,CE25,CJ25,CO25,CT25,CY25,DD25,DI25,DN25,DS25,DX25,EC25,EH25,EM25,ER25,EW25),"") | FC25: =IFERROR(AVERAGE(D25,I25,N25,S25,X25,AC25,AH25,AM25,AR25,AW25,BB25,BG25,BL25,BQ25,BV25,CA25,CF25,CK25,CP25,CU25,CZ25,DE25,DJ25,DO25,DT25,DY25,ED25,EI25,EN25,ES25,EX25),"") | FD25: =IFERROR(AVERAGE(E25,J25,O25,T25,Y25,AD25,AI25,AN25,AS25,AX25,BC25,BH25,BM25,BR25,BW25,CB25,CG25,CL25,CQ25,CV25,DA25,DF25,DK25,DP25,DU25,DZ25,EE25,EJ25,EO25,ET25,EY25),"") | FE25: =IFERROR(AVERAGE(F25,K25,P25,U25,Z25,AE25,AJ25,AO25,AT25,AY25,BD25,BI25,BN25,BS25,BX25,CC25,CH25,CM25,CR25,CW25,DB25,DG25,DL25,DQ25,DV25,EA25,EF25,EK25,EP25,EU25,EZ25),"") | FF25: =IFERROR(AVERAGE(FB25:FE25),"") | FG25: =IFERROR(IF(FB25-August!DW25,FB25-August!DW25,"0%"),"") | FH25: =IFERROR(IF(FC25-August!EA25,FC25-August!EA25,"0%"),"") | FI25: =IFERROR(IF(FD25-August!#REF!,FD25-August!#REF!,"0%"),"") | FJ25: =IFERROR(IF(FE25-August!EB25,FE25-August!EB25,"0%"),"") | FK25: =IFERROR(IF(FF25-August!EC25,FF25-August!EC25,"0%"),"")
A26: Knowledge of Hotel & Events | B26: 20 | G26: =IFERROR(AVERAGE(C26:F26),"") | L26: =IFERROR(AVERAGE(H26:K26),"") | Q26: =IFERROR(AVERAGE(M26:P26),"") | V26: =IFERROR(AVERAGE(R26:U26),"") | AA26: =IFERROR(AVERAGE(W26:Z26),"") | AF26: =IFERROR(AVERAGE(AB26:AE26),"") | AK26: =IFERROR(AVERAGE(AG26:AJ26),"") | AP26: =IFERROR(AVERAGE(AL26:AO26),"") | AU26: =IFERROR(AVERAGE(AQ26:AT26),"") | AZ26: =IFERROR(AVERAGE(AV26:AY26),"") | BE26: =IFERROR(AVERAGE(BA26:BD26),"") | BJ26: =IFERROR(AVERAGE(BF26:BI26),"") | BO26: =IFERROR(AVERAGE(BK26:BN26),"") | BT26: =IFERROR(AVERAGE(BP26:BS26),"") | BY26: =IFERROR(AVERAGE(BU26:BX26),"") | CD26: =IFERROR(AVERAGE(BZ26:CC26),"") | CI26: =IFERROR(AVERAGE(CE26:CH26),"") | CN26: =IFERROR(AVERAGE(CJ26:CM26),"") | CS26: =IFERROR(AVERAGE(CO26:CR26),"") | CX26: =IFERROR(AVERAGE(CT26:CW26),"") | DC26: =IFERROR(AVERAGE(CY26:DB26),"") | DH26: =IFERROR(AVERAGE(DD26:DG26),"") | DM26: =IFERROR(AVERAGE(DI26:DL26),"") | DR26: =IFERROR(AVERAGE(DN26:DQ26),"") | DW26: =IFERROR(AVERAGE(DS26:DV26),"") | EB26: =IFERROR(AVERAGE(DX26:EA26),"") | EG26: =IFERROR(AVERAGE(EC26:EF26),"") | EL26: =IFERROR(AVERAGE(EH26:EK26),"") | EQ26: =IFERROR(AVERAGE(EM26:EP26),"") | EV26: =IFERROR(AVERAGE(ER26:EU26),"") | FA26: =IFERROR(AVERAGE(EW26:EZ26),"") | FB26: =IFERROR(AVERAGE(C26,H26,M26,R26,W26,AB26,AG26,AL26,AQ26,AV26,BA26,BF26,BK26,BP26,BU26,BZ26,CE26,CJ26,CO26,CT26,CY26,DD26,DI26,DN26,DS26,DX26,EC26,EH26,EM26,ER26,EW26),"") | FC26: =IFERROR(AVERAGE(D26,I26,N26,S26,X26,AC26,AH26,AM26,AR26,AW26,BB26,BG26,BL26,BQ26,BV26,CA26,CF26,CK26,CP26,CU26,CZ26,DE26,DJ26,DO26,DT26,DY26,ED26,EI26,EN26,ES26,EX26),"") | FD26: =IFERROR(AVERAGE(E26,J26,O26,T26,Y26,AD26,AI26,AN26,AS26,AX26,BC26,BH26,BM26,BR26,BW26,CB26,CG26,CL26,CQ26,CV26,DA26,DF26,DK26,DP26,DU26,DZ26,EE26,EJ26,EO26,ET26,EY26),"") | FE26: =IFERROR(AVERAGE(F26,K26,P26,U26,Z26,AE26,AJ26,AO26,AT26,AY26,BD26,BI26,BN26,BS26,BX26,CC26,CH26,CM26,CR26,CW26,DB26,DG26,DL26,DQ26,DV26,EA26,EF26,EK26,EP26,EU26,EZ26),"") | FF26: =IFERROR(AVERAGE(FB26:FE26),"") | FG26: =IFERROR(IF(FB26-August!DW26,FB26-August!DW26,"0%"),"") | FH26: =IFERROR(IF(FC26-August!EA26,FC26-August!EA26,"0%"),"") | FI26: =IFERROR(IF(FD26-August!#REF!,FD26-August!#REF!,"0%"),"") | FJ26: =IFERROR(IF(FE26-August!EB26,FE26-August!EB26,"0%"),"") | FK26: =IFERROR(IF(FF26-August!EC26,FF26-August!EC26,"0%"),"")
A27: Hair | B27: 15 | G27: =IFERROR(AVERAGE(C27:F27),"") | L27: =IFERROR(AVERAGE(H27:K27),"") | Q27: =IFERROR(AVERAGE(M27:P27),"") | V27: =IFERROR(AVERAGE(R27:U27),"") | AA27: =IFERROR(AVERAGE(W27:Z27),"") | AF27: =IFERROR(AVERAGE(AB27:AE27),"") | AK27: =IFERROR(AVERAGE(AG27:AJ27),"") | AP27: =IFERROR(AVERAGE(AL27:AO27),"") | AU27: =IFERROR(AVERAGE(AQ27:AT27),"") | AZ27: =IFERROR(AVERAGE(AV27:AY27),"") | BE27: =IFERROR(AVERAGE(BA27:BD27),"") | BJ27: =IFERROR(AVERAGE(BF27:BI27),"") | BO27: =IFERROR(AVERAGE(BK27:BN27),"") | BT27: =IFERROR(AVERAGE(BP27:BS27),"") | BY27: =IFERROR(AVERAGE(BU27:BX27),"") | CD27: =IFERROR(AVERAGE(BZ27:CC27),"") | CI27: =IFERROR(AVERAGE(CE27:CH27),"") | CN27: =IFERROR(AVERAGE(CJ27:CM27),"") | CS27: =IFERROR(AVERAGE(CO27:CR27),"") | CX27: =IFERROR(AVERAGE(CT27:CW27),"") | DC27: =IFERROR(AVERAGE(CY27:DB27),"") | DH27: =IFERROR(AVERAGE(DD27:DG27),"") | DM27: =IFERROR(AVERAGE(DI27:DL27),"") | DR27: =IFERROR(AVERAGE(DN27:DQ27),"") | DW27: =IFERROR(AVERAGE(DS27:DV27),"") | EB27: =IFERROR(AVERAGE(DX27:EA27),"") | EG27: =IFERROR(AVERAGE(EC27:EF27),"") | EL27: =IFERROR(AVERAGE(EH27:EK27),"") | EQ27: =IFERROR(AVERAGE(EM27:EP27),"") | EV27: =IFERROR(AVERAGE(ER27:EU27),"") | FA27: =IFERROR(AVERAGE(EW27:EZ27),"") | FB27: =IFERROR(AVERAGE(C27,H27,M27,R27,W27,AB27,AG27,AL27,AQ27,AV27,BA27,BF27,BK27,BP27,BU27,BZ27,CE27,CJ27,CO27,CT27,CY27,DD27,DI27,DN27,DS27,DX27,EC27,EH27,EM27,ER27,EW27),"") | FC27: =IFERROR(AVERAGE(D27,I27,N27,S27,X27,AC27,AH27,AM27,AR27,AW27,BB27,BG27,BL27,BQ27,BV27,CA27,CF27,CK27,CP27,CU27,CZ27,DE27,DJ27,DO27,DT27,DY27,ED27,EI27,EN27,ES27,EX27),"") | FD27: =IFERROR(AVERAGE(E27,J27,O27,T27,Y27,AD27,AI27,AN27,AS27,AX27,BC27,BH27,BM27,BR27,BW27,CB27,CG27,CL27,CQ27,CV27,DA27,DF27,DK27,DP27,DU27,DZ27,EE27,EJ27,EO27,ET27,EY27),"") | FE27: =IFERROR(AVERAGE(F27,K27,P27,U27,Z27,AE27,AJ27,AO27,AT27,AY27,BD27,BI27,BN27,BS27,BX27,CC27,CH27,CM27,CR27,CW27,DB27,DG27,DL27,DQ27,DV27,EA27,EF27,EK27,EP27,EU27,EZ27),"") | FF27: =IFERROR(AVERAGE(FB27:FE27),"") | FG27: =IFERROR(IF(FB27-August!DW27,FB27-August!DW27,"0%"),"") | FH27: =IFERROR(IF(FC27-August!EA27,FC27-August!EA27,"0%"),"") | FI27: =IFERROR(IF(FD27-August!#REF!,FD27-August!#REF!,"0%"),"") | FJ27: =IFERROR(IF(FE27-August!EB27,FE27-August!EB27,"0%"),"") | FK27: =IFERROR(IF(FF27-August!EC27,FF27-August!EC27,"0%"),"")
A28: Makeup | B28: 15 | G28: =IFERROR(AVERAGE(C28:F28),"") | L28: =IFERROR(AVERAGE(H28:K28),"") | Q28: =IFERROR(AVERAGE(M28:P28),"") | V28: =IFERROR(AVERAGE(R28:U28),"") | AA28: =IFERROR(AVERAGE(W28:Z28),"") | AF28: =IFERROR(AVERAGE(AB28:AE28),"") | AK28: =IFERROR(AVERAGE(AG28:AJ28),"") | AP28: =IFERROR(AVERAGE(AL28:AO28),"") | AU28: =IFERROR(AVERAGE(AQ28:AT28),"") | AZ28: =IFERROR(AVERAGE(AV28:AY28),"") | BE28: =IFERROR(AVERAGE(BA28:BD28),"") | BJ28: =IFERROR(AVERAGE(BF28:BI28),"") | BO28: =IFERROR(AVERAGE(BK28:BN28),"") | BT28: =IFERROR(AVERAGE(BP28:BS28),"") | BY28: =IFERROR(AVERAGE(BU28:BX28),"") | CD28: =IFERROR(AVERAGE(BZ28:CC28),"") | CI28: =IFERROR(AVERAGE(CE28:CH28),"") | CN28: =IFERROR(AVERAGE(CJ28:CM28),"") | CS28: =IFERROR(AVERAGE(CO28:CR28),"") | CX28: =IFERROR(AVERAGE(CT28:CW28),"") | DC28: =IFERROR(AVERAGE(CY28:DB28),"") | DH28: =IFERROR(AVERAGE(DD28:DG28),"") | DM28: =IFERROR(AVERAGE(DI28:DL28),"") | DR28: =IFERROR(AVERAGE(DN28:DQ28),"") | DW28: =IFERROR(AVERAGE(DS28:DV28),"") | EB28: =IFERROR(AVERAGE(DX28:EA28),"") | EG28: =IFERROR(AVERAGE(EC28:EF28),"") | EL28: =IFERROR(AVERAGE(EH28:EK28),"") | EQ28: =IFERROR(AVERAGE(EM28:EP28),"") | EV28: =IFERROR(AVERAGE(ER28:EU28),"") | FA28: =IFERROR(AVERAGE(EW28:EZ28),"") | FB28: =IFERROR(AVERAGE(C28,H28,M28,R28,W28,AB28,AG28,AL28,AQ28,AV28,BA28,BF28,BK28,BP28,BU28,BZ28,CE28,CJ28,CO28,CT28,CY28,DD28,DI28,DN28,DS28,DX28,EC28,EH28,EM28,ER28,EW28),"") | FC28: =IFERROR(AVERAGE(D28,I28,N28,S28,X28,AC28,AH28,AM28,AR28,AW28,BB28,BG28,BL28,BQ28,BV28,CA28,CF28,CK28,CP28,CU28,CZ28,DE28,DJ28,DO28,DT28,DY28,ED28,EI28,EN28,ES28,EX28),"") | FD28: =IFERROR(AVERAGE(E28,J28,O28,T28,Y28,AD28,AI28,AN28,AS28,AX28,BC28,BH28,BM28,BR28,BW28,CB28,CG28,CL28,CQ28,CV28,DA28,DF28,DK28,DP28,DU28,DZ28,EE28,EJ28,EO28,ET28,EY28),"") | FE28: =IFERROR(AVERAGE(F28,K28,P28,U28,Z28,AE28,AJ28,AO28,AT28,AY28,BD28,BI28,BN28,BS28,BX28,CC28,CH28,CM28,CR28,CW28,DB28,DG28,DL28,DQ28,DV28,EA28,EF28,EK28,EP28,EU28,EZ28),"") | FF28: =IFERROR(AVERAGE(FB28:FE28),"") | FG28: =IFERROR(IF(FB28-August!DW28,FB28-August!DW28,"0%"),"") | FH28: =IFERROR(IF(FC28-August!EA28,FC28-August!EA28,"0%"),"") | FI28: =IFERROR(IF(FD28-August!#REF!,FD28-August!#REF!,"0%"),"") | FJ28: =IFERROR(IF(FE28-August!EB28,FE28-August!EB28,"0%"),"") | FK28: =IFERROR(IF(FF28-August!EC28,FF28-August!EC28,"0%"),"")
